Workbook
Name AllTemplate1: #REF!
Name AllTemplate10: [2]CASE7!#REF!
Name AllTemplate11: [2]CASE8!#REF!
Name AllTemplate12: [2]CASE9!#REF!
Name AllTemplate13: [2]CASE10!#REF!
Name AllTemplate14: [2]CASE11!#REF!
Name AllTemplate15: [2]CASE14!#REF!
Name AllTemplate16: [2]CASE16!#REF!
Name AllTemplate17: #REF!
Name AllTemplate18: [2]CASE12!#REF!
Name AllTemplate19: [2]CASE5!#REF!
Name AllTemplate2: #REF!
Name AllTemplate20: [2]CASE13!#REF!
Name AllTemplate21: #REF!
Name AllTemplate22: [2]CASE2!#REF!
Name AllTemplate23: [2]CASE2!#REF!
Name AllTemplate24: [2]CASE3!#REF!
Name AllTemplate25: [2]CASE4!#REF!
Name AllTemplate26: [2]CASE4!#REF!
Name AllTemplate27: [2]CASE5!#REF!
Name AllTemplate28: [2]CASE6!#REF!
Name AllTemplate29: [2]CASE7!#REF!
Name AllTemplate3: #REF!
Name AllTemplate30: [2]CASE8!#REF!
Name AllTemplate31: [2]CASE9!#REF!
Name AllTemplate32: [2]CASE10!#REF!
Name AllTemplate33: [2]CASE11!#REF!
Name AllTemplate34: [2]CASE12!#REF!
Name AllTemplate35: [2]CASE13!#REF!
Name AllTemplate36: [2]CASE14!#REF!
Name AllTemplate37: #REF!
Name AllTemplate38: [2]CASE16!#REF!
Name AllTemplate39: [2]CASE17!#REF!
Name AllTemplate4: #REF!
Name AllTemplate40: [2]CASE18!#REF!
Name AllTemplate41: [2]CASE19!#REF!
Name AllTemplate42: [2]CASE20!#REF!
Name AllTemplate43: [2]CASE21!#REF!
Name AllTemplate44: #REF!
Name AllTemplate45: [2]CASE15!#REF!
Name AllTemplate46: [2]CASE22!#REF!
Name AllTemplate47: #REF!
Name AllTemplate48: [2]CASE2!#REF!
Name AllTemplate49: [2]CASE3!#REF!
Name AllTemplate50: [2]CASE4!#REF!
Name AllTemplate51: [2]CASE5!#REF!
Name AllTemplate52: [2]CASE6!#REF!
Name AllTemplate53: [2]CASE7!#REF!
Name AllTemplate54: [2]CASE8!#REF!
Name AllTemplate55: [2]CASE9!#REF!
Name AllTemplate56: [2]CASE9!#REF!
Name AllTemplate57: [2]CASE10!#REF!
Name AllTemplate58: [2]CASE11!#REF!
Name AllTemplate59: [2]CASE12!#REF!
Name AllTemplate6: [2]CASE2!#REF!
Name AllTemplate60: [2]CASE13!#REF!
Name AllTemplate61: [2]CASE14!#REF!
Name AllTemplate62: [2]CASE15!#REF!
Name AllTemplate63: [2]CASE16!#REF!
Name AllTemplate64: [2]CASE17!#REF!

Sheet START
A2: How to use this workbook:
A31: Input Cells | B31: All inputs have this color to indicate they can be changed. The input cells are located in the blue and green worksheet tabs.
A32: Sensitivities | B32: Cells with this color are set up to be sensitivities the user can run with different assumptions for the LCOE inputs. Please change cell values where they are highlighted as sensitivities
A33: Input Sources | B33: Worksheets with this color are worksheets that contain inputs into the LCOE calculation
A34: LCOE Calculation | B34: Worksheets with this color are the worksheets that contain the LCOE calculation. There are Input cells on the LCOE Calculation worksheet tabs that can be modified by the user to examine the effect that different conditions might have on the LCOE results. The results of sensitivities are contained in these worksheets.
A35: LCOE Summary | B35: Worksheets with this color show the summary of each LCOE (one for 2030 US and Canadian dollars and one for 2040 US and Canadian dollars)

Sheet Input Sources-->

Sheet TVA IRP
A1: Source: | B1: https://view.officeapps.live.com/op/view.aspx?src=https%3A%2F%2Ftva-azr-eastus-cdn-ep-tvawcm-prd.azureedge.net%2Fcdn-tvawcma%2Fdocs%2Fdefault-source%2Fenvironment%2Fenvironmental-stewardship%2Fintegrated-resource-plan%2F2024%2Fdata-sets%2Fresource-cost-estimates.xlsx%3Fsfvrsn%3Db0a52955_1&wdOrigin=BROWSELINK
B2: This is a public document TVA provided with its Draft IRP filing
A5: Nominal Overnight Cost before Investment Tax Credit applied ($/kW)
A6: Year | B6: APWR | C6: Light Water SMR | D6: Gen IV SMR | E6: Aero CT 20x | F6: Frame CT 4x | G6: RICE 24x | H6: CC 2x1x1 | I6: CC 2x1x1 w/ CCS | J6: Solar | K6: Wind MISO | L6: Wind SE High Hub | M6: Wind HVDC | N6: Battery | O6: Battery Adv Chem | P6: Pump Storage | Q6: Coal | R6: Coal CCS | S6: Hydro Uprate
A7: 2024
A8: 2025
A9: 2026 | S9: 968
A10: 2027 | J10: 1354 | S10: 981
A11: 2028 | J11: 1330 | S11: 1000
A12: 2029 | E12: 1777 | F12: 806 | G12: 1393 | H12: 1485 | J12: 1305 | K12: 1696 | L12: 2424 | M12: 3433 | N12: 1565 | O12: 3363 | Q12: 3439 | S12: 1020
A13: 2030 | E13: 1812 | F13: 821 | G13: 1420 | H13: 1514 | J13: 1278 | K13: 1696 | L13: 2403 | M13: 3507 | N13: 1535 | O13: 3276 | Q13: 3484 | S13: 1040 | U13: =C16*(1+U16)^(A13-A16) -> 19699.318
A14: 2031 | E14: 1847 | F14: 837 | G14: 1448 | H14: 1544 | J14: 1250 | K14: 1714 | L14: 2382 | M14: 3476 | N14: 1540 | O14: 3281 | Q14: 3530 | S14: 1060 | V14: =U13*(1+$U$16) -> 20100.327
A15: 2032 | E15: 1883 | F15: 854 | G15: 1476 | H15: 1574 | J15: 1220 | K15: 1730 | L15: 2358 | M15: 3441 | N15: 1544 | O15: 3285 | Q15: 3576 | S15: 1081 | V15: =V14*(1+$U$16) -> 20509.499
A16: 2033 | C16: 20927 | E16: 1920 | F16: 870 | G16: 1505 | H16: 1605 | I16: 3079 | J16: 1188 | K16: 1748 | L16: 2383 | M16: 3477 | N16: 1548 | O16: 3288 | P16: 2442 | Q16: 3621 | R16: 5569 | S16: 1102 | U16: =(C17-C16)/C16 -> 0.020356477 | V16: =V15*(1+$U$16) -> 20927
A17: 2034 | C17: 21353 | E17: 1959 | F17: 888 | G17: 1536 | H17: 1637 | I17: 3094 | J17: 1156 | K17: 1767 | L17: 2410 | M17: 3517 | N17: 1553 | O17: 3293 | P17: 2491 | Q17: 3671 | R17: 5601 | S17: 1125
A18: 2035 | C18: 20042 | E18: 2000 | F18: 907 | G18: 1568 | H18: 1672 | I18: 3110 | J18: 1122 | K18: 1785 | L18: 2436 | M18: 3555 | N18: 1558 | O18: 3297 | P18: 2544 | Q18: 3721 | R18: 5633 | S18: 1148
A19: 2036 | C19: 19421 | E19: 2042 | F19: 926 | G19: 1601 | H19: 1707 | I19: 3155 | J19: 1126 | K19: 1804 | L19: 2463 | M19: 3594 | N19: 1562 | O19: 3301 | P19: 2598 | Q19: 3760 | R19: 5683 | S19: 1173
A20: 2037 | C20: 19208 | E20: 2086 | F20: 946 | G20: 1635 | H20: 1743 | I20: 3201 | J20: 1130 | K20: 1823 | L20: 2489 | M20: 3632 | N20: 1567 | O20: 3305 | P20: 2652 | Q20: 3798 | R20: 5733 | S20: 1197
A21: 2038 | B21: 16753 | C21: 20580 | E21: 2131 | F21: 966 | G21: 1670 | H21: 1781 | I21: 3246 | J21: 1134 | K21: 1842 | L21: 2518 | M21: 3675 | N21: 1571 | O21: 3307 | P21: 2710 | Q21: 3837 | R21: 5784 | S21: 1223
A22: 2039 | B22: 17138 | C22: 19841 | E22: 2178 | F22: 987 | G22: 1707 | H22: 1820 | I22: 3295 | J22: 1139 | K22: 1862 | L22: 2546 | M22: 3716 | N22: 1575 | O22: 3309 | P22: 2770 | Q22: 3877 | R22: 5836 | S22: 1250
A23: 2040 | B23: 17548 | C23: 19822 | E23: 2227 | F23: 1010 | G23: 1746 | H23: 1861 | I23: 3346 | J23: 1142 | K23: 1884 | L23: 2576 | M23: 3759 | N23: 1578 | O23: 3310 | P23: 2832 | Q23: 3917 | R23: 5888 | S23: 1279
A24: 2041 | B24: 17980 | C24: 19891 | D24: 12760 | E24: 2279 | F24: 1033 | G24: 1786 | H24: 1904 | I24: 3400 | J24: 1146 | K24: 1904 | L24: 2607 | M24: 3804 | N24: 1581 | O24: 3309 | P24: 2898 | Q24: 3956 | R24: 5939 | S24: 1308
A25: 2042 | B25: 18443 | C25: 17790 | D25: 13089 | E25: 2333 | F25: 1058 | G25: 1829 | H25: 1950 | I25: 3457 | J25: 1148 | K25: 1928 | L25: 2641 | M25: 3854 | N25: 1583 | O25: 3307 | P25: 2967 | Q25: 3996 | R25: 5989 | S25: 1339
A26: 2043 | B26: 18910 | C26: 18241 | D26: 13421 | E26: 2389 | F26: 1083 | G26: 1873 | H26: 1997 | I26: 3515 | J26: 1151 | K26: 1952 | L26: 2675 | M26: 3903 | N26: 1585 | O26: 3304 | P26: 3039 | Q26: 4036 | R26: 6040 | S26: 1372
A27: 2044 | B27: 19378 | C27: 18692 | D27: 13753 | E27: 2447 | F27: 1109 | G27: 1918 | H27: 2045 | I27: 3572 | J27: 1154 | K27: 1975 | L27: 2708 | M27: 3952 | N27: 1587 | O27: 3301 | P27: 3112 | Q27: 4077 | R27: 6092 | S27: 1405
A28: 2045 | B28: 19853 | C28: 19150 | D28: 14089 | E28: 2504 | F28: 1135 | G28: 1963 | H28: 2093 | I28: 3630 | J28: 1156 | K28: 1998 | L28: 2740 | M28: 3999 | N28: 1588 | O28: 3295 | P28: 3185 | Q28: 4118 | R28: 6143 | S28: 1438
A29: 2046 | B29: 20326 | C29: 19606 | D29: 14425 | E29: 2561 | F29: 1161 | G29: 2008 | H29: 2140 | I29: 3686 | J29: 1157 | K29: 2020 | L29: 2773 | M29: 4046 | N29: 1588 | O29: 3287 | P29: 3257 | Q29: 4157 | R29: 6191 | S29: 1470
A30: 2047 | B30: 20810 | C30: 20073 | D30: 14769 | E30: 2618 | F30: 1187 | G30: 2052 | H30: 2188 | I30: 3741 | J30: 1158 | K30: 2041 | L30: 2801 | M30: 4088 | N30: 1587 | O30: 3277 | P30: 3329 | Q30: 4196 | R30: 6238 | S30: 1503
A31: 2048 | B31: 21309 | C31: 20555 | D31: 15123 | E31: 2676 | F31: 1213 | G31: 2097 | H31: 2236 | I31: 3795 | J31: 1159 | K31: 2059 | L31: 2830 | M31: 4130 | N31: 1585 | O31: 3266 | P31: 3403 | Q31: 4236 | R31: 6286 | S31: 1536
A32: 2049 | B32: 21830 | C32: 21057 | D32: 15493 | E32: 2736 | F32: 1240 | G32: 2144 | H32: 2286 | I32: 3852 | J32: 1159 | K32: 2080 | L32: 2859 | M32: 4172 | N32: 1583 | O32: 3253 | P32: 3479 | Q32: 4275 | R32: 6333 | S32: 1570
A33: 2050 | B33: 22354 | C33: 21563 | D33: 15865 | E33: 2798 | F33: 1268 | G33: 2193 | H33: 2338 | I33: 3911 | J33: 1159 | K33: 2102 | L33: 2892 | M33: 4220 | N33: 1580 | O33: 3238 | P33: 3558 | Q33: 4313 | R33: 6379 | S33: 1606
A40: Source: | B40: https://tva-azr-eastus-cdn-ep-tvawcm-prd.azureedge.net/cdn-tvawcma/docs/default-source/environment/environmental-stewardship/integrated-resource-plan/2025/draft-2025-irp-volume-1-092324.pdf?sfvrsn=26f01b64_1
B41: Table E-5 in the IRP provided the cost reduction between First of a Kind and Nth of a kind
A43: Table E-5 at pages E-8 and E-9
G74: Light Water SMR | H74: $/kW | I74: Difference
G75: First of a Kind | H75: 17949
G76: Nth of a Kind | H76: 12741 | I76: =(H76-H75)/H75 -> -0.29015544

Sheet Vogtle Costs
A1: Source: | B1: Vogtle Project Cost
B2: Cost reported at pages 230-231
C4: Base
B5: April 2024 Cost | C5: 36800000000
B6: MW | C6: 2228
B7: $/kW | C7: =C5/C6/1000 -> 16517.056

Sheet IESO Pathways to Decarb App A
B1: Source: | C1: https://www.ieso.ca/en/Learn/The-Evolving-Grid/Pathways-to-Decarbonization
C2: Once you click the hit, expand the "Supporting Materials" toggle and Appendix A is available for download as an Excel spreadsheet
A4: Renewable Generation | B4: Zone | C4: Total Capacity Available (MW) | D4: 2020 Capacity Factor (%) | E4: 2030 Capacity Factor (%) | F4: 2040 Capacity Factor (%) | G4: 2020 Build Cost ($2021USD/kW) | H4: 2030 Build Cost ($2021USD/kW) | I4: 2040 Build Cost ($2021USD/kW) | J4: 2020 FO&M Charge ($2021USD/kW-year) | K4: 2030 FO&M Charge ($2021USD/kW-year) | L4: 2040 FO&M Charge ($2021USD/kW-year) | M4: VO&M Charge ($2021USD/MWh) | N4: Cost of Transmission ($2021USD/kW) | O4: Economic Life (year) | P4: 2020 Summer UCAP (%) | Q4: 2030 Summer UCAP (%) | R4: 2040 Summer UCAP (%) | S4: 2020 Winter UCAP (%) | T4: 2030 Winter UCAP (%) | U4: 2040 Winter UCAP (%) | V4: Build Lead Time (years) | W4: Resource Category Annual Build Limit (MW) | X4: Technology Readiness Level (2022) | Y4: Data Source
A5: New Onshore Wind | B5: Northeast 1 | C5: 500 | D5: 0.51 | E5: 0.52 | F5: 0.52 | G5: 1175 | H5: 980 | I5: 877 | J5: 43 | K5: 40 | L5: 38 | M5: 0 | N5: 2000 | O5: 30 | P5: 0.49 | Q5: 0.5 | R5: 0.5 | S5: 0.42 | T5: 0.43 | U5: 0.43 | V5: 5 | W5: 1000 | X5: 9 | Y5: ATB, Consultant
B6: Northeast 2 | C6: 1000 | D6: 0.48 | E6: 0.49 | F6: 0.5 | G6: 1175 | H6: 980 | I6: 877 | J6: 43 | K6: 40 | L6: 38 | M6: 0 | N6: 300 | O6: 30 | P6: 0.35 | Q6: 0.37 | R6: 0.37 | S6: 0.54 | T6: 0.56 | U6: 0.56 | V6: 5 | W6: 1000 | X6: 9 | Y6: ATB, Consultant
B7: Northeast 3 | C7: 2300 | D7: 0.39 | E7: 0.4 | F7: 0.41 | G7: 1175 | H7: 980 | I7: 877 | J7: 43 | K7: 40 | L7: 38 | M7: 0 | N7: 360 | O7: 30 | P7: 0.27 | Q7: 0.28 | R7: 0.29 | S7: 0.46 | T7: 0.47 | U7: 0.48 | V7: 5 | W7: 1000 | X7: 9 | Y7: ATB, Consultant
B8: Northwest 4 | C8: 400 | D8: 0.51 | E8: 0.52 | F8: 0.52 | G8: 1175 | H8: 980 | I8: 877 | J8: 43 | K8: 40 | L8: 38 | M8: 0 | N8: 60 | O8: 30 | P8: 0.39 | Q8: 0.4 | R8: 0.41 | S8: 0.57 | T8: 0.58 | U8: 0.59 | V8: 5 | W8: 1000 | X8: 9 | Y8: ATB, Consultant
B9: Northwest 5 | C9: 500 | D9: 0.49 | E9: 0.5 | F9: 0.5 | G9: 1175 | H9: 980 | I9: 877 | J9: 43 | K9: 40 | L9: 38 | M9: 0 | N9: 160 | O9: 30 | P9: 0.46 | Q9: 0.47 | R9: 0.48 | S9: 0.47 | T9: 0.48 | U9: 0.49 | V9: 5 | W9: 1000 | X9: 9 | Y9: ATB, Consultant
B10: Northwest 6 | C10: 2000 | D10: 0.46 | E10: 0.48 | F10: 0.48 | G10: 1175 | H10: 980 | I10: 877 | J10: 43 | K10: 40 | L10: 38 | M10: 0 | N10: 600 | O10: 30 | P10: 0.42 | Q10: 0.44 | R10: 0.44 | S10: 0.47 | T10: 0.49 | U10: 0.5 | V10: 5 | W10: 1000 | X10: 9 | Y10: ATB, Consultant
B11: Northwest 7 | C11: 1200 | D11: 0.4 | E11: 0.42 | F11: 0.43 | G11: 1175 | H11: 980 | I11: 877 | J11: 43 | K11: 40 | L11: 38 | M11: 0 | N11: 1520 | O11: 30 | P11: 0.37 | Q11: 0.39 | R11: 0.4 | S11: 0.41 | T11: 0.42 | U11: 0.43 | V11: 5 | W11: 1000 | X11: 9 | Y11: ATB, Consultant
B12: Southwest/Bruce/Niagara 8 | C12: 200 | D12: 0.43 | E12: 0.44 | F12: 0.45 | G12: 1175 | H12: 980 | I12: 877 | J12: 43 | K12: 40 | L12: 38 | M12: 0 | N12: 20 | O12: 30 | P12: 0.26 | Q12: 0.27 | R12: 0.28 | S12: 0.58 | T12: 0.6 | U12: 0.61 | V12: 5 | W12: 1000 | X12: 9 | Y12: ATB, Consultant
B13: Southwest/Bruce/Niagara 9 | C13: 2900 | D13: 0.36 | E13: 0.37 | F13: 0.38 | G13: 1175 | H13: 980 | I13: 877 | J13: 43 | K13: 40 | L13: 38 | M13: 0 | N13: 40 | O13: 30 | P13: 0.24 | Q13: 0.26 | R13: 0.27 | S13: 0.49 | T13: 0.51 | U13: 0.52 | V13: 5 | W13: 1000 | X13: 9 | Y13: ATB, Consultant
B14: Toronto/Essa/East/Ottawa 10 | C14: 300 | D14: 0.44 | E14: 0.45 | F14: 0.46 | G14: 1175 | H14: 980 | I14: 877 | J14: 43 | K14: 40 | L14: 38 | M14: 0 | N14: 20 | O14: 30 | P14: 0.26 | Q14: 0.28 | R14: 0.28 | S14: 0.6 | T14: 0.61 | U14: 0.62 | V14: 5 | W14: 1000 | X14: 9 | Y14: ATB, Consultant
B15: Toronto/Essa/East/Ottawa 11 | C15: 2900 | D15: 0.35 | E15: 0.36 | F15: 0.37 | G15: 1175 | H15: 980 | I15: 877 | J15: 43 | K15: 40 | L15: 38 | M15: 0 | N15: 60 | O15: 30 | P15: 0.25 | Q15: 0.26 | R15: 0.27 | S15: 0.49 | T15: 0.5 | U15: 0.51 | V15: 5 | W15: 1000 | X15: 9 | Y15: ATB, Consultant
B16: West 12 | C16: 300 | D16: 0.46 | E16: 0.47 | F16: 0.48 | G16: 1175 | H16: 980 | I16: 877 | J16: 43 | K16: 40 | L16: 38 | M16: 0 | N16: 40 | O16: 30 | P16: 0.3 | Q16: 0.31 | R16: 0.32 | S16: 0.55 | T16: 0.56 | U16: 0.57 | V16: 5 | W16: 1000 | X16: 9 | Y16: ATB, Consultant
B17: West 13 | C17: 1300 | D17: 0.38 | E17: 0.4 | F17: 0.41 | G17: 1175 | H17: 980 | I17: 877 | J17: 43 | K17: 40 | L17: 38 | M17: 0 | N17: 20 | O17: 30 | P17: 0.22 | Q17: 0.23 | R17: 0.24 | S17: 0.49 | T17: 0.5 | U17: 0.51 | V17: 5 | W17: 1000 | X17: 9 | Y17: ATB, Consultant
A18: New Offshore Wind | B18: East/SW 14 | C18: No Limit, 100 MW sites | D18: 0.45 | E18: 0.47 | F18: 0.47 | G18: 3379 | H18: 2625 | I18: 2325 | J18: 106 | K18: 91 | L18: 82 | M18: 0 | N18: 745 | O18: 30 | P18: 0.27 | Q18: 0.29 | R18: 0.29 | S18: 0.6 | T18: 0.61 | U18: 0.62 | V18: 10 | W18: 1000 | X18: 9 | Y18: ATB, Consultant
B19: Northeast 15 | C19: No Limit, 100 MW sites | D19: 0.53 | E19: 0.53 | F19: 0.54 | G19: 3379 | H19: 2625 | I19: 2325 | J19: 106 | K19: 91 | L19: 82 | M19: 0 | N19: 2725 | O19: 30 | P19: 0.52 | Q19: 0.53 | R19: 0.53 | S19: 0.45 | T19: 0.46 | U19: 0.46 | V19: 10 | W19: 1000 | X19: 9 | Y19: ATB, Consultant
B20: Northwest 16 | C20: No Limit, 100 MW sites | D20: 0.5 | E20: 0.51 | F20: 0.52 | G20: 3379 | H20: 2625 | I20: 2325 | J20: 106 | K20: 91 | L20: 82 | M20: 0 | N20: 785 | O20: 30 | P20: 0.39 | Q20: 0.4 | R20: 0.41 | S20: 0.57 | T20: 0.58 | U20: 0.59 | V20: 10 | W20: 1000 | X20: 9 | Y20: ATB, Consultant
A21: New Solar | B21: Northeast | C21: No Limit, 100 MW sites | D21: 0.2 | E21: 0.22 | F21: 0.22 | G21: 1167 | H21: 804 | I21: 729 | J21: 22 | K21: 17 | L21: 16 | M21: 0 | O21: 25 | P21: 0.34 | Q21: 0.35 | R21: 0.35 | S21: 0.01 | T21: 0.01 | U21: 0.01 | V21: 4 | W21: 600 | X21: 9 | Y21: ATB, Consultant
B22: Northwest | C22: No Limit, 100 MW sites | D22: 0.21 | E22: 0.22 | F22: 0.23 | G22: 1167 | H22: 804 | I22: 729 | J22: 22 | K22: 17 | L22: 16 | M22: 0 | O22: 25 | P22: 0.4 | Q22: 0.4 | R22: 0.41 | S22: 0.02 | T22: 0.02 | U22: 0.02 | V22: 4 | W22: 600 | X22: 9 | Y22: ATB, Consultant
B23: Southwest/West/Bruce/Niagara | C23: No Limit, 100 MW sites | D23: 0.2 | E23: 0.22 | F23: 0.23 | G23: 1167 | H23: 804 | I23: 729 | J23: 22 | K23: 17 | L23: 16 | M23: 0 | O23: 25 | P23: 0.37 | Q23: 0.38 | R23: 0.38 | S23: 0.01 | T23: 0.01 | U23: 0.01 | V23: 4 | W23: 600 | X23: 9 | Y23: ATB, Consultant
B24: Toronto/Essa/East/Ottawa | C24: No Limit, 100 MW sites | D24: 0.21 | E24: 0.22 | F24: 0.23 | G24: 1167 | H24: 804 | I24: 729 | J24: 22 | K24: 17 | L24: 16 | M24: 0 | O24: 25 | P24: 0.35 | Q24: 0.36 | R24: 0.36 | S24: 0 | T24: 0 | U24: 0 | V24: 4 | W24: 600 | X24: 9 | Y24: ATB, Consultant
A25: New Hydro | B25: NE | C25: 35 x 10 MW | D25: 0.67 | E25: 0.67 | F25: 0.67 | G25: 10759 | H25: 10759 | I25: 10759 | J25: 63 | K25: 63 | L25: 63 | M25: 0 | O25: 75 | P25: 0.85 | Q25: 0.85 | R25: 0.85 | S25: 0.82 | T25: 0.82 | U25: 0.82 | V25: 10 | W25: 1000 | X25: 9 | Y25: IESO, OPG
B26: NE | C26: 7 x 50 MW | D26: 0.47 | E26: 0.47 | F26: 0.47 | G26: 11541 | H26: 11541 | I26: 11541 | J26: 43 | K26: 43 | L26: 43 | M26: 0 | O26: 75 | P26: 0.57 | Q26: 0.57 | R26: 0.57 | S26: 0.57 | T26: 0.57 | U26: 0.57 | V26: 10 | W26: 1000 | X26: 9 | Y26: IESO, OPG
B27: NE | C27: 6 x 375 MW | D27: 0.35 | E27: 0.35 | F27: 0.35 | G27: 11355 | H27: 11355 | I27: 11355 | J27: 31 | K27: 31 | L27: 31 | M27: 0 | O27: 75 | P27: 0.39 | Q27: 0.39 | R27: 0.39 | S27: 0.53 | T27: 0.53 | U27: 0.53 | V27: 10 | W27: 1000 | X27: 9 | Y27: IESO, OPG
B28: NE | C28: 5 x 180 MW | D28: 0.27 | E28: 0.27 | F28: 0.27 | G28: 11488 | H28: 11488 | I28: 11488 | J28: 36 | K28: 36 | L28: 36 | M28: 0 | O28: 75 | P28: 0.39 | Q28: 0.39 | R28: 0.39 | S28: 0.25 | T28: 0.25 | U28: 0.25 | V28: 10 | W28: 1000 | X28: 9 | Y28: IESO, OPG
B29: NW | C29: 15 x 10 MW | D29: 0.61 | E29: 0.61 | F29: 0.61 | G29: 11596 | H29: 11596 | I29: 11596 | J29: 65 | K29: 65 | L29: 65 | M29: 0 | O29: 75 | P29: 0.91 | Q29: 0.91 | R29: 0.91 | S29: 0.91 | T29: 0.91 | U29: 0.91 | V29: 10 | W29: 1000 | X29: 9 | Y29: IESO, OPG
B30: NW | C30: 10 x 20 MW | D30: 0.5 | E30: 0.5 | F30: 0.5 | G30: 11579 | H30: 11579 | I30: 11579 | J30: 53 | K30: 53 | L30: 53 | M30: 0 | O30: 75 | P30: 0.34 | Q30: 0.34 | R30: 0.34 | S30: 0.31 | T30: 0.31 | U30: 0.31 | V30: 10 | W30: 1000 | X30: 9 | Y30: IESO, OPG
B31: NW | C31: 5 x 55 MW | D31: 0.35 | E31: 0.35 | F31: 0.35 | G31: 11518 | H31: 11518 | I31: 11518 | J31: 40 | K31: 40 | L31: 40 | M31: 0 | O31: 75 | P31: 0.55 | Q31: 0.55 | R31: 0.55 | S31: 0.7 | T31: 0.7 | U31: 0.7 | V31: 10 | W31: 1000 | X31: 9 | Y31: IESO, OPG
B32: NW | C32: 1 x 12 MW | D32: 0.27 | E32: 0.27 | F32: 0.27 | G32: 11602 | H32: 11602 | I32: 11602 | J32: 67 | K32: 67 | L32: 67 | M32: 0 | O32: 75 | P32: 0.32 | Q32: 0.32 | R32: 0.32 | S32: 0.61 | T32: 0.61 | U32: 0.61 | V32: 10 | W32: 1000 | X32: 9 | Y32: IESO, OPG
B33: South | C33: 8 x 4 MW | D33: 0.65 | E33: 0.65 | F33: 0.65 | G33: 6498 | H33: 6498 | I33: 6498 | J33: 83 | K33: 83 | L33: 83 | M33: 0 | O33: 75 | P33: 0.18 | Q33: 0.18 | R33: 0.18 | S33: 0.32 | T33: 0.32 | U33: 0.32 | V33: 10 | W33: 1000 | X33: 9 | Y33: IESO, OPG
A36: Nuclear Generation | B36: Zone | C36: Total Capacity Available (MW) | D36: Capacity Factor (%) | E36: 2020 Build Cost ($2021USD/kW) | F36: 2030 Build Cost ($2021USD/kW) | G36: 2040 Build Cost ($2021USD/kW) | H36: FO&M Charge ($2021USD/kW-year) | I36: VO&M Charge ($2021USD/MWh) | J36: Fuel Cost ($2021USD/MWh) | K36: Economic Life (year) | L36: UCAP (%) | M36: Build Lead Time (years) | N36: Resource Category Annual Build Limit (MW) | O36: Technology Readiness Level (2022) | P36: Data Source
A37: New Large Nuclear | B37: East/Southwest | C37: No Limit, 600 MW units | D37: 0.93 | E37: 7699 | F37: 7194 | G37: 6693 | H37: 157 | I37: 2 | J37: 1 | K37: 60 | L37: 0.93 | M37: 15 | N37: 3300 | O37: 9 | P37: IESO, OPG
A38: New Small Modular Reactor | B38: N/A | C38: No Limit, 200 MW units | D38: 0.93 | E38: 9219 | F38: 9219 | G38: 9219 | H38: 148 | I38: 2 | J38: 1 | K38: 60 | L38: 0.93 | M38: 8 | N38: 1000 | O38: 6 | P38: IESO, OPG
A41: Storage | B41: Duration (hours) | C41: Capacity Limit (MW) | D41: Roundtrip Efficiency (%) | E41: 2020 Build Cost ($2021USD/kW) | F41: 2030 Build Cost ($2021USD/kW) | G41: 2040 Build Cost ($2021USD/kW) | H41: 2020 FO&M Charge ($2021USD/kW-year) | I41: 2030 FO&M Charge ($2021USD/kW-year) | J41: 2040 FO&M Charge ($2021USD/kW-year) | K41: VO&M Charge ($2021USD/MWh) | L41: Economic Life (cycles/years) | M41: UCAP (%) | N41: Build Lead Time (years) | O41: Resource Category Annual Build Limit (MW) | P41: Technology Readiness Level (2022) | Q41: Data Source
A42: New Battery Storage (NREL, moderate) | B42: 4 | C42: 1000 | D42: 0.85 | E42: 1479 | F42: 851 | G42: 744 | H42: 37 | I42: 22 | J42: 18 | K42: 0 | L42: 3500/15 | M42: 0.95 | N42: 3 | O42: 500 | P42: 9 | Q42: NREL, CEATI
A43: New Battery Storage (NREL, moderate) | B43: 6 | C43: 1000 | D43: 0.85 | E43: 2080 | F43: 1170 | G43: 1014 | H43: 52 | I43: 29 | J43: 25 | K43: 0 | L43: 3500/15 | M43: 0.95 | N43: 3 | O43: 500 | P43: 9 | Q43: NREL, CEATI
A44: New Battery Storage (NREL, moderate) | B44: 8 | C44: 1000 | D44: 0.85 | E44: 2680 | F44: 1487 | G44: 1284 | H44: 67 | I44: 37 | J44: 33 | K44: 0 | L44: 3500/15 | M44: 0.95 | N44: 3 | O44: 500 | P44: 8 | Q44: NREL, CEATI
A45: New Battery Storage (NREL, moderate) | B45: 10 | C45: 2000 | D45: 0.85 | E45: 3280 | F45: 1806 | G45: 1553 | H45: 82 | I45: 46 | J45: 39 | K45: 0 | L45: 3500/15 | M45: 0.95 | N45: 3 | O45: 500 | P45: 7 | Q45: NREL, CEATI
...

Sheet NREL ATB 2023 Financial
A1: Source: | B1: https://atb.nrel.gov/electricity/2023/2023/data
A3: Technology | B3: NREL Case | D3: Inputs | E3: Base Case | F3: Alt Book Life 1 | G3: Alt Book Life 2 | H3: Sensitivity 1 | I3: Sensitivity 2
A4: Offshore Wind | B4: Moderate | D4: Tax Rate | E4: 0.265 | H4: 0.265 | I4: 0.265
A5: Offshore Wind | B5: Moderate | C5: Nominal | D5: Interest Rate | E5: 0.07 | H5: 0.07 | I5: 0.07
A6: Offshore Wind | B6: Moderate | C6: Nominal | D6: Rate of Return on Equity | E6: 0.11 | H6: 0.11 | I6: 0.11
A7: Offshore Wind | B7: Moderate | D7: Debt Fraction | E7: 0.723 | H7: 0.723 | I7: 0.723
A8: Offshore Wind | B8: Moderate | C8: Nominal | D8: WACC | E8: =$E$7*$E$5*(1-$E$4)+(1-$E$7)*$E$6 -> 0.06766835 | H8: =$H$7*$H$5*(1-$H$4)+(1-$H$7)*$H$6 -> 0.06766835 | I8: =$I$7*$I$5*(1-$I$4)+(1-$I$7)*$I$6 -> 0.06766835
A9: Offshore Wind | B9: Moderate | D9: Book Life | E9: 30 | H9: 30 | I9: 30
A10: Offshore Wind | B10: Moderate | C10: Nominal | D10: Capital Recovery Factor ("CRF") | E10: =$E$8/(1-(1/(1+$E$8)^$E$9)) -> 0.078707187 | H10: =$H$8/(1-(1/(1+$H$8)^$H$9)) -> 0.078707187 | I10: =$I$8/(1-(1/(1+$I$8)^$I$9)) -> 0.078707187
A11: Offshore Wind | B11: Moderate | D11: Construction Finance Factor | E11: 1.1101111 | H11: 1.1101111 | I11: 1.1101111
A12: Offshore Wind | B12: Moderate | D12: Project Finance Factor | E12: 1.0589954 | H12: 1.0589954 | I12: 1.0589954
A13: Nuclear | B13: Moderate | D13: Tax Rate | E13: 0.265 | H13: 0.265 | I13: 0.265
A14: Nuclear | B14: Moderate | C14: Nominal | D14: Interest Rate | E14: 0.08 | H14: 0.08 | I14: 0.08
A15: Nuclear | B15: Moderate | C15: Nominal | D15: Rate of Return on Equity | E15: 0.11 | H15: 0.11 | I15: 0.11
A16: Nuclear | B16: Moderate | D16: Debt Fraction | E16: 0.69775899 | H16: 0.69775899 | I16: 0.69775899
A17: Nuclear | B17: Moderate | C17: Nominal | D17: WACC | E17: =$E$16*$E$14*(1-$E$13)+(1-$E$16)*$E$15 -> 0.07427474 | H17: =$H$16*$H$14*(1-$H$13)+(1-$H$16)*$H$15 -> 0.07427474 | I17: =$I$16*$I$14*(1-$I$13)+(1-$I$16)*$I$15 -> 0.07427474
A18: Nuclear | B18: Moderate | D18: Book Life | E18: 60 | F18: 50 | G18: 30 | H18: 60 | I18: 60
A19: Nuclear | B19: Moderate | C19: Nominal | D19: Capital Recovery Factor ("CRF") | E19: =$E$17/(1-(1/(1+$E$17)^$E$18)) -> 0.075297703 | F19: =$E$17/(1-(1/(1+$E$17)^$F$18)) -> 0.076399562 | G19: =$E$17/(1-(1/(1+$E$17)^$G$18)) -> 0.084074191 | H19: =$H$17/(1-(1/(1+$H$17)^$H$18)) -> 0.075297703 | I19: =$I$17/(1-(1/(1+$I$17)^$I$18)) -> 0.075297703
A20: Nuclear | B20: Moderate | D20: Construction Finance Factor | E20: 1.2641327 | H20: 1.2641327 | I20: 1.2641327
A21: Nuclear | B21: Moderate | D21: Project Finance Factor | E21: 1.0638877 | H21: 1.0638877 | I21: 1.0638877
A22: Solar | B22: Moderate | D22: Tax Rate | E22: 0.265 | H22: 0.265 | I22: 0.265
A23: Solar | B23: Moderate | C23: Nominal | D23: Interest Rate | E23: 0.07 | H23: 0.07 | I23: 0.07
A24: Solar | B24: Moderate | C24: Nominal | D24: Rate of Return on Equity | E24: 0.088 | H24: 0.088 | I24: 0.088
A25: Solar | B25: Moderate | D25: Debt Fraction | E25: 0.73799225 | H25: 0.73799225 | I25: 0.73799225
A26: Solar | B26: Moderate | C26: Nominal | D26: WACC Nominal | E26: =E25*E23*(1-E22)+(1-E25)*E24 -> 0.061026383 | H26: =$H$25*$H$23*(1-$H$22)+(1-$H$25)*$H$24 -> 0.061026383 | I26: =$I$25*$I$23*(1-$I$22)+(1-$I$25)*$I$24 -> 0.061026383
A27: Solar | B27: Moderate | D27: Book Life | E27: 30 | H27: 30 | I27: 30
A28: Solar | B28: Moderate | C28: Nominal | D28: Capital Recovery Factor ("CRF") | E28: =$E$26/(1-(1/(1+$E$26)^$E$27)) -> 0.073448563 | H28: =$H$26/(1-(1/(1+$H$26)^$H$27)) -> 0.073448563 | I28: =$I$26/(1-(1/(1+$I$26)^$I$27)) -> 0.073448563
A29: Solar | B29: Moderate | D29: Construction Finance Factor | E29: 1.0361139 | H29: 1.0361139 | I29: 1.0361139
A30: Solar | B30: Moderate | D30: Project Finance Factor | E30: 1.0539301 | H30: 1.0539301 | I30: 1.0539301
A31: Onshore Wind | B31: Moderate | D31: Tax Rate | E31: 0.265 | H31: 0.265 | I31: 0.265
A32: Onshore Wind | B32: Moderate | C32: Nominal | D32: Interest Rate | E32: 0.07 | H32: 0.07 | I32: 0.07
A33: Onshore Wind | B33: Moderate | C33: Nominal | D33: Rate of Return on Equity | E33: 0.1 | H33: 0.1 | I33: 0.1
A34: Onshore Wind | B34: Moderate | D34: Debt Fraction | E34: 0.71531305 | H34: 0.71531305 | I34: 0.71531305
A35: Onshore Wind | B35: Moderate | C35: Nominal | D35: WACC Nominal | E35: =E34*E32*(1-E31)+(1-E34)*E33 -> 0.065271551 | H35: =$H$34*$H$32*(1-$H$31)+(1-$H$34)*$H$33 -> 0.065271551 | I35: =$I$34*$I$32*(1-$I$31)+(1-$I$34)*$I$33 -> 0.065271551
A36: Onshore Wind | B36: Moderate | D36: Book Life | E36: 30 | H36: 30 | I36: 30
A37: Onshore Wind | B37: Moderate | C37: Nominal | D37: Capital Recovery Factor ("CRF") | E37: =$E$35/(1-(1/(1+$E$35)^$E$36)) -> 0.076793146 | H37: =$H$35/(1-(1/(1+$H$35)^$H$36)) -> 0.076793146 | I37: =$I$35/(1-(1/(1+$I$35)^$I$36)) -> 0.076793146
A38: Onshore Wind | B38: Moderate | D38: Construction Finance Factor | E38: 1.0616232 | H38: 1.0616232 | I38: 1.0616232
A39: Onshore Wind | B39: Moderate | D39: Project Finance Factor | E39: 1.0571806 | H39: 1.0571806 | I39: 1.0571806

Sheet NREL ATB 2023 Solar
B1: NREL ATB ($2021 Real) | C1: 2021 | D1: 2022 | E1: 2023 | F1: 2024 | G1: 2025 | H1: 2026 | I1: 2027 | J1: 2028 | K1: 2029 | L1: 2030 | M1: 2031 | N1: 2032 | O1: 2033 | P1: 2034 | Q1: 2035 | R1: 2036 | S1: 2037 | T1: 2038 | U1: 2039 | V1: 2040
A2: Moderate | B2: Overnight Capital | C2: 1245.8151 | D2: 1325.3352 | E2: 1284.9483 | F2: 1244.5615 | G2: 1204.1747 | H2: 1163.7878 | I2: 1123.401 | J2: 1083.0141 | K2: 1042.6273 | L2: 1002.2404 | M2: 961.85358 | N2: 921.46674 | O2: 881.07989 | P2: 840.69305 | Q2: 800.3062 | R2: 787.64744 | S2: 774.98867 | T2: 762.32991 | U2: 749.67115 | V2: 737.01238
A3: Moderate | B3: Fixed O&M | C3: 22.528909 | D3: 22.004632 | E3: 21.495508 | F3: 20.988336 | G3: 20.483037 | H3: 19.979537 | I3: 19.477765 | J3: 18.977654 | K3: 18.47914 | L3: 17.982163 | M3: 17.486666 | N3: 16.992594 | O3: 16.499895 | P3: 16.008519 | Q3: 15.51842 | R3: 15.383614 | S3: 15.248811 | T3: 15.11401 | U3: 14.979211 | V3: 14.844415
A5: Nominal | B5: Overnight Capital
A6: Nominal | B6: Fixed O&M | L6: =L2*VLOOKUP($L$1,'US CPI'!$H$10:$I$26,2,FALSE) -> 1306.6257 | V6: =V2*VLOOKUP($V$1,'US CPI'!$H$10:$I$26,2,FALSE) -> 1171.2667
L7: =L3*VLOOKUP($L$1,'US CPI'!$H$10:$I$26,2,FALSE) -> 23.443433 | V7: =V3*VLOOKUP($V$1,'US CPI'!$H$10:$I$26,2,FALSE) -> 23.590877

Sheet US CPI
A1: Source: | B1: https://data.bls.gov/dataViewer/view/timeseries/CUUR0000SA0 | J1: Source: | K1: Inflation | L1: 0.02
B3: Consumer Price Index for All Urban Consumers (CPI-U)
A5: Series ID | B5: Year | C5: Period | D5: Label | E5: Value
A6: CUUR0000SA0 | B6: 2021 | C6: M01 | D6: 2021 Jan | E6: 261.582 | I6: 2021 | J6: 2022 | K6: 2023 | L6: 2024
A7: CUUR0000SA0 | B7: 2021 | C7: M02 | D7: 2021 Feb | E7: 263.014 | H7: CPI | I7: =AVERAGEIF($B$6:$B$53,I$6,$E$6:$E$53) -> 270.96975 | J7: =AVERAGEIF($B$6:$B$53,J$6,$E$6:$E$53) -> 292.65492 | K7: =AVERAGEIF($B$6:$B$53,K$6,$E$6:$E$53) -> 304.70158 | L7: =AVERAGEIF($B$6:$B$53,L$6,$E$6:$E$53) -> 313.68883 | M7: =(L7-I7)/I7 -> 0.15765259 | O7: =L7/I7 -> 1.1576526
A8: CUUR0000SA0 | B8: 2021 | C8: M03 | D8: 2021 Mar | E8: 264.877
A9: CUUR0000SA0 | B9: 2021 | C9: M04 | D9: 2021 Apr | E9: 267.054
A10: CUUR0000SA0 | B10: 2021 | C10: M05 | D10: 2021 May | E10: 269.195 | H10: 2021-2024 | I10: =M7+1 -> 1.1576526 | L10: 2024 | M10: =$L$7 -> 313.68883
A11: CUUR0000SA0 | B11: 2021 | C11: M06 | D11: 2021 Jun | E11: 271.696 | H11: 2025 | I11: =I10*(1+$L$1) -> 1.1808056 | L11: 2025 | M11: =M10*(1+$L$1) -> 319.96261
A12: CUUR0000SA0 | B12: 2021 | C12: M07 | D12: 2021 Jul | E12: 273.003 | H12: 2026 | I12: =I11*(1+$L$1) -> 1.2044218 | L12: 2026 | M12: =M11*(1+$L$1) -> 326.36186
A13: CUUR0000SA0 | B13: 2021 | C13: M08 | D13: 2021 Aug | E13: 273.567 | H13: 2027 | I13: =I12*(1+$L$1) -> 1.2285102 | L13: 2027 | M13: =M12*(1+$L$1) -> 332.8891
A14: CUUR0000SA0 | B14: 2021 | C14: M09 | D14: 2021 Sep | E14: 274.31 | H14: 2028 | I14: =I13*(1+$L$1) -> 1.2530804 | L14: 2028 | M14: =M13*(1+$L$1) -> 339.54688
A15: CUUR0000SA0 | B15: 2021 | C15: M10 | D15: 2021 Oct | E15: 276.589 | H15: 2029 | I15: =I14*(1+$L$1) -> 1.278142 | L15: 2029 | M15: =M14*(1+$L$1) -> 346.33782
A16: CUUR0000SA0 | B16: 2021 | C16: M11 | D16: 2021 Nov | E16: 277.948 | H16: 2030 | I16: =I15*(1+$L$1) -> 1.3037048 | L16: 2030 | M16: =M15*(1+$L$1) -> 353.26458 | N16: =M16/$M$10 -> 1.1261624 | O16: Conversion for 2024 to 2030
A17: CUUR0000SA0 | B17: 2021 | C17: M12 | D17: 2021 Dec | E17: 278.802 | H17: 2031 | I17: =I16*(1+$L$1) -> 1.3297789 | L17: 2031 | M17: =M16*(1+$L$1) -> 360.32987
A18: CUUR0000SA0 | B18: 2022 | C18: M01 | D18: 2022 Jan | E18: 281.148 | H18: 2032 | I18: =I17*(1+$L$1) -> 1.3563745 | L18: 2032 | M18: =M17*(1+$L$1) -> 367.53646
A19: CUUR0000SA0 | B19: 2022 | C19: M02 | D19: 2022 Feb | E19: 283.716 | H19: 2033 | I19: =I18*(1+$L$1) -> 1.383502 | L19: 2033 | M19: =M18*(1+$L$1) -> 374.88719
A20: CUUR0000SA0 | B20: 2022 | C20: M03 | D20: 2022 Mar | E20: 287.504 | H20: 2034 | I20: =I19*(1+$L$1) -> 1.411172 | L20: 2034 | M20: =M19*(1+$L$1) -> 382.38494
A21: CUUR0000SA0 | B21: 2022 | C21: M04 | D21: 2022 Apr | E21: 289.109 | H21: 2035 | I21: =I20*(1+$L$1) -> 1.4393955 | L21: 2035 | M21: =M20*(1+$L$1) -> 390.03264
A22: CUUR0000SA0 | B22: 2022 | C22: M05 | D22: 2022 May | E22: 292.296 | H22: 2036 | I22: =I21*(1+$L$1) -> 1.4681834 | L22: 2036 | M22: =M21*(1+$L$1) -> 397.83329
A23: CUUR0000SA0 | B23: 2022 | C23: M06 | D23: 2022 Jun | E23: 296.311 | H23: 2037 | I23: =I22*(1+$L$1) -> 1.4975471 | L23: 2037 | M23: =M22*(1+$L$1) -> 405.78995
A24: CUUR0000SA0 | B24: 2022 | C24: M07 | D24: 2022 Jul | E24: 296.276 | H24: 2038 | I24: =I23*(1+$L$1) -> 1.527498 | L24: 2038 | M24: =M23*(1+$L$1) -> 413.90575
A25: CUUR0000SA0 | B25: 2022 | C25: M08 | D25: 2022 Aug | E25: 296.171 | H25: 2039 | I25: =I24*(1+$L$1) -> 1.558048 | L25: 2039 | M25: =M24*(1+$L$1) -> 422.18387
A26: CUUR0000SA0 | B26: 2022 | C26: M09 | D26: 2022 Sep | E26: 296.808 | H26: 2040 | I26: =I25*(1+$L$1) -> 1.5892089 | L26: 2040 | M26: =M25*(1+$L$1) -> 430.62755 | N26: =M26/$M$10 -> 1.3727857 | O26: Conversion for 2024 to 2040
A27: CUUR0000SA0 | B27: 2022 | C27: M10 | D27: 2022 Oct | E27: 298.012
A28: CUUR0000SA0 | B28: 2022 | C28: M11 | D28: 2022 Nov | E28: 297.711
A29: CUUR0000SA0 | B29: 2022 | C29: M12 | D29: 2022 Dec | E29: 296.797
A30: CUUR0000SA0 | B30: 2023 | C30: M01 | D30: 2023 Jan | E30: 299.17
A31: CUUR0000SA0 | B31: 2023 | C31: M02 | D31: 2023 Feb | E31: 300.84
A32: CUUR0000SA0 | B32: 2023 | C32: M03 | D32: 2023 Mar | E32: 301.836
A33: CUUR0000SA0 | B33: 2023 | C33: M04 | D33: 2023 Apr | E33: 303.363
A34: CUUR0000SA0 | B34: 2023 | C34: M05 | D34: 2023 May | E34: 304.127
A35: CUUR0000SA0 | B35: 2023 | C35: M06 | D35: 2023 Jun | E35: 305.109
A36: CUUR0000SA0 | B36: 2023 | C36: M07 | D36: 2023 Jul | E36: 305.691
A37: CUUR0000SA0 | B37: 2023 | C37: M08 | D37: 2023 Aug | E37: 307.026
A38: CUUR0000SA0 | B38: 2023 | C38: M09 | D38: 2023 Sep | E38: 307.789
... A53: CUUR0000SA0 | B53: 2024 | C53: M12 | D53: 2024 Dec | E53: 315.605

Sheet LCOE $MWH-->

Sheet Offshore Wind LCOE
N1: 2030 | Q1: 2040
A2: Dollars | B2: Year | C2: Zone | D2: Category | E2: Units | F2: Base Value | G2: Sensitivity 1 | H2: Sensitivity 2 | M2: Zone | N2: No ITC | O2: With ITC 30% | Q2: No ITC | R2: With ITC 30% | S2: With ITC 15%
A3: Real | B3: 2021 | C3: All | D3: Build Cost | E3: $/kW | F3: ='IESO Pathways to Decarb App A'!$H$18 -> 2625 | G3: ='IESO Pathways to Decarb App A'!$H$18 -> 2625 | H3: ='IESO Pathways to Decarb App A'!$H$18 -> 2625 | K3: Base | L3: US $/MWh | M3: East/SW 14 | N3: =(('NREL ATB 2023 Financial'!$E$10*'NREL ATB 2023 Financial'!$E$12*'NREL ATB 2023 Financial'!$E$11*('Offshore Wind LCOE'!$F$10*1+'Offshore Wind LCOE'!$F13)+'Offshore Wind LCOE'!$F$12)*1000/('Offshore Wind LCOE'!$F8*8760)) -> 127.55251 | O3: =(('NREL ATB 2023 Financial'!$E$10*'NREL ATB 2023 Financial'!$E$12*'NREL ATB 2023 Financial'!$E$11*('Offshore Wind LCOE'!$F$11*1+'Offshore Wind LCOE'!$F13)+'Offshore Wind LCOE'!$F$12)*1000/('Offshore Wind LCOE'!$F8*8760)) -> 104.47958 | Q3: =(('NREL ATB 2023 Financial'!$E$10*'NREL ATB 2023 Financial'!$E$12*'NREL ATB 2023 Financial'!$E$11*('Offshore Wind LCOE'!$F$22*1+'Offshore Wind LCOE'!$F26)+'Offshore Wind LCOE'!$F$25)*1000/($F$20*8760)) -> 141.29728 | R3: =(('NREL ATB 2023 Financial'!$E$10*'NREL ATB 2023 Financial'!$E$12*'NREL ATB 2023 Financial'!$E$11*('Offshore Wind LCOE'!$F$23*1+'Offshore Wind LCOE'!$F26)+'Offshore Wind LCOE'!$F$25)*1000/('Offshore Wind LCOE'!$F20*8760)) -> 116.38588 | S3: =(('NREL ATB 2023 Financial'!$E$10*'NREL ATB 2023 Financial'!$E$12*'NREL ATB 2023 Financial'!$E$11*('Offshore Wind LCOE'!$F$24*1+'Offshore Wind LCOE'!$F26)+'Offshore Wind LCOE'!$F$25)*1000/('Offshore Wind LCOE'!$F20*8760)) -> 128.84158
A4: Real | B4: 2021 | C4: All | D4: Fixed O&M | E4: $/kW-Yr | F4: ='IESO Pathways to Decarb App A'!$K$18 -> 91 | G4: ='IESO Pathways to Decarb App A'!$K$18 -> 91 | H4: ='IESO Pathways to Decarb App A'!$K$18 -> 91 | K4: Base | L4: US $/MWh | M4: Northwest 16 | N4: =(('NREL ATB 2023 Financial'!$E$10*'NREL ATB 2023 Financial'!$E$12*'NREL ATB 2023 Financial'!$E$11*('Offshore Wind LCOE'!$F$10*1+'Offshore Wind LCOE'!$F14)+'Offshore Wind LCOE'!$F$12)*1000/('Offshore Wind LCOE'!$F9*8760)) -> 118.62843 | O4: =(('NREL ATB 2023 Financial'!$E$10*'NREL ATB 2023 Financial'!$E$12*'NREL ATB 2023 Financial'!$E$11*('Offshore Wind LCOE'!$F$11*1+'Offshore Wind LCOE'!$F14)+'Offshore Wind LCOE'!$F$12)*1000/('Offshore Wind LCOE'!$F9*8760)) -> 97.365141 | Q4: =(('NREL ATB 2023 Financial'!$E$10*'NREL ATB 2023 Financial'!$E$12*'NREL ATB 2023 Financial'!$E$11*('Offshore Wind LCOE'!$F$22*1+'Offshore Wind LCOE'!$F27)+'Offshore Wind LCOE'!$F$25)*1000/('Offshore Wind LCOE'!$F21*8760)) -> 129.00225 | R4: =(('NREL ATB 2023 Financial'!$E$10*'NREL ATB 2023 Financial'!$E$12*'NREL ATB 2023 Financial'!$E$11*('Offshore Wind LCOE'!$F$23*1+'Offshore Wind LCOE'!$F27)+'Offshore Wind LCOE'!$F$25)*1000/('Offshore Wind LCOE'!$F21*8760)) -> 106.48617 | S4: =(('NREL ATB 2023 Financial'!$E$10*'NREL ATB 2023 Financial'!$E$12*'NREL ATB 2023 Financial'!$E$11*('Offshore Wind LCOE'!$F$24*1+'Offshore Wind LCOE'!$F27)+'Offshore Wind LCOE'!$F$25)*1000/('Offshore Wind LCOE'!$F21*8760)) -> 117.74421
A5: Real | B5: 2021 | C5: East/SW 14 | D5: Transmission | E5: $/kW | F5: ='IESO Pathways to Decarb App A'!$N18 -> 745 | G5: ='IESO Pathways to Decarb App A'!$N18 -> 745 | H5: ='IESO Pathways to Decarb App A'!$N18 -> 745
A6: Real | B6: 2021 | C6: Northwest 16 | D6: Transmission | E6: $/kW | F6: ='IESO Pathways to Decarb App A'!$N20 -> 785 | G6: ='IESO Pathways to Decarb App A'!$N20 -> 785 | H6: ='IESO Pathways to Decarb App A'!$N20 -> 785 | K6: Sensitivity 1 | L6: US $/MWh | M6: East/SW 14 | N6: =(('NREL ATB 2023 Financial'!$H$10*'NREL ATB 2023 Financial'!$H$12*'NREL ATB 2023 Financial'!$H$11*('Offshore Wind LCOE'!$G$10*1+'Offshore Wind LCOE'!$G13)+'Offshore Wind LCOE'!$G$12)*1000/('Offshore Wind LCOE'!$G8*8760)) -> 127.55251 | O6: =(('NREL ATB 2023 Financial'!$H$10*'NREL ATB 2023 Financial'!$H$12*'NREL ATB 2023 Financial'!$H$11*('Offshore Wind LCOE'!$G$11*1+'Offshore Wind LCOE'!$G13)+'Offshore Wind LCOE'!$G$12)*1000/('Offshore Wind LCOE'!$G8*8760)) -> 104.47958 | Q6: =(('NREL ATB 2023 Financial'!$H$10*'NREL ATB 2023 Financial'!$H$12*'NREL ATB 2023 Financial'!$H$11*('Offshore Wind LCOE'!$G$22*1+'Offshore Wind LCOE'!$G26)+'Offshore Wind LCOE'!$G$25)*1000/($G$20*8760)) -> 141.29728 | R6: =(('NREL ATB 2023 Financial'!$H$10*'NREL ATB 2023 Financial'!$H$12*'NREL ATB 2023 Financial'!$H$11*('Offshore Wind LCOE'!$G$23*1+'Offshore Wind LCOE'!$G26)+'Offshore Wind LCOE'!$G$25)*1000/($G$20*8760)) -> 116.38588 | S6: =(('NREL ATB 2023 Financial'!$H$10*'NREL ATB 2023 Financial'!$H$12*'NREL ATB 2023 Financial'!$H$11*('Offshore Wind LCOE'!$G$24*1+'Offshore Wind LCOE'!$G26)+'Offshore Wind LCOE'!$G$25)*1000/($G$20*8760)) -> 128.84158
C7: All | D7: Life | E7: Years | F7: ='IESO Pathways to Decarb App A'!$O$18 -> 30 | G7: ='IESO Pathways to Decarb App A'!$O$18 -> 30 | H7: ='IESO Pathways to Decarb App A'!$O$18 -> 30 | K7: Sensitivity 1 | L7: US $/MWh | M7: Northwest 16 | N7: =(('NREL ATB 2023 Financial'!$H$10*'NREL ATB 2023 Financial'!$H$12*'NREL ATB 2023 Financial'!$H$11*('Offshore Wind LCOE'!$G$10*1+'Offshore Wind LCOE'!$G14)+'Offshore Wind LCOE'!$G$12)*1000/('Offshore Wind LCOE'!$G9*8760)) -> 118.62843 | O7: =(('NREL ATB 2023 Financial'!$H$10*'NREL ATB 2023 Financial'!$H$12*'NREL ATB 2023 Financial'!$H$11*('Offshore Wind LCOE'!$G$11*1+'Offshore Wind LCOE'!$G14)+'Offshore Wind LCOE'!$G$12)*1000/('Offshore Wind LCOE'!$G9*8760)) -> 97.365141 | Q7: =(('NREL ATB 2023 Financial'!$H$10*'NREL ATB 2023 Financial'!$H$12*'NREL ATB 2023 Financial'!$H$11*('Offshore Wind LCOE'!$G$22*1+'Offshore Wind LCOE'!$G27)+'Offshore Wind LCOE'!$G$25)*1000/($G$21*8760)) -> 129.00225 | R7: =(('NREL ATB 2023 Financial'!$H$10*'NREL ATB 2023 Financial'!$H$12*'NREL ATB 2023 Financial'!$H$11*('Offshore Wind LCOE'!$G$23*1+'Offshore Wind LCOE'!$G27)+'Offshore Wind LCOE'!$G$25)*1000/($G$21*8760)) -> 106.48617 | S7: =(('NREL ATB 2023 Financial'!$H$10*'NREL ATB 2023 Financial'!$H$12*'NREL ATB 2023 Financial'!$H$11*('Offshore Wind LCOE'!$G$24*1+'Offshore Wind LCOE'!$G27)+'Offshore Wind LCOE'!$G$25)*1000/($G$21*8760)) -> 117.74421
C8: East/SW 14 | D8: Capacity Factor | E8: % | F8: ='IESO Pathways to Decarb App A'!$E18 -> 0.47 | G8: ='IESO Pathways to Decarb App A'!$E18 -> 0.47 | H8: ='IESO Pathways to Decarb App A'!$E18 -> 0.47
C9: Northwest 16 | D9: Capacity Factor | E9: % | F9: ='IESO Pathways to Decarb App A'!$E20 -> 0.51 | G9: ='IESO Pathways to Decarb App A'!$E20 -> 0.51 | H9: ='IESO Pathways to Decarb App A'!$E20 -> 0.51 | K9: Sensitivity 2 | L9: US $/MWh | M9: East/SW 14 | N9: =(('NREL ATB 2023 Financial'!$I$10*'NREL ATB 2023 Financial'!$I$12*'NREL ATB 2023 Financial'!$I$11*('Offshore Wind LCOE'!$H$10*1+'Offshore Wind LCOE'!$H13)+'Offshore Wind LCOE'!$H$12)*1000/('Offshore Wind LCOE'!$H8*8760)) -> 127.55251 | O9: =(('NREL ATB 2023 Financial'!$I$10*'NREL ATB 2023 Financial'!$I$12*'NREL ATB 2023 Financial'!$I$11*('Offshore Wind LCOE'!$H$11*1+'Offshore Wind LCOE'!$H13)+'Offshore Wind LCOE'!$H$12)*1000/('Offshore Wind LCOE'!$H8*8760)) -> 104.47958 | Q9: =(('NREL ATB 2023 Financial'!$I$10*'NREL ATB 2023 Financial'!$I$12*'NREL ATB 2023 Financial'!$I$11*('Offshore Wind LCOE'!$H$22*1+'Offshore Wind LCOE'!$H26)+'Offshore Wind LCOE'!$H$25)*1000/($H$20*8760)) -> 141.29728 | R9: =(('NREL ATB 2023 Financial'!$I$10*'NREL ATB 2023 Financial'!$I$12*'NREL ATB 2023 Financial'!$I$11*('Offshore Wind LCOE'!$H$23*1+'Offshore Wind LCOE'!$H26)+'Offshore Wind LCOE'!$H$25)*1000/($H$20*8760)) -> 116.38588 | S9: =(('NREL ATB 2023 Financial'!$I$10*'NREL ATB 2023 Financial'!$I$12*'NREL ATB 2023 Financial'!$I$11*('Offshore Wind LCOE'!$H$24*1+'Offshore Wind LCOE'!$H26)+'Offshore Wind LCOE'!$H$25)*1000/($H$20*8760)) -> 128.84158
A10: Nominal | B10: 2030 | C10: All | D10: Build Cost | E10: $/kW | F10: =F3*VLOOKUP($B10,'US CPI'!$H$10:$I$26,2,FALSE) -> 3422.2252 | G10: =G3*VLOOKUP($B10,'US CPI'!$H$10:$I$26,2,FALSE) -> 3422.2252 | H10: =H3*VLOOKUP($B10,'US CPI'!$H$10:$I$26,2,FALSE) -> 3422.2252 | K10: Sensitivity 2 | L10: US $/MWh | M10: Northwest 16 | N10: =(('NREL ATB 2023 Financial'!$I$10*'NREL ATB 2023 Financial'!$I$12*'NREL ATB 2023 Financial'!$I$11*('Offshore Wind LCOE'!$H$10*1+'Offshore Wind LCOE'!$H14)+'Offshore Wind LCOE'!$H$12)*1000/('Offshore Wind LCOE'!$H9*8760)) -> 118.62843 | O10: =(('NREL ATB 2023 Financial'!$I$10*'NREL ATB 2023 Financial'!$I$12*'NREL ATB 2023 Financial'!$I$11*('Offshore Wind LCOE'!$H$11*1+'Offshore Wind LCOE'!$H14)+'Offshore Wind LCOE'!$H$12)*1000/('Offshore Wind LCOE'!$H9*8760)) -> 97.365141 | Q10: =(('NREL ATB 2023 Financial'!$I$10*'NREL ATB 2023 Financial'!$I$12*'NREL ATB 2023 Financial'!$I$11*('Offshore Wind LCOE'!$H$22*1+'Offshore Wind LCOE'!$H27)+'Offshore Wind LCOE'!$H$25)*1000/($H$21*8760)) -> 129.00225 | R10: =(('NREL ATB 2023 Financial'!$I$10*'NREL ATB 2023 Financial'!$I$12*'NREL ATB 2023 Financial'!$I$11*('Offshore Wind LCOE'!$H$23*1+'Offshore Wind LCOE'!$H27)+'Offshore Wind LCOE'!$H$25)*1000/($H$21*8760)) -> 106.48617 | S10: =(('NREL ATB 2023 Financial'!$I$10*'NREL ATB 2023 Financial'!$I$12*'NREL ATB 2023 Financial'!$I$11*('Offshore Wind LCOE'!$H$24*1+'Offshore Wind LCOE'!$H27)+'Offshore Wind LCOE'!$H$25)*1000/($H$21*8760)) -> 117.74421
A11: Nominal | B11: 2030 | C11: All | D11: Build Cost with ITC Adjustment 30% | E11: $/kW | F11: =$F$10-($F$10*30%) -> 2395.5576 | G11: =$G$10-($G$10*30%) -> 2395.5576 | H11: =$H$10-($H$10*30%) -> 2395.5576
A12: Nominal | B12: 2030 | C12: All | D12: Fixed O&M | E12: $/kW-Yr | F12: =F4*VLOOKUP($B12,'US CPI'!$H$10:$I$26,2,FALSE) -> 118.63714 | G12: =G4*VLOOKUP($B12,'US CPI'!$H$10:$I$26,2,FALSE) -> 118.63714 | H12: =H4*VLOOKUP($B12,'US CPI'!$H$10:$I$26,2,FALSE) -> 118.63714
A13: Nominal | B13: 2030 | C13: East/SW 14 | D13: Transmission | E13: $/kW | F13: =F5*VLOOKUP($B13,'US CPI'!$H$10:$I$26,2,FALSE) -> 971.26011 | G13: =G5*VLOOKUP($B13,'US CPI'!$H$10:$I$26,2,FALSE) -> 971.26011 | H13: =H5*VLOOKUP($B13,'US CPI'!$H$10:$I$26,2,FALSE) -> 971.26011
A14: Nominal | B14: 2030 | C14: Northwest 16 | D14: Transmission | E14: $/kW | F14: =F6*VLOOKUP($B14,'US CPI'!$H$10:$I$26,2,FALSE) -> 1023.4083 | G14: =G6*VLOOKUP($B14,'US CPI'!$H$10:$I$26,2,FALSE) -> 1023.4083 | H14: =H6*VLOOKUP($B14,'US CPI'!$H$10:$I$26,2,FALSE) -> 1023.4083
A15: Real | B15: 2021 | C15: All | D15: Build Cost | E15: $/kW | F15: ='IESO Pathways to Decarb App A'!$I$18 -> 2325 | G15: ='IESO Pathways to Decarb App A'!$I$18 -> 2325 | H15: ='IESO Pathways to Decarb App A'!$I$18 -> 2325
A16: Real | B16: 2021 | C16: All | D16: Fixed O&M | E16: $/kW-Yr | F16: ='IESO Pathways to Decarb App A'!$L$18 -> 82 | G16: ='IESO Pathways to Decarb App A'!$L$18 -> 82 | H16: ='IESO Pathways to Decarb App A'!$L$18 -> 82
A17: Real | B17: 2021 | C17: East/SW 14 | D17: Transmission | E17: $/kW | F17: ='IESO Pathways to Decarb App A'!$N18 -> 745 | G17: ='IESO Pathways to Decarb App A'!$N18 -> 745 | H17: ='IESO Pathways to Decarb App A'!$N18 -> 745
A18: Real | B18: 2021 | C18: Northwest 16 | D18: Transmission | E18: $/kW | F18: ='IESO Pathways to Decarb App A'!$N20 -> 785 | G18: ='IESO Pathways to Decarb App A'!$N20 -> 785 | H18: ='IESO Pathways to Decarb App A'!$N20 -> 785
C19: All | D19: Life | E19: Years | F19: ='IESO Pathways to Decarb App A'!$O$18 -> 30 | G19: ='IESO Pathways to Decarb App A'!$O$18 -> 30 | H19: ='IESO Pathways to Decarb App A'!$O$18 -> 30
C20: East/SW 14 | D20: Capacity Factor | E20: % | F20: ='IESO Pathways to Decarb App A'!$F$18 -> 0.47 | G20: ='IESO Pathways to Decarb App A'!$F$18 -> 0.47 | H20: ='IESO Pathways to Decarb App A'!$F$18 -> 0.47
C21: Northwest 16 | D21: Capacity Factor | E21: % | F21: ='IESO Pathways to Decarb App A'!$F$20 -> 0.52 | G21: ='IESO Pathways to Decarb App A'!$F$20 -> 0.52 | H21: ='IESO Pathways to Decarb App A'!$F$20 -> 0.52
A22: Nominal | B22: 2040 | C22: All | D22: Build Cost | E22: $/kW | F22: =$F$15*VLOOKUP($B22,'US CPI'!$H$10:$I$26,2,FALSE) -> 3694.9108 | G22: =$G$15*VLOOKUP($B22,'US CPI'!$H$10:$I$26,2,FALSE) -> 3694.9108 | H22: =$H$15*VLOOKUP($B22,'US CPI'!$H$10:$I$26,2,FALSE) -> 3694.9108
A23: Nominal | B23: 2040 | C23: All | D23: Build Cost with ITC Adjustment 30% | E23: $/kW | F23: =$F$22-($F$22*30%) -> 2586.4375 | G23: =$G$22-($G$22*30%) -> 2586.4375 | H23: =$H$22-($H$22*30%) -> 2586.4375
A24: Nominal | B24: 2040 | C24: All | D24: Build Cost with ITC Adjustment 15% | E24: $/kW | F24: =$F$22-($F$22*15%) -> 3140.6741 | G24: =$G$22-($G$22*15%) -> 3140.6741 | H24: =$H$22-($H$22*15%) -> 3140.6741
A25: Nominal | B25: 2040 | C25: All | D25: Fixed O&M | E25: $/kW-Yr | F25: =$F$16*VLOOKUP($B25,'US CPI'!$H$10:$I$26,2,FALSE) -> 130.31513 | G25: =$G$16*VLOOKUP($B25,'US CPI'!$H$10:$I$26,2,FALSE) -> 130.31513 | H25: =$H$16*VLOOKUP($B25,'US CPI'!$H$10:$I$26,2,FALSE) -> 130.31513
A26: Nominal | B26: 2040 | C26: East/SW 14 | D26: Transmission | E26: $/kW | F26: =$F17*VLOOKUP($B26,'US CPI'!$H$10:$I$26,2,FALSE) -> 1183.9607 | G26: =$G17*VLOOKUP($B26,'US CPI'!$H$10:$I$26,2,FALSE) -> 1183.9607 | H26: =$H17*VLOOKUP($B26,'US CPI'!$H$10:$I$26,2,FALSE) -> 1183.9607
A27: Nominal | B27: 2040 | C27: Northwest 16 | D27: Transmission | E27: $/kW | F27: =$F18*VLOOKUP($B27,'US CPI'!$H$10:$I$26,2,FALSE) -> 1247.529 | G27: =$G18*VLOOKUP($B27,'US CPI'!$H$10:$I$26,2,FALSE) -> 1247.529 | H27: =$H18*VLOOKUP($B27,'US CPI'!$H$10:$I$26,2,FALSE) -> 1247.529

Sheet Nuclear LCOE
P1: 2030 and 60 year Life | S1: 2030 and 50 year Life | V1: 2030 and 30 year Life | Y1: 2040 and 60 year Life | AC1: 2040 and 50 year Life | AG1: 2040 and 30 year Life
C2: Year | D2: Source | E2: Category | F2: Units | G2: Base Value | H2: Sensitivity 1 | I2: Sensitivity 2 | P2: No ITC | Q2: With ITC 30% | S2: No ITC | T2: With ITC 30% | V2: No ITC | W2: With ITC 30% | Y2: No ITC | Z2: With ITC 30% | AA2: With ITC 15% | AC2: No ITC | AD2: With ITC 30% | AE2: With ITC 15% | AG2: No ITC | AH2: With ITC 30% | AI2: With ITC 15%
B3: Nominal | C3: 2030 | D3: Vogtle Cost Estimate | E3: Build Cost | F3: $/kW | G3: ='Vogtle Costs'!$C$7*'US CPI'!$N$16 -> 18600.887 | H3: ='Vogtle Costs'!$C$7*'US CPI'!$N$16 -> 18600.887 | I3: ='Vogtle Costs'!$C$7*'US CPI'!$N$16 -> 18600.887 | M3: Base | N3: US $/MWh | O3: Vogtle Cost Estimate | P3: =(('NREL ATB 2023 Financial'!$E$19*'NREL ATB 2023 Financial'!$E$21*'NREL ATB 2023 Financial'!$E$20*('Nuclear LCOE'!$G$3*1+0)+'Nuclear LCOE'!$G$33)*1000/('Nuclear LCOE'!$G$25*8760)+'Nuclear LCOE'!$G$32+'Nuclear LCOE'!$G$35) -> 313.85878 | Q3: =(('NREL ATB 2023 Financial'!$E$19*'NREL ATB 2023 Financial'!$E$21*'NREL ATB 2023 Financial'!$E$20*('Nuclear LCOE'!$G$4*1+0)+'Nuclear LCOE'!$G$33)*1000/('Nuclear LCOE'!$G$25*8760)+'Nuclear LCOE'!$G$32+'Nuclear LCOE'!$G$35) -> 231.81223 | S3: =(('NREL ATB 2023 Financial'!$F$19*'NREL ATB 2023 Financial'!$E$21*'NREL ATB 2023 Financial'!$E$20*('Nuclear LCOE'!$G$3*1+0)+'Nuclear LCOE'!$G$33)*1000/('Nuclear LCOE'!$G$25*8760)+'Nuclear LCOE'!$G$32+'Nuclear LCOE'!$G$35) -> 317.86084 | T3: =(('NREL ATB 2023 Financial'!$F$19*'NREL ATB 2023 Financial'!$E$21*'NREL ATB 2023 Financial'!$E$20*('Nuclear LCOE'!$G$4*1+0)+'Nuclear LCOE'!$G$33)*1000/('Nuclear LCOE'!$G$25*8760)+'Nuclear LCOE'!$G$32+'Nuclear LCOE'!$G$35) -> 234.61367 | V3: =(('NREL ATB 2023 Financial'!$G$19*'NREL ATB 2023 Financial'!$E$21*'NREL ATB 2023 Financial'!$E$20*('Nuclear LCOE'!$G$3*1+0)+'Nuclear LCOE'!$G$33)*1000/('Nuclear LCOE'!$G$25*8760)+'Nuclear LCOE'!$G$32+'Nuclear LCOE'!$G$35) -> 345.73583 | W3: =(('NREL ATB 2023 Financial'!$G$19*'NREL ATB 2023 Financial'!$E$21*'NREL ATB 2023 Financial'!$E$20*('Nuclear LCOE'!$G$4*1+0)+'Nuclear LCOE'!$G$33)*1000/('Nuclear LCOE'!$G$25*8760)+'Nuclear LCOE'!$G$32+'Nuclear LCOE'!$G$35) -> 254.12616 | Y3: =(('NREL ATB 2023 Financial'!$E$19*'NREL ATB 2023 Financial'!$E$21*'NREL ATB 2023 Financial'!$E$20*('Nuclear LCOE'!$G$12*1+0)+'Nuclear LCOE'!$G$38)*1000/('Nuclear LCOE'!$G$25*8760)+'Nuclear LCOE'!$G$37+'Nuclear LCOE'!$G$40) -> 382.5921 | Z3: =(('NREL ATB 2023 Financial'!$E$19*'NREL ATB 2023 Financial'!$E$21*'NREL ATB 2023 Financial'!$E$20*('Nuclear LCOE'!$G$13*1+0)+'Nuclear LCOE'!$G$38)*1000/('Nuclear LCOE'!$G$25*8760)+'Nuclear LCOE'!$G$37+'Nuclear LCOE'!$G$40) -> 282.57781 | AA3: =(('NREL ATB 2023 Financial'!$E$19*'NREL ATB 2023 Financial'!$E$21*'NREL ATB 2023 Financial'!$E$20*('Nuclear LCOE'!$G$14*1+0)+'Nuclear LCOE'!$G$38)*1000/('Nuclear LCOE'!$G$25*8760)+'Nuclear LCOE'!$G$37+'Nuclear LCOE'!$G$40) -> 332.58496 | AC3: =(('NREL ATB 2023 Financial'!$F$19*'NREL ATB 2023 Financial'!$E$21*'NREL ATB 2023 Financial'!$E$20*('Nuclear LCOE'!$G$12*1+0)+'Nuclear LCOE'!$G$38)*1000/('Nuclear LCOE'!$G$25*8760)+'Nuclear LCOE'!$G$37+'Nuclear LCOE'!$G$40) -> 387.47059 | AD3: =(('NREL ATB 2023 Financial'!$F$19*'NREL ATB 2023 Financial'!$E$21*'NREL ATB 2023 Financial'!$E$20*('Nuclear LCOE'!$G$13*1+0)+'Nuclear LCOE'!$G$38)*1000/('Nuclear LCOE'!$G$25*8760)+'Nuclear LCOE'!$G$37+'Nuclear LCOE'!$G$40) -> 285.99275 | AE3: =(('NREL ATB 2023 Financial'!$F$19*'NREL ATB 2023 Financial'!$E$21*'NREL ATB 2023 Financial'!$E$20*('Nuclear LCOE'!$G$14*1+0)+'Nuclear LCOE'!$G$38)*1000/('Nuclear LCOE'!$G$25*8760)+'Nuclear LCOE'!$G$37+'Nuclear LCOE'!$G$40) -> 336.73167 | AG3: =(('NREL ATB 2023 Financial'!$G$19*'NREL ATB 2023 Financial'!$E$21*'NREL ATB 2023 Financial'!$E$20*('Nuclear LCOE'!$G$12*1+0)+'Nuclear LCOE'!$G$38)*1000/('Nuclear LCOE'!$G$25*8760)+'Nuclear LCOE'!$G$37+'Nuclear LCOE'!$G$40) -> 421.45005 | AH3: =(('NREL ATB 2023 Financial'!$G$19*'NREL ATB 2023 Financial'!$E$21*'NREL ATB 2023 Financial'!$E$20*('Nuclear LCOE'!$G$13*1+0)+'Nuclear LCOE'!$G$38)*1000/('Nuclear LCOE'!$G$25*8760)+'Nuclear LCOE'!$G$37+'Nuclear LCOE'!$G$40) -> 309.77838 | AI3: =(('NREL ATB 2023 Financial'!$G$19*'NREL ATB 2023 Financial'!$E$21*'NREL ATB 2023 Financial'!$E$20*('Nuclear LCOE'!$G$14*1+0)+'Nuclear LCOE'!$G$38)*1000/('Nuclear LCOE'!$G$25*8760)+'Nuclear LCOE'!$G$37+'Nuclear LCOE'!$G$40) -> 365.61421
B4: Nominal | C4: 2030 | E4: Build Cost with ITC Adjustment 30% | F4: $/kW | G4: =$G$3-($G$3*30%) -> 13020.621 | H4: =$H$3-($H$3*30%) -> 13020.621 | I4: =$I$3-($I$3*30%) -> 13020.621 | M4: Base | N4: US $/MWh | O4: TVA Cost Estimate FOAK | P4: =(('NREL ATB 2023 Financial'!$E$19*'NREL ATB 2023 Financial'!$E$21*'NREL ATB 2023 Financial'!$E$20*('Nuclear LCOE'!$G$6*1+0)+'Nuclear LCOE'!$G$48)*1000/('Nuclear LCOE'!$G$25*8760)+'Nuclear LCOE'!$G$47+'Nuclear LCOE'!$G$50) -> 325.06631 | Q4: =(('NREL ATB 2023 Financial'!$E$19*'NREL ATB 2023 Financial'!$E$21*'NREL ATB 2023 Financial'!$E$20*('Nuclear LCOE'!$G$7*1+0)+'Nuclear LCOE'!$G$48)*1000/('Nuclear LCOE'!$G$25*8760)+'Nuclear LCOE'!$G$47+'Nuclear LCOE'!$G$50) -> 238.1747 | S4: =(('NREL ATB 2023 Financial'!$F$19*'NREL ATB 2023 Financial'!$E$21*'NREL ATB 2023 Financial'!$E$20*('Nuclear LCOE'!$G$6*1+0)+'Nuclear LCOE'!$G$48)*1000/('Nuclear LCOE'!$G$25*8760)+'Nuclear LCOE'!$G$47+'Nuclear LCOE'!$G$50) -> 329.30471 | T4: =(('NREL ATB 2023 Financial'!$F$19*'NREL ATB 2023 Financial'!$E$21*'NREL ATB 2023 Financial'!$E$20*('Nuclear LCOE'!$G$7*1+0)+'Nuclear LCOE'!$G$48)*1000/('Nuclear LCOE'!$G$25*8760)+'Nuclear LCOE'!$G$47+'Nuclear LCOE'!$G$50) -> 241.14157 | V4: =(('NREL ATB 2023 Financial'!$G$19*'NREL ATB 2023 Financial'!$E$21*'NREL ATB 2023 Financial'!$E$20*('Nuclear LCOE'!$G$6*1+0)+'Nuclear LCOE'!$G$48)*1000/('Nuclear LCOE'!$G$25*8760)+'Nuclear LCOE'!$G$47+'Nuclear LCOE'!$G$50) -> 358.82579 | W4: =(('NREL ATB 2023 Financial'!$G$19*'NREL ATB 2023 Financial'!$E$21*'NREL ATB 2023 Financial'!$E$20*('Nuclear LCOE'!$G$7*1+0)+'Nuclear LCOE'!$G$48)*1000/('Nuclear LCOE'!$G$25*8760)+'Nuclear LCOE'!$G$47+'Nuclear LCOE'!$G$50) -> 261.80633 | Y4: =(('NREL ATB 2023 Financial'!$E$19*'NREL ATB 2023 Financial'!$E$21*'NREL ATB 2023 Financial'!$E$20*('Nuclear LCOE'!$G$15*1+0)+'Nuclear LCOE'!$G$53)*1000/('Nuclear LCOE'!$G$25*8760)+'Nuclear LCOE'!$G$52+'Nuclear LCOE'!$G$55) -> 334.62855 | Z4: =(('NREL ATB 2023 Financial'!$E$19*'NREL ATB 2023 Financial'!$E$21*'NREL ATB 2023 Financial'!$E$20*('Nuclear LCOE'!$G$16*1+0)+'Nuclear LCOE'!$G$53)*1000/('Nuclear LCOE'!$G$25*8760)+'Nuclear LCOE'!$G$52+'Nuclear LCOE'!$G$55) -> 247.19579 | AA4: =(('NREL ATB 2023 Financial'!$E$19*'NREL ATB 2023 Financial'!$E$21*'NREL ATB 2023 Financial'!$E$20*('Nuclear LCOE'!$G$17*1+0)+'Nuclear LCOE'!$G$53)*1000/('Nuclear LCOE'!$G$25*8760)+'Nuclear LCOE'!$G$52+'Nuclear LCOE'!$G$55) -> 290.91217 | AC4: =(('NREL ATB 2023 Financial'!$F$19*'NREL ATB 2023 Financial'!$E$21*'NREL ATB 2023 Financial'!$E$20*('Nuclear LCOE'!$G$15*1+0)+'Nuclear LCOE'!$G$53)*1000/('Nuclear LCOE'!$G$25*8760)+'Nuclear LCOE'!$G$52+'Nuclear LCOE'!$G$55) -> 338.89333 | AD4: =(('NREL ATB 2023 Financial'!$F$19*'NREL ATB 2023 Financial'!$E$21*'NREL ATB 2023 Financial'!$E$20*('Nuclear LCOE'!$G$16*1+0)+'Nuclear LCOE'!$G$53)*1000/('Nuclear LCOE'!$G$25*8760)+'Nuclear LCOE'!$G$52+'Nuclear LCOE'!$G$55) -> 250.18115 | AE4: =(('NREL ATB 2023 Financial'!$F$19*'NREL ATB 2023 Financial'!$E$21*'NREL ATB 2023 Financial'!$E$20*('Nuclear LCOE'!$G$17*1+0)+'Nuclear LCOE'!$G$53)*1000/('Nuclear LCOE'!$G$25*8760)+'Nuclear LCOE'!$G$52+'Nuclear LCOE'!$G$55) -> 294.53724 | AG4: =(('NREL ATB 2023 Financial'!$G$19*'NREL ATB 2023 Financial'!$E$21*'NREL ATB 2023 Financial'!$E$20*('Nuclear LCOE'!$G$15*1+0)+'Nuclear LCOE'!$G$53)*1000/('Nuclear LCOE'!$G$25*8760)+'Nuclear LCOE'!$G$52+'Nuclear LCOE'!$G$55) -> 368.59827 | AH4: =(('NREL ATB 2023 Financial'!$G$19*'NREL ATB 2023 Financial'!$E$21*'NREL ATB 2023 Financial'!$E$20*('Nuclear LCOE'!$G$16*1+0)+'Nuclear LCOE'!$G$53)*1000/('Nuclear LCOE'!$G$25*8760)+'Nuclear LCOE'!$G$52+'Nuclear LCOE'!$G$55) -> 270.9746 | AI4: =(('NREL ATB 2023 Financial'!$G$19*'NREL ATB 2023 Financial'!$E$21*'NREL ATB 2023 Financial'!$E$20*('Nuclear LCOE'!$G$17*1+0)+'Nuclear LCOE'!$G$53)*1000/('Nuclear LCOE'!$G$25*8760)+'Nuclear LCOE'!$G$52+'Nuclear LCOE'!$G$55) -> 319.78643
B5: Nominal | C5: 2030 | E5: Build Cost with ITC Adjustment 15% | F5: $/kW | G5: =$G$3-($G$3*15%) -> 15810.754 | H5: =$H$3-($H$3*15%) -> 15810.754 | I5: =$I$3-($I$3*15%) -> 15810.754 | M5: Base | N5: US $/MWh | O5: TVA Cost Estimate NOAK | P5: =(('NREL ATB 2023 Financial'!$E$19*'NREL ATB 2023 Financial'!$E$21*'NREL ATB 2023 Financial'!$E$20*('Nuclear LCOE'!$G$9*1+0)+'Nuclear LCOE'!$G$48)*1000/('Nuclear LCOE'!$G$25*8760)+'Nuclear LCOE'!$G$47+'Nuclear LCOE'!$G$50) -> 241.02606 | Q5: =(('NREL ATB 2023 Financial'!$E$19*'NREL ATB 2023 Financial'!$E$21*'NREL ATB 2023 Financial'!$E$20*('Nuclear LCOE'!$G$10*1+0)+'Nuclear LCOE'!$G$48)*1000/('Nuclear LCOE'!$G$25*8760)+'Nuclear LCOE'!$G$47+'Nuclear LCOE'!$G$50) -> 179.34652 | S5: =(('NREL ATB 2023 Financial'!$F$19*'NREL ATB 2023 Financial'!$E$21*'NREL ATB 2023 Financial'!$E$20*('Nuclear LCOE'!$G$9*1+0)+'Nuclear LCOE'!$G$48)*1000/('Nuclear LCOE'!$G$25*8760)+'Nuclear LCOE'!$G$47+'Nuclear LCOE'!$G$50) -> 244.03466 | T5: =(('NREL ATB 2023 Financial'!$F$19*'NREL ATB 2023 Financial'!$E$21*'NREL ATB 2023 Financial'!$E$20*('Nuclear LCOE'!$G$10*1+0)+'Nuclear LCOE'!$G$48)*1000/('Nuclear LCOE'!$G$25*8760)+'Nuclear LCOE'!$G$47+'Nuclear LCOE'!$G$50) -> 181.45254 | V5: =(('NREL ATB 2023 Financial'!$G$19*'NREL ATB 2023 Financial'!$E$21*'NREL ATB 2023 Financial'!$E$20*('Nuclear LCOE'!$G$9*1+0)+'Nuclear LCOE'!$G$48)*1000/('Nuclear LCOE'!$G$25*8760)+'Nuclear LCOE'!$G$47+'Nuclear LCOE'!$G$50) -> 264.99004 | W5: =(('NREL ATB 2023 Financial'!$G$19*'NREL ATB 2023 Financial'!$E$21*'NREL ATB 2023 Financial'!$E$20*('Nuclear LCOE'!$G$10*1+0)+'Nuclear LCOE'!$G$48)*1000/('Nuclear LCOE'!$G$25*8760)+'Nuclear LCOE'!$G$47+'Nuclear LCOE'!$G$50) -> 196.12131 | Y5: =(('NREL ATB 2023 Financial'!$E$19*'NREL ATB 2023 Financial'!$E$21*'NREL ATB 2023 Financial'!$E$20*('Nuclear LCOE'!$G$18*1+0)+'Nuclear LCOE'!$G$53)*1000/('Nuclear LCOE'!$G$25*8760)+'Nuclear LCOE'!$G$52+'Nuclear LCOE'!$G$55) -> 250.06492 | Z5: =(('NREL ATB 2023 Financial'!$E$19*'NREL ATB 2023 Financial'!$E$21*'NREL ATB 2023 Financial'!$E$20*('Nuclear LCOE'!$G$19*1+0)+'Nuclear LCOE'!$G$53)*1000/('Nuclear LCOE'!$G$25*8760)+'Nuclear LCOE'!$G$52+'Nuclear LCOE'!$G$55) -> 188.00125 | AA5: =(('NREL ATB 2023 Financial'!$E$19*'NREL ATB 2023 Financial'!$E$21*'NREL ATB 2023 Financial'!$E$20*('Nuclear LCOE'!$G$20*1+0)+'Nuclear LCOE'!$G$53)*1000/('Nuclear LCOE'!$G$25*8760)+'Nuclear LCOE'!$G$52+'Nuclear LCOE'!$G$55) -> 219.03309 | AC5: =(('NREL ATB 2023 Financial'!$F$19*'NREL ATB 2023 Financial'!$E$21*'NREL ATB 2023 Financial'!$E$20*('Nuclear LCOE'!$G$18*1+0)+'Nuclear LCOE'!$G$53)*1000/('Nuclear LCOE'!$G$25*8760)+'Nuclear LCOE'!$G$52+'Nuclear LCOE'!$G$55) -> 253.09225 | AD5: =(('NREL ATB 2023 Financial'!$F$19*'NREL ATB 2023 Financial'!$E$21*'NREL ATB 2023 Financial'!$E$20*('Nuclear LCOE'!$G$19*1+0)+'Nuclear LCOE'!$G$53)*1000/('Nuclear LCOE'!$G$25*8760)+'Nuclear LCOE'!$G$52+'Nuclear LCOE'!$G$55) -> 190.12039 | AE5: =(('NREL ATB 2023 Financial'!$F$19*'NREL ATB 2023 Financial'!$E$21*'NREL ATB 2023 Financial'!$E$20*('Nuclear LCOE'!$G$20*1+0)+'Nuclear LCOE'!$G$53)*1000/('Nuclear LCOE'!$G$25*8760)+'Nuclear LCOE'!$G$52+'Nuclear LCOE'!$G$55) -> 221.60632 | AG5: =(('NREL ATB 2023 Financial'!$G$19*'NREL ATB 2023 Financial'!$E$21*'NREL ATB 2023 Financial'!$E$20*('Nuclear LCOE'!$G$18*1+0)+'Nuclear LCOE'!$G$53)*1000/('Nuclear LCOE'!$G$25*8760)+'Nuclear LCOE'!$G$52+'Nuclear LCOE'!$G$55) -> 274.17814 | AH5: =(('NREL ATB 2023 Financial'!$G$19*'NREL ATB 2023 Financial'!$E$21*'NREL ATB 2023 Financial'!$E$20*('Nuclear LCOE'!$G$19*1+0)+'Nuclear LCOE'!$G$53)*1000/('Nuclear LCOE'!$G$25*8760)+'Nuclear LCOE'!$G$52+'Nuclear LCOE'!$G$55) -> 204.88051 | AI5: =(('NREL ATB 2023 Financial'!$G$19*'NREL ATB 2023 Financial'!$E$21*'NREL ATB 2023 Financial'!$E$20*('Nuclear LCOE'!$G$20*1+0)+'Nuclear LCOE'!$G$53)*1000/('Nuclear LCOE'!$G$25*8760)+'Nuclear LCOE'!$G$52+'Nuclear LCOE'!$G$55) -> 239.52932
B6: Nominal | C6: 2030 | D6: TVA Cost Estimate FOAK | E6: Build Cost FOAK | F6: $/kW | G6: ='TVA IRP'!$U$13 -> 19699.318 | H6: ='TVA IRP'!$U$13 -> 19699.318 | I6: ='TVA IRP'!$U$13 -> 19699.318
