Workbook

Sheet inputs 
A3: input | B3: value | D3: notes | E3: source
A5: W/ sq m | B5: =1000000/7.6/4047 -> 32.512712 | D5: average for fixed angle grid-scale PV based on NREL values https://www.nrel.gov/docs/fy13osti/56290.pdf (2013 paper)
A6: annual kWh/kW Wesleyville | B6: 1270 | D6: https://pvwatts.nrel.gov/pvwatts.php
A7: % of annual generation during TOU summer on-peak times | B7: 0.3326 | D7: calculated from Engineering Climate Datasets for Toronto | E7: https://collaboration.cmc.ec.gc.ca/cmc/climate/Engineer_Climate/CWEEDS_FMCEG/CWEEDS_FMCEG_v_2020/CWEEDS-FMCEG_by_par_prov.CSV/
A8: marginal emissions factor for 2024 (kg/kW array) | B8: 158.86961 | D8: OCAA rooftop solar report | E8: https://www.cleanairalliance.org/making-the-most-of-rooftop-solar/
A9: marginal emissions factor for 2030 (kg/kW array) | B9: 407.38895 | D9: OCAA rooftop solar report | E9: https://www.cleanairalliance.org/making-the-most-of-rooftop-solar/
A11: assumptions
A13: zero production in January due to snow
A14: tilt angle is optimized for each site (30' in all locations)
A15: 14.08% system losses
A16: 180' aximuth
A17: 1.2 DC to AC size ratio
A18: 96% inverter efficiency
A19: albedo from weather file

Sheet analysis by area size
A3: area type | B3: total area for solar (m2) | C3: MW of potential | D3: GWh/yr | E3: summer peak GWh/yr | F3: kT/yr emissions avoided 2024 | G3: kT/yr emissions avoided 2030
A4: Wesleyville | B4: ='site details'!E12 -> 2565798 | C4: =Table13[[#This Row],[total area for solar (m2)]]*'inputs '!B$5/1000000 -> 83.421053 | D4: =Table13[[#This Row],[MW of potential]]*'inputs '!B6/1000 -> 105.94474 | E4: =Table13[[#This Row],[GWh/yr ]]*'inputs '!B$7 -> 35.237219 | F4: =+Table13[[#This Row],[MW of potential]]*'inputs '!B$8/1000 -> 13.25307 | G4: =+Table13[[#This Row],[MW of potential]]*'inputs '!B$9/1000 -> 33.984815
A5: Total | B5: =SUM(B4:B4) -> 2565798 | C5: =SUM(C4:C4) -> 83.421053 | D5: =SUM(D4:D4) -> 105.94474 | E5: =SUM(E4:E4) -> 35.237219 | F5: =SUM(F4:F4) -> 13.25307 | G5: =SUM(G4:G4) -> 33.984815

Sheet site details
A3: site name | B3: subsection | C3: area (acres) | D3: area (m2) | E3: final area (m2) | F3: notes | I3: Sources
A4: Wesleyville | B4: 510630121 | C4: 4 | D4: =C4*4047 -> 16188 | E4: =D4 -> 16188 | I4: Wesleyville | J4: https://www.opg.com/projects-services/projects/new-generation-opportunities/wesleyville/
A5: Wesleyville | B5: 510630099 | C5: 414 | D5: =C5*4047 -> 1675458 | E5: =D5*2/3 -> 1116972
A6: Wesleyville | B6: 510630101 | C6: 34 | D6: =C6*4047 -> 137598 | E6: =D6 -> 137598
A7: Wesleyville | B7: 510630087 | C7: 862 | D7: =C7*4047 -> 3488514 | E7: =D7 -> 3488514
A8: Wesleyville | B8: 510630001 | C8: 19 | D8: =C8*4047 -> 76893 | E8: 0 | F8: over water
A9: Wesleyville | B9: from Port Hope press release | C9: 634 | D9: =C9*4047 -> 2565798 | E9: =D9 -> 2565798
A11: Wesleyville total area | E11: =SUM(E3:E8) -> 4759272
A12: Wesleyville total area for solar | E12: =E9 -> 2565798
