Workbook

Sheet inputs and assumptions
A3: input | B3: value | D3: notes | E3: source
A4: % of residential and commercial roof area suitable for solar | B4: 0.5
A5: % of industrial roof area suitable for solar | B5: 0.5
A6: general % of building roof area suitable for solar (for analysis by size) | B6: 0.5
A7: % of parking lot area suitable for solar | B7: 0.5 | D7: Minimum parking lot area required to have solar in France (parking lots >~1500 sq m)
A8: W/sq m | B8: 186 | E8: https://thegreenwatt.com/standard-solar-panel-sizes-and-wattages-dimensions/
A9: annual kWh/kW in Toronto (small residential rooftop) | B9: 1205 | D9: assumes 4/12 roof pitch | E9: https://pvwatts.nrel.gov/pvwatts.php
A10: annual kWh/kW in Toronto (large rooftops) | B10: 1238 | D10: assumes flat roof and 35% tilt | E10: https://pvwatts.nrel.gov/pvwatts.php
A11: annual kWh/kW in Toronto (open rack) | B11: 1220 | D11: assumes 35% tilt | E11: https://pvwatts.nrel.gov/pvwatts.php
A12: % of annual generation during TOU summer on-peak times | B12: 0.3326 | D12: calculated from Engineering Climate Datasets for Toronto | E12: https://collaboration.cmc.ec.gc.ca/cmc/climate/Engineer_Climate/CWEEDS_FMCEG/CWEEDS_FMCEG_v_2020/CWEEDS-FMCEG_by_par_prov.CSV/
A14: marginal emissions factor for 2024 (kg/kW array) | B14: 158.86961 | D14: OCAA rooftop solar report | E14: https://www.cleanairalliance.org/making-the-most-of-rooftop-solar/
A15: marginal emissions factor for 2030 (kg/kW array) | B15: 407.38895 | D15: OCAA rooftop solar report | E15: https://www.cleanairalliance.org/making-the-most-of-rooftop-solar/
A18: assumptions
A20: roofs can support the weight of solar panels
A21: solar panels are located on sunny parts of the roof and oriented optimally for generation
A22: only parking lots >1500 sq m
A23: uncategorized buildings (buildings on open areas, utilities, transportation) are excluded from the analysis

Sheet analysis by area type
A3: area type | B3: number of roofs | C3: area of roofs (sq m) | D3: usable roof area | E3: GW of potential | F3: annual GWh generation | G3: annual generation during on-peak summer hours | H3: annual kT emissions avoided 2024 | I3: annual kT emissions avoided 2030
A4: Residential | B4: 476155 | C4: 66676572 | D4: =Table1[[#This Row],[area of roofs (sq m)]]*'inputs and assumptions'!B4 -> 33338286 | E4: =Table1[[#This Row],[usable roof area]]*'inputs and assumptions'!B$8/1000000000 -> 6.2009212 | F4: =Table1[[#This Row],[GW of potential]]*'inputs and assumptions'!B9 -> 7472.1101 | G4: =Table1[[#This Row],[annual GWh generation]]*'inputs and assumptions'!B$12 -> 2485.2238 | H4: =Table1[[#This Row],[GW of potential]]*'inputs and assumptions'!B$14 -> 985.13796 | I4: =Table1[[#This Row],[GW of potential]]*'inputs and assumptions'!B$15 -> 2526.1868
A5: Employment Industrial | B5: 11348 | C5: 21082815 | D5: =Table1[[#This Row],[area of roofs (sq m)]]*'inputs and assumptions'!B5 -> 10541407 | E5: =Table1[[#This Row],[usable roof area]]*'inputs and assumptions'!B$8/1000000000 -> 1.9607018 | F5: =Table1[[#This Row],[GW of potential]]*'inputs and assumptions'!B10 -> 2427.3488 | G5: =Table1[[#This Row],[annual GWh generation]]*'inputs and assumptions'!B$12 -> 807.33622 | H5: =Table1[[#This Row],[GW of potential]]*'inputs and assumptions'!B$14 -> 311.49594 | I5: =Table1[[#This Row],[GW of potential]]*'inputs and assumptions'!B$15 -> 798.76825
A6: Institutional | B6: 1262 | C6: 994021.95 | D6: =Table1[[#This Row],[area of roofs (sq m)]]*'inputs and assumptions'!B4 -> 497010.97 | E6: =Table1[[#This Row],[usable roof area]]*'inputs and assumptions'!B$8/1000000000 -> 0.092444041 | F6: =Table1[[#This Row],[GW of potential]]*'inputs and assumptions'!B10 -> 114.44572 | G6: =Table1[[#This Row],[annual GWh generation]]*'inputs and assumptions'!B$12 -> 38.064648 | H6: =Table1[[#This Row],[GW of potential]]*'inputs and assumptions'!B$14 -> 14.686549 | I6: =Table1[[#This Row],[GW of potential]]*'inputs and assumptions'!B$15 -> 37.660681
A7: Commercial Residential Employment | B7: 927 | C7: 536878.86 | D7: =Table1[[#This Row],[area of roofs (sq m)]]*'inputs and assumptions'!B4 -> 268439.43 | E7: =Table1[[#This Row],[usable roof area]]*'inputs and assumptions'!B$8/1000000000 -> 0.049929734 | F7: =Table1[[#This Row],[GW of potential]]*'inputs and assumptions'!B10 -> 61.813011 | G7: =Table1[[#This Row],[annual GWh generation]]*'inputs and assumptions'!B$12 -> 20.559007 | H7: =Table1[[#This Row],[GW of potential]]*'inputs and assumptions'!B$14 -> 7.9323175 | I7: =Table1[[#This Row],[GW of potential]]*'inputs and assumptions'!B$15 -> 20.340822
A8: Residential Apartment | B8: 7451 | C8: 4059785.3 | D8: =Table1[[#This Row],[area of roofs (sq m)]]*'inputs and assumptions'!B4 -> 2029892.6 | E8: =Table1[[#This Row],[usable roof area]]*'inputs and assumptions'!B$8/1000000000 -> 0.37756003 | F8: =Table1[[#This Row],[GW of potential]]*'inputs and assumptions'!B10 -> 467.41932 | G8: =Table1[[#This Row],[annual GWh generation]]*'inputs and assumptions'!B$12 -> 155.46367 | H8: =Table1[[#This Row],[GW of potential]]*'inputs and assumptions'!B$14 -> 59.982816 | I8: =Table1[[#This Row],[GW of potential]]*'inputs and assumptions'!B$15 -> 153.81379
A9: Commercial | B9: 254 | C9: 149300.32 | D9: =Table1[[#This Row],[area of roofs (sq m)]]*'inputs and assumptions'!B4 -> 74650.16 | E9: =Table1[[#This Row],[usable roof area]]*'inputs and assumptions'!B$8/1000000000 -> 0.01388493 | F9: =Table1[[#This Row],[GW of potential]]*'inputs and assumptions'!B10 -> 17.189543 | G9: =Table1[[#This Row],[annual GWh generation]]*'inputs and assumptions'!B$12 -> 5.717242 | H9: =Table1[[#This Row],[GW of potential]]*'inputs and assumptions'!B$14 -> 2.2058934 | I9: =Table1[[#This Row],[GW of potential]]*'inputs and assumptions'!B$15 -> 5.656567
A10: Commercial Residential | B10: 23643 | C10: 11797096 | D10: =Table1[[#This Row],[area of roofs (sq m)]]*'inputs and assumptions'!B4 -> 5898547.9 | E10: =Table1[[#This Row],[usable roof area]]*'inputs and assumptions'!B$8/1000000000 -> 1.0971299 | F10: =Table1[[#This Row],[GW of potential]]*'inputs and assumptions'!B10 -> 1358.2468 | G10: =Table1[[#This Row],[annual GWh generation]]*'inputs and assumptions'!B$12 -> 451.7529 | H10: =Table1[[#This Row],[GW of potential]]*'inputs and assumptions'!B$14 -> 174.30061 | I10: =Table1[[#This Row],[GW of potential]]*'inputs and assumptions'!B$15 -> 446.95861
A11: Parking lot | B11: 7340 | C11: 51353701 | D11: =Table1[[#This Row],[area of roofs (sq m)]]*'inputs and assumptions'!B7 -> 25676851 | E11: =Table1[[#This Row],[usable roof area]]*'inputs and assumptions'!B$8/1000000000 -> 4.7758942 | F11: =Table1[[#This Row],[GW of potential]]*'inputs and assumptions'!B11 -> 5826.591 | G11: =Table1[[#This Row],[annual GWh generation]]*'inputs and assumptions'!B$12 -> 1937.9242 | H11: =Table1[[#This Row],[GW of potential]]*'inputs and assumptions'!B$14 -> 758.74447 | I11: =Table1[[#This Row],[GW of potential]]*'inputs and assumptions'!B$15 -> 1945.6466
A12: Uncategorized building (buildings that are in zones categorized as Open Spaces, Utilities and Transportation, and unzoned areas) | B12: 45321 | C12: 30311783 | D12: =Table1[[#This Row],[area of roofs (sq m)]]*'inputs and assumptions'!B4 -> 15155891 | E12: =Table1[[#This Row],[usable roof area]]*'inputs and assumptions'!B$8/1000000000 -> 2.8189958 | F12: =Table1[[#This Row],[GW of potential]]*'inputs and assumptions'!B10 -> 3489.9168 | G12: =Table1[[#This Row],[annual GWh generation]]*'inputs and assumptions'!B$12 -> 1160.7463 | H12: =Table1[[#This Row],[GW of potential]]*'inputs and assumptions'!B$14 -> 447.85277 | I12: =Table1[[#This Row],[GW of potential]]*'inputs and assumptions'!B$15 -> 1148.4277
A14: Total (excluding uncategorized buildings) | B14: =SUM(B4:B11) -> 528380 | C14: =SUM(C4:C11) -> 1.5665017e+08 | D14: =SUM(D4:D11) -> 78325085 | E14: =SUM(E4:E11) -> 14.568466 | F14: =SUM(F4:F11) -> 17745.164 | G14: =SUM(G4:G11) -> 5902.0416 | H14: =SUM(H4:H11) -> 2314.4865 | I14: =SUM(I4:I11) -> 5935.0321
A17: Table 1: Parking lot solar potential in Toronto
A19: area covered by solar panels | B19: GW | C19: annual TWh generation potential | D19: % of Toronto's total electricity concumption in 2023 | G19: kT GHGe avoided 2024 | H19: kT GHGe avoided 2030 | I19: number of homes powered per year
A20: 0.7 | B20: =B22*70/50 -> 6.6862519 | C20: =C22*70/50 -> 8.1572273 | D20: =C20/23.7 -> 0.34418681 | G20: =G22*70/50 -> 1062.2423 | H20: =H22*70/50 -> 2723.9052 | I20: =C20*1000000/9 -> 906358.59
A21: 0.6 | B21: =B22*60/50 -> 5.7310731 | C21: =C22*60/50 -> 6.9919091 | D21: =C21/23.7 -> 0.29501726 | G21: =G22*60/50 -> 910.49336 | H21: =H22*60/50 -> 2334.7759 | I21: =C21*1000000/9 -> 776878.79
A22: 0.5 | B22: =E11 -> 4.7758942 | C22: =F11/1000 -> 5.826591 | D22: =C22/23.7 -> 0.24584772 | G22: =H11 -> 758.74447 | H22: =I11 -> 1945.6466 | I22: =C22*1000000/9 -> 647398.99
