Workbook
Name _ftn5: methodology!$A$19
Name _ftn6: methodology!$A$20
Name _ftn7: methodology!$A$21
Name _ftn8: methodology!$A$22
Name _ftnref1: methodology!$A$12
Name _ftnref2: methodology!$A$13
Name _ftnref6: methodology!$A$15

Sheet Intro
A2: An analysis of the climate and financial benefits of rooftop solar arrays on Ontario’s single-family homes and the barriers to adoption
A4: This spreadsheet is designed to help the user understand the calculations made for the report titled "An analysis of the climate and financial benefits of rooftop solar arrays on Ontario's single-family homes and the barriers to adoption". Users also have the opportunity to change some of the assumptions and data points used and test the impacts on the outcomes.
A6: The input data sheet is where the raw data related to the rooftop solar arrays is shown alongside the data sources and any comments on that data. Users can change these values to test the impacts on the calculated outcomes.
A8: The utilitiy rates sheet is where the raw data related to utility rates are found while the quotes sheet shows quotes for the installed cost of rooftop solar arrays collected from homeowners and installers across Ontario. Users can change these values to test the impacts on the calculated outcomes.
A10: The outputs sheet show the calculated values that are derived from the input data and utility rates. These are used for the report's analysis. If a user changes the input data, the corresponding values in the outputs sheet will change. The outputs sheet is not designed to be altered by the user.
A12: The methodology sheet outlines the methodology used and lists the assumptions that were made in this analysis.
A14: Users can also review the calculations and raw solar data used for this analysis in the ON avg, Alectra, Toronto, Ottawa, London, Sudbury, emissions, and kWh per yr sheets.

Sheet input
A1: Input name and units | B1: input value | C1: notes and sources
A2: solar system size
A3: small size (kW) | B3: 5
A4: medium size (kW) | B4: 7.5
A5: large size (kW) | B5: 10
A7: inflation rate
A8: inflation rate | B8: 0
A9: discount rate | B9: 0.077
A11: upfront cost, not including connection fees
A12: 5kW | B12: =quotes!B$43+input!B3*quotes!B$42 -> 18238.44
A13: 7.5 kW | B13: =quotes!B$43+input!B4*quotes!B$42 -> 23678.022
A14: 10 kW | B14: =quotes!B$43+input!B5*quotes!B$42 -> 29117.605
A15: 15 kW | B15: =quotes!B$43+15*quotes!B$42 -> 39996.769
A16: 20 kW | B16: =quotes!B$43+20*quotes!B$42 -> 50875.934
A17: 25 kW | B17: =quotes!B$43+25*quotes!B$42 -> 61755.099
A20: replacement inverter costs
A21: inverter lifespan | B21: 15
A22: 5kW | B22: =+quotes!B83 -> 3446.6
A23: 7.5 kW | B23: =+quotes!B84 -> 4154.6
A24: 10 kW | B24: =+quotes!B85 -> 4753
A25: 15 kW | B25: =quotes!B88 -> 6077.6667
A26: 20 kW | B26: =quotes!B89 -> 7384.0667
A27: 25 kW | B27: =quotes!B90 -> 8690.4667
A29: incentives
A30: incentive amount ($/kW) | B30: 0
A32: average electricity use
A33: avg annual res electricity use (kWh) | B33: =750*12 -> 9000 | C33: https://www.oeb.ca/consultations-and-projects/policy-initiatives-and-consultations/defining-ontarios-typical
A34: avg annual EV home charging electricity use (kWh) | B34: =(275+367)/2*12 -> 3852 | C34: https://www.oeb.ca/consultations-and-projects/policy-initiatives-and-consultations/defining-ontarios-typical
A35: avg annual ccASHP electricity use (kWh) | B35: =74.6/0.0036/2.7 -> 7674.8971 | C35: Tables 33 and 16 of https://oee.nrcan.gc.ca/corporate/statistics/neud/dpa/menus/trends/comprehensive/trends_res_on.cfm
A36: avg annual HPWH electricity use (kWh) | B36: =10.7/0.0036/3.75 -> 792.59259 | C36: based on an OEB analysis of gas demand side management options - derived from values in Table 1 on page 31 of https://www.oeb.ca/sites/default/files/OEB-Natural-Gas-DSM-TRM-V5.0-20201112.pdf
A37: avg monthly electricity use | B37: =B33/12 -> 750
A38: summer monthly electricity use with EV, ccASHP, HPWH | B38: =(B34+B36+B33)/12 -> 1137.0494
A39: winter monthly electricity use with EV, ccASHP, HPWH | B39: =B38+B35/6 -> 2416.1989

Sheet Outcomes
A1: Table 1: annual solar panel electricity generation in Ontario
B2: kW solar | C2: kwh/yr
A3: Ontario average generation (5 kW) | B3: 5 | C3: =B3*'kWh per yr'!G$22 -> 5450.2351
A4: Ontario average generation (7.5 kW) | B4: 7.5 | C4: =B4*'kWh per yr'!G$22 -> 8175.3526
A5: Ontario average generation (10 kW) | B5: 10 | C5: =B5*'kWh per yr'!G$22 -> 10900.47
A6: Ontario average generation (15 kW) | B6: 15 | C6: =B6*'kWh per yr'!G$22 -> 16350.705
A7: Ontario average generation (20 kW) | B7: 20 | C7: =B7*'kWh per yr'!G$22 -> 21800.94
A8: Ontario average generation (25 kW) | B8: 25 | C8: =B8*'kWh per yr'!G$22 -> 27251.175
A10: Table 2: Annual average residential consumption in Ontario
B11: kWh/yr | C11: kW solar
A12: Ontario average residential use | B12: 9000 | C12: =ROUNDUP(B12/C$5*10,0) -> 9
A13: Ontario average residential use with EV charging | B13: 12852 | C13: =ROUNDUP(B13/C$5*10,0) -> 12
A14: Ontario average residential use with ccASHP&HPWH | B14: 17467 | C14: =ROUNDUP(B14/C$5*10,0) -> 17
A15: Ontario average residential use with EV charging and ccASHP &HPWH | B15: 21319 | C15: =ROUNDUP(B15/C$5*10,0) -> 20
A17: Table 5: Average Ontario homeowner annual electricity bill savings with a 10 kW solar array with different utility rate structures
B18: TOU rates | C18: ULO rates | D18: Tiered rates
A19: 2024 savings | B19: ='ON avg'!N8 -> 1584.6879 | C19: ='ON avg'!M8 -> 1580.8229 | D19: ='ON avg'!O8 -> 1288.409
A21: Payback years for solar using TOU rtes in Ontario cities
A22: electricity rate rise (use the input table to change this value) | B22: =input!B8 -> 0
A23: incentives $/kW (use the input table to change this value) | B23: =input!B30 -> 0
B24: 5 kW | C24: 7.5 kW | D24: 10 kW | E24: 15 kW | F24: 20 kW | G24: 25 kW
A25: Toronto Hydro | B25: =IF(Toronto!N6<2, "ND", Toronto!N6) -> 29 | C25: =IF(Toronto!O6<2, "ND", Toronto!O6) -> 25 | D25: =IF(Toronto!P6<2, "ND", Toronto!P6) -> 22 | E25: =IF(Toronto!Q6<2, "ND", Toronto!Q6) -> ND | F25: =IF(Toronto!R6<2, "ND", Toronto!R6) -> ND | G25: =IF(Toronto!S6<2, "ND", Toronto!S6) -> ND
A26: Hydro Ottawa | B26: =IF(Ottawa!N$6<2, "ND", Ottawa!N$6) -> 32 | C26: =IF(Ottawa!O$6<2, "ND", Ottawa!O$6) -> 27 | D26: =IF(Ottawa!P$6<2, "ND", Ottawa!P$6) -> 24 | E26: =IF(Ottawa!Q$6<2, "ND", Ottawa!Q$6) -> ND | F26: =IF(Ottawa!R$6<2, "ND", Ottawa!R$6) -> ND | G26: =IF(Ottawa!S$6<2, "ND", Ottawa!S$6) -> ND
A27: London Hydro | B27: =IF(London!N$6<2, "ND", London!N$6) -> 29 | C27: =IF(London!O$6<2, "ND", London!O$6) -> 25 | D27: =IF(London!P$6<2, "ND", London!P$6) -> 22 | E27: =IF(London!Q$6<2, "ND", London!Q$6) -> 20 | F27: =IF(London!R$6<2, "ND", London!R$6) -> 19 | G27: =IF(London!S$6<2, "ND", London!S$6) -> 26
A28: Greater Sudbury Hydro | B28: =IF(Sudbury!N$6<2, "ND", Sudbury!N$6) -> 31 | C28: =IF(Sudbury!O$6<2, "ND", Sudbury!O$6) -> 26 | D28: =IF(Sudbury!P$6<2, "ND", Sudbury!P$6) -> 24 | E28: =IF(Sudbury!Q$6<2, "ND", Sudbury!Q$6) -> ND | F28: =IF(Sudbury!R$6<2, "ND", Sudbury!R$6) -> ND | G28: =IF(Sudbury!S$6<2, "ND", Sudbury!S$6) -> ND
A29: Alectra Utilties | B29: =IF(Alectra!Q$6<2, "ND", Alectra!Q$6) -> 29 | C29: =IF(Alectra!R$6<2, "ND", Alectra!R$6) -> 25 | D29: =IF(Alectra!S$6<2, "ND", Alectra!S$6) -> 23 | E29: =IF(Alectra!T$6<2, "ND", Alectra!T$6) -> 21 | F29: =IF(Alectra!U$6<2, "ND", Alectra!U$6) -> 20 | G29: =IF(Alectra!V$6<2, "ND", Alectra!V$6) -> 19

Sheet quotes
A1: price including HST | B1: kW (DC) | C1: $/W (no grant)
A2: =17854-'utility rates'!L34 -> 15384 | B2: 5.4 | C2: =A2/1000/B2 -> 2.8488889
A3: =14620*1.13 -> 16520.6 | B3: 6 | C3: =A3/1000/B3 -> 2.7534333
A4: =15000*1.13 -> 16950 | B4: 5.3 | C4: =A4/1000/B4 -> 3.1981132
A5: =19487.8 -'utility rates'!L34 -> 17017.8 | B5: 6.25 | C5: =A5/1000/B5 -> 2.722848
A6: =18000*1.13-550 -> 19790 | B6: 5 | C6: =A6/1000/B6 -> 3.958
A7: =+(19990-'utility rates'!L34)*1.13 -> 19797.6 | B7: 6.5 | C7: =A7/1000/B7 -> 3.0457846
A8: =17620*1.13 -> 19910.6 | B8: 6 | C8: =A8/1000/B8 -> 3.3184333
A9: =18000*1.13 -> 20340 | B9: 5.3 | C9: =A9/1000/B9 -> 3.8377358
A10: =20000*1.13-1500 -> 21100 | B10: 6 | C10: =A10/1000/B10 -> 3.5166667
A11: =19000*1.13 -> 21470 | B11: 7.7 | C11: =A11/1000/B11 -> 2.7883117
A12: =+(21508-'utility rates'!L34)*1.13 -> 21512.94 | B12: 5.03 | C12: =A12/1000/B12 -> 4.2769264
A13: =19179*1.13 -> 21672.27 | B13: 5.4 | C13: =A13/1000/B13 -> 4.0133833
A14: =22454*1.13-2156 -> 23217.02 | B14: 7.37 | C14: =A14/1000/B14 -> 3.1502062
A15: =(21070+5000)-'utility rates'!L34 -> 23600 | B15: 8.82 | C15: =A15/1000/B15 -> 2.675737
A16: =+Table1[[#This Row],[kW (DC)]]*Table1[[#This Row],[$/W (no grant)]]*1000 -> 24200 | B16: 10 | C16: 2.42
A17: =26732-'utility rates'!L34 -> 24262 | B17: 9.38 | C17: =A17/1000/B17 -> 2.5865672
A18: =26843-2156 -> 24687 | B18: 8.16 | C18: =A18/1000/B18 -> 3.0253676
A19: =26732-1500 -> 25232 | B19: 9.38 | C19: =A19/1000/B19 -> 2.6899787
A20: =22600*1.13 -> 25538 | B20: 7.7 | C20: =A20/1000/B20 -> 3.3166234
A21: =23500*1.13-636 -> 25919 | B21: 7.5 | C21: =A21/1000/B21 -> 3.4558667
A22: =23500*1.13 -> 26555 | B22: 10.1 | C22: =A22/1000/B22 -> 2.6292079
A23: =25000*1.13 -1500 -> 26750 | B23: 9.12 | C23: =A23/1000/B23 -> 2.933114
A24: =28916-2156 -> 26760 | B24: 7.46 | C24: =A24/1000/B24 -> 3.5871314
A25: =25601+5000-'utility rates'!L34 -> 28131 | B25: 8.82 | C25: =A25/1000/B25 -> 3.1894558
A26: =(27492-'utility rates'!L34)*1.13 -> 28274.86 | B26: 8.84 | C26: =A26/1000/B26 -> 3.1985136
A27: =27000*1.13-721 -> 29789 | B27: 10 | C27: =A27/1000/B27 -> 2.9789
A28: =+Table1[[#This Row],[kW (DC)]]*Table1[[#This Row],[$/W (no grant)]]*1000 -> 30500 | B28: 10 | C28: 3.05
A29: =28000*1.13 -> 31640 | B29: 10.1 | C29: =A29/1000/B29 -> 3.1326733
A30: =30000*1.13-1500 -> 32400 | B30: 12 | C30: =A30/1000/B30 -> 2.7
A31: =26700*1.13-2156 -> 28015 | B31: 9 | C31: =A31/1000/B31 -> 3.1127778
A32: =18600*1.13-2156 -> 18862 | B32: 7.28 | C32: =A32/1000/B32 -> 2.5909341
A33: =23887*1.13-2156 -> 24836.31 | B33: 5.03 | C33: =A33/1000/B33 -> 4.9376362
A34: =20429*1.13-2156 -> 20928.77 | B34: 3.84 | C34: =A34/1000/B34 -> 5.4502005
A35: =(36219.51+5000)*1.13 -2000 -> 44578.046 | B35: 17.5 | C35: =A35/1000/B35 -> 2.5473169
A36: =(30424.39+5000)*1.13-2000 -> 38029.561 | B36: 15 | C36: =A36/1000/B36 -> 2.535304
A37: =(34183+5000)*1.13 -2000 -> 42276.79 | B37: 14.71 | C37: =A37/1000/B37 -> 2.874017
A38: =+(45113+5000)*1.13-2000 -> 54627.69 | B38: 19.57 | C38: =A38/1000/B38 -> 2.7913996
B40: average | C40: =AVERAGE(Table1[$/W (no grant)]) -> 3.1847961
A42: slope | B42: =SLOPE(A2:A38,B2:B38) -> 2175.833 | D42: roughly $2100/kW, $8400 fixed cost
...

Sheet utility rates
A1: NOTE: The OEB has ruled that net metered customers, including those with solar panels, must have the option to choose between tiered pricing, TOU and ULO prices by Nov 1, 2023
A2: ref: https://www.oeb.ca/sites/default/files/OEBStaff-Bulletin-TOU-Option-for-Net-Metered-Customers-20230117.pdf
A5: Electricity Base Rates
B7: Toronto Hydro | C7: Ottawa Hydro | D7: London Hydro | E7: Sudbury Hydro | F7: Alectra Utilities Penetanguishene | I7: TOU summer | J7: TOU winter | K7: ULO
A8: source | B8: https://www.torontohydro.com/for-home/rates | C8: https://hydroottawa.com/en/accounts-services/accounts/rates-conditions/residential-rates | D8: https://www.londonhydro.com/accounts-services/electricity-rates/residential-electricity-rates | E8: https://sudburyhydro.com/wp-content/uploads/2023/08/March-23-2023-Tarrif-of-Rates-and-Charges.pdf | F8: https://alectrautilities.com/rates | I8: May 1 to Oct 31 | J8: Nov 1 to Apr 30 | K8: all year
A9: basic rate ($/kWh) | B9: =(8.7*24*2 + 8.7*12*5 + 12.2*6*5 + 18.2*6*5)/(7*24)/100 -> 0.11021429 | C9: =(8.7*24*2 + 8.7*12*5 + 12.2*6*5 + 18.2*6*5)/(7*24)/100 -> 0.11021429 | D9: =(8.7*24*2 + 8.7*12*5 + 12.2*6*5 + 18.2*6*5)/(7*24)/100 -> 0.11021429 | E9: =(8.7*24*2 + 8.7*12*5 + 12.2*6*5 + 18.2*6*5)/(7*24)/100 -> 0.11021429 | F9: =(8.7*24*2 + 8.7*12*5 + 12.2*6*5 + 18.2*6*5)/(7*24)/100 -> 0.11021429 | H9: on-peak | I9: 11-5 | J9: 7-11, 5-7 | K9: 4-9
A10: electricity distribution or delivery ($/kWh) | B10: 0.00314 | C10: =0.0029+0.00005 -> 0.00295 | D10: =0.0051+0.0105+0.008 -> 0.0236 | E10: 0.0049 | F10: 0.0047 | H10: mid-peak | I10: 7-11, 5-7 | J10: 11-5 | K10: 7-4, 9-11
A11: electricity transmission charge ($/kWh) | B11: 0.02069 | C11: 0.0173 | E11: =0.009+0.0066 -> 0.0156 | F11: 0.0161 | H11: off-peak | I11: 7-7, weekends | J11: 7-7, weekends | K11: 7-11 weekends
A12: regulatory charges ($/kWh) | B12: 0.0059 | C12: 0.0059 | D12: =0.0041+0.0004+0.0014 -> 0.0059 | E12: 0.0055 | F12: 0.0059 | H12: low overnight | K12: 11-7
A13: HST | B13: 0.13 | C13: 0.13 | D13: 0.13 | E13: 0.13 | F13: 0.13
A14: Ontario Electricity Rebate | B14: 0.193 | C14: 0.193 | D14: 0.193 | E14: 0.193 | F14: 0.193
A15: line loss adjustment factor | B15: 1.0295 | C15: 1.0338 | D15: 1.0288 | E15: 1.0372 | F15: 1.0369
A16: total electricity variable cost ($/kWh) | B16: =(SUM(B9:B10)*B15*(1-B14))*(1+B13) -> 0.10641829 | C16: =(SUM(C9:C10)*C15*(1-C14))*(1+C13) -> 0.10668366 | D16: =(SUM(D9:D10)*D15*(1-D14))*(1+D13) -> 0.12554095 | E16: =(SUM(E9:E10)*E15*(1-E14))*(1+E13) -> 0.1088789 | F16: =(SUM(F9:F10)*F15*(1-F14))*(1+F13) -> 0.10865829
A19: Total $/kWh
C20: Electricity only cost/kWh | H20: 0 | I20: delivery and regulatory cost/kWh | O20: Total cost/kWh
B21: hourly base rate | C21: Toronto | D21: Ottawa | E21: London | F21: Sudbury | G21: Alectra | H21: Ontario average | I21: Toronto | J21: Ottawa | K21: London | L21: Sudbury | M21: Alectra | N21: Ontario average | O21: Toronto | P21: Ottawa | Q21: London | R21: Sudbury | S21: Alectra | T21: Ontario average
A22: TOU off peak | B22: 0.087 | C22: =($B22)*(1-B$14)*(1+B$13) -> 0.07933617 | D22: =($B22)*(1-C$14)*(1+C$13) -> 0.07933617 | E22: =($B22)*(1-D$14)*(1+D$13) -> 0.07933617 | F22: =($B22)*(1-E$14)*(1+E$13) -> 0.07933617 | G22: =($B22)*(1-F$14)*(1+F$13) -> 0.07933617 | H22: =AVERAGE(C22:F22) -> 0.07933617 | I22: =(B$10)*(1-B$14)*(1+B$13)+(B$11+B$12)*B$15*(1-B$14)*(1+B$13)-$B22*(B$15-1)*(1-B$14)*(1+B$13) -> 0.025485974 | J22: =(C$10)*(1-C$14)*(1+C$13)+(C$11+C$12)*C$15*(1-C$14)*(1+C$13)-$B22*(C$15-1)*(1-C$14)*(1+C$13) -> 0.021879967 | K22: =(D$10)*(1-D$14)*(1+D$13)+(D$11+D$12)*D$15*(1-D$14)*(1+D$13)-$B22*(D$15-1)*(1-D$14)*(1+D$13) -> 0.024771415 | L22: =(E$10)*(1-E$14)*(1+E$13)+(E$11+E$12)*E$15*(1-E$14)*(1+E$13)-$B22*(E$15-1)*(1-E$14)*(1+E$13) -> 0.021474131 | M22: =(F$10)*(1-F$14)*(1+F$13)+(F$11+F$12)*F$15*(1-F$14)*(1+F$13)-$B22*(F$15-1)*(1-F$14)*(1+F$13) -> 0.022160781 | N22: =AVERAGE(I22:M22) -> 0.023154454 | O22: =C22+I22 -> 0.10482214 | P22: =D22+J22 -> 0.10121614 | Q22: =E22+K22 -> 0.10410759 | R22: =F22+L22 -> 0.1008103 | S22: =G22+M22 -> 0.10149695 | T22: =AVERAGE(O22:S22) -> 0.10249062
A23: TOU on peak | B23: 0.182 | C23: =($B23)*(1-B$14)*(1+B$13) -> 0.16596762 | D23: =($B23)*(1-C$14)*(1+C$13) -> 0.16596762 | E23: =($B23)*(1-D$14)*(1+D$13) -> 0.16596762 | F23: =($B23)*(1-E$14)*(1+E$13) -> 0.16596762 | G23: =($B23)*(1-F$14)*(1+F$13) -> 0.16596762 | H23: =AVERAGE(C23:F23) -> 0.16596762 | I23: =(B$10)*(1-B$14)*(1+B$13)+(B$11+B$12)*B$15*(1-B$14)*(1+B$13)-$B23*(B$15-1)*(1-B$14)*(1+B$13) -> 0.022930346 | J23: =(C$10)*(1-C$14)*(1+C$13)+(C$11+C$12)*C$15*(1-C$14)*(1+C$13)-$B23*(C$15-1)*(1-C$14)*(1+C$13) -> 0.018951824 | K23: =(D$10)*(1-D$14)*(1+D$13)+(D$11+D$12)*D$15*(1-D$14)*(1+D$13)-$B23*(D$15-1)*(1-D$14)*(1+D$13) -> 0.022276429 | L23: =(E$10)*(1-E$14)*(1+E$13)+(E$11+E$12)*E$15*(1-E$14)*(1+E$13)-$B23*(E$15-1)*(1-E$14)*(1+E$13) -> 0.018251441 | M23: =(F$10)*(1-F$14)*(1+F$13)+(F$11+F$12)*F$15*(1-F$14)*(1+F$13)-$B23*(F$15-1)*(1-F$14)*(1+F$13) -> 0.01896408 | N23: =AVERAGE(I23:M23) -> 0.020274824 | O23: =C23+I23 -> 0.18889797 | P23: =D23+J23 -> 0.18491944 | Q23: =E23+K23 -> 0.18824405 | R23: =F23+L23 -> 0.18421906 | S23: =G23+M23 -> 0.1849317 | T23: =AVERAGE(O23:S23) -> 0.18624244
A24: TOU mid peak | B24: 0.122 | C24: =($B24)*(1-B$14)*(1+B$13) -> 0.11125302 | D24: =($B24)*(1-C$14)*(1+C$13) -> 0.11125302 | E24: =($B24)*(1-D$14)*(1+D$13) -> 0.11125302 | F24: =($B24)*(1-E$14)*(1+E$13) -> 0.11125302 | G24: =($B24)*(1-F$14)*(1+F$13) -> 0.11125302 | H24: =AVERAGE(C24:F24) -> 0.11125302 | I24: =(B$10)*(1-B$14)*(1+B$13)+(B$11+B$12)*B$15*(1-B$14)*(1+B$13)-$B24*(B$15-1)*(1-B$14)*(1+B$13) -> 0.024544427 | J24: =(C$10)*(1-C$14)*(1+C$13)+(C$11+C$12)*C$15*(1-C$14)*(1+C$13)-$B24*(C$15-1)*(1-C$14)*(1+C$13) -> 0.020801178 | K24: =(D$10)*(1-D$14)*(1+D$13)+(D$11+D$12)*D$15*(1-D$14)*(1+D$13)-$B24*(D$15-1)*(1-D$14)*(1+D$13) -> 0.02385221 | L24: =(E$10)*(1-E$14)*(1+E$13)+(E$11+E$12)*E$15*(1-E$14)*(1+E$13)-$B24*(E$15-1)*(1-E$14)*(1+E$13) -> 0.020286824 | M24: =(F$10)*(1-F$14)*(1+F$13)+(F$11+F$12)*F$15*(1-F$14)*(1+F$13)-$B24*(F$15-1)*(1-F$14)*(1+F$13) -> 0.020983049 | N24: =AVERAGE(I24:M24) -> 0.022093538 | O24: =C24+I24 -> 0.13579745 | P24: =D24+J24 -> 0.1320542 | Q24: =E24+K24 -> 0.13510523 | R24: =F24+L24 -> 0.13153984 | S24: =G24+M24 -> 0.13223607 | T24: =AVERAGE(O24:S24) -> 0.13334656
A25: ULO on peak | B25: 0.286 | C25: =($B25)*(1-B$14)*(1+B$13) -> 0.26080626 | D25: =($B25)*(1-C$14)*(1+C$13) -> 0.26080626 | E25: =($B25)*(1-D$14)*(1+D$13) -> 0.26080626 | F25: =($B25)*(1-E$14)*(1+E$13) -> 0.26080626 | G25: =($B25)*(1-F$14)*(1+F$13) -> 0.26080626 | H25: =AVERAGE(C25:F25) -> 0.26080626 | I25: =(B$10)*(1-B$14)*(1+B$13)+(B$11+B$12)*B$15*(1-B$14)*(1+B$13)-$B25*(B$15-1)*(1-B$14)*(1+B$13) -> 0.020132606 | J25: =(C$10)*(1-C$14)*(1+C$13)+(C$11+C$12)*C$15*(1-C$14)*(1+C$13)-$B25*(C$15-1)*(1-C$14)*(1+C$13) -> 0.015746278 | K25: =(D$10)*(1-D$14)*(1+D$13)+(D$11+D$12)*D$15*(1-D$14)*(1+D$13)-$B25*(D$15-1)*(1-D$14)*(1+D$13) -> 0.019545076 | L25: =(E$10)*(1-E$14)*(1+E$13)+(E$11+E$12)*E$15*(1-E$14)*(1+E$13)-$B25*(E$15-1)*(1-E$14)*(1+E$13) -> 0.014723444 | M25: =(F$10)*(1-F$14)*(1+F$13)+(F$11+F$12)*F$15*(1-F$14)*(1+F$13)-$B25*(F$15-1)*(1-F$14)*(1+F$13) -> 0.015464535 | N25: =AVERAGE(I25:M25) -> 0.017122388 | O25: =C25+I25 -> 0.28093887 | P25: =D25+J25 -> 0.27655254 | Q25: =E25+K25 -> 0.28035134 | R25: =F25+L25 -> 0.2755297 | S25: =G25+M25 -> 0.27627079 | T25: =AVERAGE(O25:S25) -> 0.27792865
A26: ULO mid peak | B26: 0.122 | C26: =($B26)*(1-B$14)*(1+B$13) -> 0.11125302 | D26: =($B26)*(1-C$14)*(1+C$13) -> 0.11125302 | E26: =($B26)*(1-D$14)*(1+D$13) -> 0.11125302 | F26: =($B26)*(1-E$14)*(1+E$13) -> 0.11125302 | G26: =($B26)*(1-F$14)*(1+F$13) -> 0.11125302 | H26: =AVERAGE(C26:F26) -> 0.11125302 | I26: =(B$10)*(1-B$14)*(1+B$13)+(B$11+B$12)*B$15*(1-B$14)*(1+B$13)-$B26*(B$15-1)*(1-B$14)*(1+B$13) -> 0.024544427 | J26: =(C$10)*(1-C$14)*(1+C$13)+(C$11+C$12)*C$15*(1-C$14)*(1+C$13)-$B26*(C$15-1)*(1-C$14)*(1+C$13) -> 0.020801178 | K26: =(D$10)*(1-D$14)*(1+D$13)+(D$11+D$12)*D$15*(1-D$14)*(1+D$13)-$B26*(D$15-1)*(1-D$14)*(1+D$13) -> 0.02385221 | L26: =(E$10)*(1-E$14)*(1+E$13)+(E$11+E$12)*E$15*(1-E$14)*(1+E$13)-$B26*(E$15-1)*(1-E$14)*(1+E$13) -> 0.020286824 | M26: =(F$10)*(1-F$14)*(1+F$13)+(F$11+F$12)*F$15*(1-F$14)*(1+F$13)-$B26*(F$15-1)*(1-F$14)*(1+F$13) -> 0.020983049 | N26: =AVERAGE(I26:M26) -> 0.022093538 | O26: =C26+I26 -> 0.13579745 | P26: =D26+J26 -> 0.1320542 | Q26: =E26+K26 -> 0.13510523 | R26: =F26+L26 -> 0.13153984 | S26: =G26+M26 -> 0.13223607 | T26: =AVERAGE(O26:S26) -> 0.13334656
A27: ULO off peak | B27: 0.087 | C27: =($B27)*(1-B$14)*(1+B$13) -> 0.07933617 | D27: =($B27)*(1-C$14)*(1+C$13) -> 0.07933617 | E27: =($B27)*(1-D$14)*(1+D$13) -> 0.07933617 | F27: =($B27)*(1-E$14)*(1+E$13) -> 0.07933617 | G27: =($B27)*(1-F$14)*(1+F$13) -> 0.07933617 | H27: =AVERAGE(C27:F27) -> 0.07933617 | I27: =(B$10)*(1-B$14)*(1+B$13)+(B$11+B$12)*B$15*(1-B$14)*(1+B$13)-$B27*(B$15-1)*(1-B$14)*(1+B$13) -> 0.025485974 | J27: =(C$10)*(1-C$14)*(1+C$13)+(C$11+C$12)*C$15*(1-C$14)*(1+C$13)-$B27*(C$15-1)*(1-C$14)*(1+C$13) -> 0.021879967 | K27: =(D$10)*(1-D$14)*(1+D$13)+(D$11+D$12)*D$15*(1-D$14)*(1+D$13)-$B27*(D$15-1)*(1-D$14)*(1+D$13) -> 0.024771415 | L27: =(E$10)*(1-E$14)*(1+E$13)+(E$11+E$12)*E$15*(1-E$14)*(1+E$13)-$B27*(E$15-1)*(1-E$14)*(1+E$13) -> 0.021474131 | M27: =(F$10)*(1-F$14)*(1+F$13)+(F$11+F$12)*F$15*(1-F$14)*(1+F$13)-$B27*(F$15-1)*(1-F$14)*(1+F$13) -> 0.022160781 | N27: =AVERAGE(I27:M27) -> 0.023154454 | O27: =C27+I27 -> 0.10482214 | P27: =D27+J27 -> 0.10121614 | Q27: =E27+K27 -> 0.10410759 | R27: =F27+L27 -> 0.1008103 | S27: =G27+M27 -> 0.10149695 | T27: =AVERAGE(O27:S27) -> 0.10249062
A28: ULO overnight | B28: 0.028 | C28: =($B28)*(1-B$14)*(1+B$13) -> 0.02553348 | D28: =($B28)*(1-C$14)*(1+C$13) -> 0.02553348 | E28: =($B28)*(1-D$14)*(1+D$13) -> 0.02553348 | F28: =($B28)*(1-E$14)*(1+E$13) -> 0.02553348 | G28: =($B28)*(1-F$14)*(1+F$13) -> 0.02553348 | H28: =AVERAGE(C28:F28) -> 0.02553348 | I28: =(B$10)*(1-B$14)*(1+B$13)+(B$11+B$12)*B$15*(1-B$14)*(1+B$13)-$B28*(B$15-1)*(1-B$14)*(1+B$13) -> 0.027073153 | J28: =(C$10)*(1-C$14)*(1+C$13)+(C$11+C$12)*C$15*(1-C$14)*(1+C$13)-$B28*(C$15-1)*(1-C$14)*(1+C$13) -> 0.023698498 | K28: =(D$10)*(1-D$14)*(1+D$13)+(D$11+D$12)*D$15*(1-D$14)*(1+D$13)-$B28*(D$15-1)*(1-D$14)*(1+D$13) -> 0.026320933 | L28: =(E$10)*(1-E$14)*(1+E$13)+(E$11+E$12)*E$15*(1-E$14)*(1+E$13)-$B28*(E$15-1)*(1-E$14)*(1+E$13) -> 0.023475591 | M28: =(F$10)*(1-F$14)*(1+F$13)+(F$11+F$12)*F$15*(1-F$14)*(1+F$13)-$B28*(F$15-1)*(1-F$14)*(1+F$13) -> 0.0241461 | N28: =AVERAGE(I28:M28) -> 0.024942855 | O28: =C28+I28 -> 0.052606633 | P28: =D28+J28 -> 0.049231978 | Q28: =E28+K28 -> 0.051854413 | R28: =F28+L28 -> 0.049009071 | S28: =G28+M28 -> 0.04967958 | T28: =AVERAGE(O28:S28) -> 0.050476335
A29: Tiered lower rate (up to 600 kWh summer, 1000 kWh winter) | B29: 0.103 | C29: =($B29)*(1-B$14)*(1+B$13) -> 0.09392673 | D29: =($B29)*(1-C$14)*(1+C$13) -> 0.09392673 | E29: =($B29)*(1-D$14)*(1+D$13) -> 0.09392673 | F29: =($B29)*(1-E$14)*(1+E$13) -> 0.09392673 | G29: =($B29)*(1-F$14)*(1+F$13) -> 0.09392673 | H29: =AVERAGE(C29:F29) -> 0.09392673 | I29: =(B$10)*(1-B$14)*(1+B$13)+(B$11+B$12)*B$15*(1-B$14)*(1+B$13)-$B29*(B$15-1)*(1-B$14)*(1+B$13) -> 0.025055553 | J29: =(C$10)*(1-C$14)*(1+C$13)+(C$11+C$12)*C$15*(1-C$14)*(1+C$13)-$B29*(C$15-1)*(1-C$14)*(1+C$13) -> 0.021386806 | K29: =(D$10)*(1-D$14)*(1+D$13)+(D$11+D$12)*D$15*(1-D$14)*(1+D$13)-$B29*(D$15-1)*(1-D$14)*(1+D$13) -> 0.024351207 | L29: =(E$10)*(1-E$14)*(1+E$13)+(E$11+E$12)*E$15*(1-E$14)*(1+E$13)-$B29*(E$15-1)*(1-E$14)*(1+E$13) -> 0.020931362 | M29: =(F$10)*(1-F$14)*(1+F$13)+(F$11+F$12)*F$15*(1-F$14)*(1+F$13)-$B29*(F$15-1)*(1-F$14)*(1+F$13) -> 0.021622389 | N29: =AVERAGE(I29:M29) -> 0.022669463 | O29: =C29+I29 -> 0.11898228 | P29: =D29+J29 -> 0.11531354 | Q29: =E29+K29 -> 0.11827794 | R29: =F29+L29 -> 0.11485809 | S29: =G29+M29 -> 0.11554912 | T29: =AVERAGE(O29:S29) -> 0.11659619
A30: Tiered upper rates | B30: 0.125 | C30: =($B30)*(1-B$14)*(1+B$13) -> 0.11398875 | D30: =($B30)*(1-C$14)*(1+C$13) -> 0.11398875 | E30: =($B30)*(1-D$14)*(1+D$13) -> 0.11398875 | F30: =($B30)*(1-E$14)*(1+E$13) -> 0.11398875 | G30: =($B30)*(1-F$14)*(1+F$13) -> 0.11398875 | H30: =AVERAGE(C30:F30) -> 0.11398875 | I30: =(B$10)*(1-B$14)*(1+B$13)+(B$11+B$12)*B$15*(1-B$14)*(1+B$13)-$B30*(B$15-1)*(1-B$14)*(1+B$13) -> 0.024463723 | J30: =(C$10)*(1-C$14)*(1+C$13)+(C$11+C$12)*C$15*(1-C$14)*(1+C$13)-$B30*(C$15-1)*(1-C$14)*(1+C$13) -> 0.02070871 | K30: =(D$10)*(1-D$14)*(1+D$13)+(D$11+D$12)*D$15*(1-D$14)*(1+D$13)-$B30*(D$15-1)*(1-D$14)*(1+D$13) -> 0.023773421 | L30: =(E$10)*(1-E$14)*(1+E$13)+(E$11+E$12)*E$15*(1-E$14)*(1+E$13)-$B30*(E$15-1)*(1-E$14)*(1+E$13) -> 0.020185055 | M30: =(F$10)*(1-F$14)*(1+F$13)+(F$11+F$12)*F$15*(1-F$14)*(1+F$13)-$B30*(F$15-1)*(1-F$14)*(1+F$13) -> 0.020882101 | N30: =AVERAGE(I30:M30) -> 0.022002602 | O30: =C30+I30 -> 0.13845247 | P30: =D30+J30 -> 0.13469746 | Q30: =E30+K30 -> 0.13776217 | R30: =F30+L30 -> 0.1341738 | S30: =G30+M30 -> 0.13487085 | T30: =AVERAGE(O30:S30) -> 0.13599135
A32: Additional fees
B33: Hydro connection fee | C33: Connection fee for > 10 kW | D33: connection fee for larger systems | E33: ESA | F33: building permit (5 kW) | G33: building permit (7.5 kW) | H33: building permit (10 kW) | I33: building permit (15 kW) | J33: building permit (20 kW) | K33: building permit (25 kW) | L33: Total (5 kW) | M33: Total (7.5 kW) | N33: Total (10 kW) | O33: Total (15 kW) | P33: Total (20 kW) | Q33: Total (25 kW)
A34: Toronto Hydro | B34: 1921 | C34: ND | D34: ND | E34: 350 | F34: 199 | G34: 199 | H34: 199 | I34: 199 | J34: 199 | K34: 199 | L34: =$B34+$E34+F34 -> 2470 | M34: =$B34+$E34+G34 -> 2470 | N34: =$B34+$E34+H34 -> 2470 | O34: =$E34+I34+C34 -> #VALUE! | P34: =$E34+J34+C34 -> #VALUE! | Q34: =$E34+K34+D34 -> #VALUE! | S34: CIA is for projects >10kW, <30 kW
A35: Hydro Ottawa | B35: 1449 | C35: ND | D35: ND | E35: 350 | F35: =0.011*quotes!$C40*5000 -> 175.16378 | G35: =0.011*quotes!$C40*7500 -> 262.74567 | H35: =0.011*quotes!$C40*10000 -> 350.32757 | I35: =0.011*quotes!$C40*15000 -> 525.49135 | J35: =0.011*quotes!$C40*20000 -> 700.65513 | K35: =0.011*quotes!$C40*25000 -> 875.81892 | L35: =$B35+$E35+F35 -> 1974.1638 | M35: =$B35+$E35+G35 -> 2061.7457 | N35: =$B35+$E35+H35 -> 2149.3276 | O35: =$E35+I35+C35 -> #VALUE! | P35: =$E35+J35+C35 -> #VALUE! | Q35: =$E35+K35+D35 -> #VALUE! | S35: CIA is for projects >10kW, <30 kW
A36: London Hydro | B36: 1130 | C36: 1695 | D36: 34917 | E36: 350 | F36: 206 | G36: 206 | H36: 206 | I36: 206 | J36: 206 | K36: 206 | L36: =$B36+$E36+F36 -> 1686 | M36: =$B36+$E36+G36 -> 1686 | N36: =$B36+$E36+H36 -> 1686 | O36: =$E36+I36+C36 -> 2251 | P36: =$E36+J36+C36 -> 2251 | Q36: =$E36+K36+D36 -> 35473 | S36: CIA is for projects, >10 kW, <20 kW, then goes to higher CIA
A37: Greater Sudbury Hydro | B37: 538 | C37: ND | D37: ND | E37: 350 | F37: =0.0107*quotes!$C40*5000 -> 170.38659 | G37: =0.0107*quotes!$C40*7500 -> 255.57988 | H37: =0.0107*quotes!$C40*10000 -> 340.77318 | I37: =0.0107*quotes!$C40*15000 -> 511.15977 | J37: =0.0107*quotes!$C40*20000 -> 681.54636 | K37: =0.0107*quotes!$C40*25000 -> 851.93295 | L37: =$B37+$E37+F37 -> 1058.3866 | M37: =$B37+$E37+G37 -> 1143.5799 | N37: =$B37+$E37+H37 -> 1228.7732 | O37: =$E37+I37+C37 -> #VALUE! | P37: =$E37+J37+C37 -> #VALUE! | Q37: =$E37+K37+D37 -> #VALUE!
A38: Hydro One | B38: 904 | C38: 2321 | D38: 2321 | E38: 350 | S38: CIA is for projects >10kW, <30 kW
A39: Alectra Utlities | B39: 437.31 | C39: 2132 | D39: 2132 | E39: 350 | F39: 250 | G39: 250 | H39: 250 | I39: 250 | J39: 250 | K39: 250 | L39: =$B39+$E39+F39 -> 1037.31 | M39: =$B39+$E39+G39 -> 1037.31 | N39: =$B39+$E39+H39 -> 1037.31 | O39: =$E39+I39+C39 -> 2732 | P39: =$E39+J39+C39 -> 2732 | Q39: =$E39+K39+C39 -> 2732 | S39: CIA is for projects >10kW, <50 kW
A40: Ontario average (Alectra Utilities fees) | B40: 437.31 | C40: 2132 | D40: 2132 | E40: 350 | F40: =AVERAGE(F34:F37) -> 187.63759 | G40: =AVERAGE(G34:G37) -> 230.83139 | H40: =AVERAGE(H34:H37) -> 274.02519 | I40: =AVERAGE(I34:I37) -> 360.41278 | J40: =AVERAGE(J34:J37) -> 446.80037 | K40: =AVERAGE(K34:K37) -> 533.18797 | L40: =$B40+$E40+F40 -> 974.94759 | M40: =$B40+$E40+G40 -> 1018.1414 | N40: =$B40+$E40+H40 -> 1061.3352 | O40: =$E40+I40+C40 -> 2842.4128 | P40: =$E40+J40+C40 -> 2928.8004 | Q40: =$E40+K40+D40 -> 3015.188
A43: Connection fees
B44: fee | C44: fee plus HST
A45: Toronto Hydro | B45: 500 | C45: =B45*1.13 -> 565 | D45: application fee
A46: Toronto Hydro | B46: 1145.94 | C46: =B46*1.13 -> 1294.9122 | D46: connection fee, no new account set up fee
A47: Hydro Ottawa | B47: 1000-1500 | C47: =(1250*1.13) -> 1412.5 | D47: range for application and connection fee, used $1250
A48: Hydro Ottawa | B48: 30.5 | C48: =B48*1.13 -> 34.465 | D48: account set up fee
...

Sheet methodology
A1: Methodology
A2: Solar panel upfront costs are based on installed costs quotes from 37 sources excluding the connection, Electrical Safety Authority (ESA) inspections and building permit fees. Connection, inspection and building permit fees were obtained for each applicable city.
A3: Hourly solar potential by city was obtained from Environment Canada databases[1]. Solar irradiation outputs were zeroed in January when solar arrays are likely covered in snow. The hourly irradiation output was capped at 5/6 of the annual peak because we assume the inverter is sized at 5/6 of the size of the solar array to optimize cost and output. Using this data, the percent of the annual solar irradiation occurring in each TOU/ULO block was calculated.
A4: Average kWh generated per kW of solar arrays for each city was obtained from the National Renewable Energy Laboratory (NREL) PVWatts calculator[2] (January generation excluded due to assumed snow coverage). The calculator includes a 14.08% system losses factor to account for dirt, degradation, system inefficiencies, power outages and more. The average of the outputs at azimuths 90°, 135°, 180°, 225° and 270° was calculated to account for the fact that roofs may be facing east, south, west, and anything in between.
A5: The average kWh/kW/yr for each TOU/ULO block was the product of the percent of solar irradiation for each block and the average annual kWh/kW. For the tiered rate structure, we assumed an average use of 750 kWh/month based on an Ontario Energy Board report[3]. For the fully electrified home, we added 321 kWh/month for EV charging, 66 kWh/month for water heating with a heat pump water heater (HPWH: EF of 3.75)[4], and 1279 kWh/month for the six winter months for space heating with a cold climate air source heat pump (ASHP: SCOP of 2.7)[5].
A6: The annual savings from solar arrays equals the price of electricity supply multiplied by every kWh of solar generation plus the avoided per kWh delivery, transmission and regulatory charges.[6] GST and Ontario Electricity Rebate are also applied.
A7: The 2024 and 2030 marginal emissions factor the each TOU period was calculated by taking the average emissions from an Ontario gas power plant (390 g CO2e/kWh)[7] multiplied by the percentage of time gas is on the margin for the TOU period[8]. The annual greenhouse gas emissions avoided with the solar array was calculated using this marginal emission factor, the percentage of annual solar generation that occurs during each TOU period and the annual kWh of electricity generated by the array.
A10: [1] https://collaboration.cmc.ec.gc.ca/cmc/climate/Engineer_Climate/CWEEDS_FMCEG/CWEEDS_FMCEG_v_2020/CWEEDS-FMCEG_by_par_prov.CSV/
A11: [2] https://pvwatts.nrel.gov/
A12: [3] https://www.oeb.ca/sites/default/files/uploads/Report_Defining_Typical_Elec_Customer_20160414.pdf
A13: [4] Derived from Table 1 of https://www.oeb.ca/sites/default/files/OEB-Natural-Gas-DSM-TRM-V5.0-20201112.pdf
A14: [5] From Comprehensive Energy Use Database tables 33 and 16
... A32: 17 W per sq ft based on typical solar panel sizes

Sheet ON avg
Q2: TOU | W2: ULO | Z2: Tiered
F3: =input!$B$3 -> 5 | G3: =input!$B$4 -> 7.5 | H3: =input!$B$5 -> 10 | P3: need to change B32 and B33 | Q3: 5 | R3: 7.5 | S3: 10 | T3: 15 | U3: 20 | V3: 25 | W3: 5 | X3: 7.5 | Y3: 10 | Z3: 5 | AA3: 7.5 | AB3: 10
B4: electricity cost/kWh | C4: kW/m2/yr | D4: % of total | E4: kWh/kW | F4: annual savings | G4: annual savings | H4: annual savings | P4: solar array cost | Q4: =input!$B12+'utility rates'!$L40-input!$B30*Q3 -> 19213.387 | R4: =input!$B13+'utility rates'!$M40-input!$B30*R3 -> 24696.164 | S4: =input!$B14+'utility rates'!$N40-input!$B30*S3 -> 30178.94 | T4: =input!$B15+'utility rates'!$O40-input!$B30*T3 -> 42839.182 | U4: =input!$B16+'utility rates'!$P40-input!$B30*U3 -> 53804.735 | V4: =input!$B17+'utility rates'!$Q40-input!$B30*V3 -> 64770.287 | W4: =input!$B12+'utility rates'!$L40-input!$B30*W3 -> 19213.387 | X4: =input!$B13+'utility rates'!$M40-input!$B30*X3 -> 24696.164 | Y4: =input!$B14+'utility rates'!$N40-input!$B30*Y3 -> 30178.94 | Z4: =input!$B12+'utility rates'!$L40-input!$B30*Z3 -> 19213.387 | AA4: =input!$B13+'utility rates'!$M40-input!$B30*AA3 -> 24696.164 | AB4: =input!$B14+'utility rates'!$N40-input!$B30*AB3 -> 30178.94
A5: ULO | D5: average from other cities | P5: replacement inverter cost | Q5: =input!$B22 -> 3446.6 | R5: =input!$B23 -> 4154.6 | S5: =input!$B24 -> 4753 | T5: =input!$B25 -> 6077.6667 | U5: =input!$B26 -> 7384.0667 | V5: =input!$B27 -> 8690.4667 | W5: =input!$B22 -> 3446.6 | X5: =input!$B23 -> 4154.6 | Y5: =input!$B24 -> 4753 | Z5: =input!$B22 -> 3446.6 | AA5: =input!$B23 -> 4154.6 | AB5: =input!$B24 -> 4753
L6: payback | Q6: =COUNTIF(Q8:Q45, "<0")+1 -> 29 | R6: =COUNTIF(R8:R45, "<0")+1 -> 25 | S6: =COUNTIF(S8:S45, "<0")+1 -> 23 | T6: =COUNTIF(T8:T45, "<0")+1 -> 21 | U6: =COUNTIF(U8:U45, "<0")+1 -> 20 | V6: =COUNTIF(V8:V45, "<0")+1 -> 19 | W6: =COUNTIF(W8:W45, "<0")+1 -> 29 | X6: =COUNTIF(X8:X45, "<0")+1 -> 25 | ... AB6: =COUNTIF(AB8:AB45, "<0")+1 -> 28
A7: on-peak | B7: ='utility rates'!T25 -> 0.27792865 | D7: =(Toronto!D7+Ottawa!D7+Sudbury!D7+London!D7)/4 -> 0.13773564 | E7: =D7*'kWh per yr'!G$22 -> 150.13832 | F7: =$E7*F$3*$B7 -> 208.6387 | G7: =$E7*G$3*$B7 -> 312.95805 | H7: =$E7*H$3*$B7 -> 417.2774 | L7: year | M7: ULO | N7: TOU | O7: tiered (avg electricity use) | P7: tiered (avg use with ASHP/HPWH + EV) | Q7: cumulative annual savings (5 kW | R7: cumulative annual savings 7.5 kW | S7: cumulative annual savings 10 kW | W7: cumulative annual savings (5 kW | X7: cumulative annual savings 7.5 kW | Y7: cumulative annual savings 10 kW | Z7: cumulative annual savings (5 kW | AA7: cumulative annual savings 7.5 kW | AB7: cumulative annual savings 10 kW
A8: mid-peak | B8: ='utility rates'!T26 -> 0.13334656 | D8: =(Toronto!D8+Ottawa!D8+Sudbury!D8+London!D8)/4 -> 0.59936894 | E8: =D8*'kWh per yr'!G$22 -> 653.34032 | F8: =$E8*F$3*$B8 -> 435.60341 | G8: =$E8*G$3*$B8 -> 653.40512 | H8: =$E8*H$3*$B8 -> 871.20683 | L8: 2024 savings | M8: =Y8 -> 1580.8229 | N8: =S8 -> 1584.6879 | O8: =AB8 -> 1288.409 | P8: 1345 | Q8: =F26 -> 792.34396 | R8: =G26 -> 1188.5159 | S8: =H26 -> 1584.6879 | T8: =Q8*3 -> 2377.0319 | U8: =Q8*4 -> 3169.3758 | V8: =Q8*5 -> 3961.7198 | W8: =F12 -> 790.41143 | X8: =G12 -> 1185.6171 | Y8: =H12 -> 1580.8229 | Z8: =F39 -> 652.9323 | AA8: =G39 -> 970.67063 | AB8: =H39 -> 1288.409
A9: weekend off-peak | B9: ='utility rates'!T27 -> 0.10249062 | D9: =(Toronto!D9+Ottawa!D9+Sudbury!D9+London!D9)/4 -> 0.26048425 | E9: =D9*'kWh per yr'!G$22 -> 283.94008 | F9: =$E9*F$3*$B9 -> 145.50598 | G9: =$E9*G$3*$B9 -> 218.25897 | H9: =$E9*H$3*$B9 -> 291.01196 | L9: 2024 | M9: =M8 -> 1580.8229 | N9: =N8 -> 1584.6879 | O9: =O8 -> 1288.409 | P9: =P8 -> 1345 | Q9: =Q8-Q4-Q5 -> -21867.643 | R9: =R8-R4-R5 -> -27662.248 | S9: =S8-S4-S5 -> -33347.252 | T9: =T8-T4-T5 -> -46539.817 | U9: =U8-U4-U5 -> -58019.426 | V9: =V8-V4-V5 -> -69499.034 | W9: =W8-W4-W5 -> -21869.576 | X9: =X8-X4-X5 -> -27665.146 | ... AB9: =AB8-AB4-AB5 -> -33643.531
A10: ultralow overnight | B10: ='utility rates'!T28 -> 0.050476335 | D10: =(Toronto!D10+Ottawa!D10+Sudbury!D10+London!D10)/4 -> 0.002411172 | E10: =D10*'kWh per yr'!G$22 -> 2.6282908 | F10: =$E10*F$3*$B10 -> 0.66333244 | G10: =$E10*G$3*$B10 -> 0.99499866 | H10: =$E10*H$3*$B10 -> 1.3266649 | L10: 2025 | M10: =M9+M$8*(1+input!$B$8)^($L10-2024) -> 3161.6457 | N10: =N9+N$8*(1+input!$B$8)^($L10-2024) -> 3169.3758 | O10: =O9+O$8*(1+input!$B$8)^($L10-2024) -> 2576.8179 | P10: =P9+P$8*(1+input!$B$8)^($L10-2024) -> 2690 | Q10: =Q9+Q$8*(1+input!$B$8)^($L10-2024) -> -21075.299 | R10: =R9+R$8*(1+input!$B$8)^($L10-2024) -> -26473.732 | S10: =S9+S$8*(1+input!$B$8)^($L10-2024) -> -31762.564 | T10: =T9+T$8*(1+input!$B$8)^($L10-2024) -> -44162.785 | ... AB10: =AB9+AB$8*(1+input!$B$8)^($L10-2024) -> -32355.122
L11: 2026 | M11: =M10+M$8*(1+input!$B$8)^($L11-2024) -> 4742.4686 | N11: =N10+N$8*(1+input!$B$8)^($L11-2024) -> 4754.0638 | O11: =O10+O$8*(1+input!$B$8)^($L11-2024) -> 3865.2269 | P11: =P10+P$8*(1+input!$B$8)^($L11-2024) -> 4035 | Q11: =Q10+Q$8*(1+input!$B$8)^($L11-2024) -> -20282.955 | R11: =R10+R$8*(1+input!$B$8)^($L11-2024) -> -25285.216 | S11: =S10+S$8*(1+input!$B$8)^($L11-2024) -> -30177.876 | T11: =T10+T$8*(1+input!$B$8)^($L11-2024) -> -41785.753 | ... AB11: =AB10+AB$8*(1+input!$B$8)^($L11-2024) -> -31066.713
A12: total | D12: =SUM(D7:D10) -> 1 | E12: =SUM(E7:E10) -> 1090.047 | F12: =SUM(F7:F10) -> 790.41143 | G12: =SUM(G7:G10) -> 1185.6171 | H12: =SUM(H7:H10) -> 1580.8229 | L12: 2027 | M12: =M11+M$8*(1+input!$B$8)^($L12-2024) -> 6323.2914 | N12: =N11+N$8*(1+input!$B$8)^($L12-2024) -> 6338.7517 | O12: =O11+O$8*(1+input!$B$8)^($L12-2024) -> 5153.6359 | P12: =P11+P$8*(1+input!$B$8)^($L12-2024) -> 5380 | Q12: =Q11+Q$8*(1+input!$B$8)^($L12-2024) -> -19490.612 | R12: =R11+R$8*(1+input!$B$8)^($L12-2024) -> -24096.7 | S12: =S11+S$8*(1+input!$B$8)^($L12-2024) -> -28593.188 | T12: =T11+T$8*(1+input!$B$8)^($L12-2024) -> -39408.721 | ... AB12: =AB11+AB$8*(1+input!$B$8)^($L12-2024) -> -29778.304
A13: payback (no grant) | F13: =(input!B12+'utility rates'!$L40)/'ON avg'!F12 -> 24.308084 | G13: =(input!B13+'utility rates'!$M40)/'ON avg'!G12 -> 20.829796 | H13: =(input!B14+'utility rates'!$N40)/'ON avg'!H12 -> 19.090653 | L13: 2028 | M13: =M12+M$8*(1+input!$B$8)^($L13-2024) -> 7904.1143 | N13: =N12+N$8*(1+input!$B$8)^($L13-2024) -> 7923.4396 | O13: =O12+O$8*(1+input!$B$8)^($L13-2024) -> 6442.0448 | P13: =P12+P$8*(1+input!$B$8)^($L13-2024) -> 6725 | Q13: =Q12+Q$8*(1+input!$B$8)^($L13-2024) -> -18698.268 | R13: =R12+R$8*(1+input!$B$8)^($L13-2024) -> -22908.184 | S13: =S12+S$8*(1+input!$B$8)^($L13-2024) -> -27008.5 | T13: =T12+T$8*(1+input!$B$8)^($L13-2024) -> -37031.69 | ... AB13: =AB12+AB$8*(1+input!$B$8)^($L13-2024) -> -28489.895
A14: payback (with 5K grant) | F14: =(input!B12+'utility rates'!$L40-5000)/'ON avg'!F12 -> 17.982265 | G14: =(input!B13+'utility rates'!$M40-5000)/'ON avg'!G12 -> 16.612583 | H14: =(input!B14+'utility rates'!$N40-5000)/'ON avg'!H12 -> 15.927743 | L14: 2029 | M14: =M13+M$8*(1+input!$B$8)^($L14-2024) -> 9484.9371 | N14: =N13+N$8*(1+input!$B$8)^($L14-2024) -> 9508.1275 | O14: =O13+O$8*(1+input!$B$8)^($L14-2024) -> 7730.4538 | P14: =P13+P$8*(1+input!$B$8)^($L14-2024) -> 8070 | Q14: =Q13+Q$8*(1+input!$B$8)^($L14-2024) -> -17905.924 | R14: =R13+R$8*(1+input!$B$8)^($L14-2024) -> -21719.668 | S14: =S13+S$8*(1+input!$B$8)^($L14-2024) -> -25423.812 | T14: =T13+T$8*(1+input!$B$8)^($L14-2024) -> -34654.658 | ... AB14: =AB13+AB$8*(1+input!$B$8)^($L14-2024) -> -27201.486
A15: payback (with 10 K grant) | F15: =+(input!B12+'utility rates'!$L40-10000)/'ON avg'!F12 -> 11.656445 | G15: =+(input!B13+'utility rates'!$M40-10000)/'ON avg'!G12 -> 12.39537 | H15: =(input!B14+'utility rates'!$N40-10000)/'ON avg'!H12 -> 12.764833 | L15: 2030 | M15: =M14+M$8*(1+input!$B$8)^($L15-2024) -> 11065.76 | N15: =N14+N$8*(1+input!$B$8)^($L15-2024) -> 11092.815 | O15: =O14+O$8*(1+input!$B$8)^($L15-2024) -> 9018.8627 | P15: =P14+P$8*(1+input!$B$8)^($L15-2024) -> 9415 | Q15: =Q14+Q$8*(1+input!$B$8)^($L15-2024) -> -17113.58 | R15: =R14+R$8*(1+input!$B$8)^($L15-2024) -> -20531.152 | S15: =S14+S$8*(1+input!$B$8)^($L15-2024) -> -23839.124 | T15: =T14+T$8*(1+input!$B$8)^($L15-2024) -> -32277.626 | ... AB15: =AB14+AB$8*(1+input!$B$8)^($L15-2024) -> -25913.077
L16: 2031 | M16: =M15+M$8*(1+input!$B$8)^($L16-2024) -> 12646.583 | N16: =N15+N$8*(1+input!$B$8)^($L16-2024) -> 12677.503 | O16: =O15+O$8*(1+input!$B$8)^($L16-2024) -> 10307.272 | P16: =P15+P$8*(1+input!$B$8)^($L16-2024) -> 10760 | Q16: =Q15+Q$8*(1+input!$B$8)^($L16-2024) -> -16321.236 | R16: =R15+R$8*(1+input!$B$8)^($L16-2024) -> -19342.636 | S16: =S15+S$8*(1+input!$B$8)^($L16-2024) -> -22254.436 | T16: =T15+T$8*(1+input!$B$8)^($L16-2024) -> -29900.594 | ... AB16: =AB15+AB$8*(1+input!$B$8)^($L16-2024) -> -24624.668
A17: TOU | L17: 2032 | M17: =M16+M$8*(1+input!$B$8)^($L17-2024) -> 14227.406 | N17: =N16+N$8*(1+input!$B$8)^($L17-2024) -> 14262.191 | O17: =O16+O$8*(1+input!$B$8)^($L17-2024) -> 11595.681 | P17: =P16+P$8*(1+input!$B$8)^($L17-2024) -> 12105 | Q17: =Q16+Q$8*(1+input!$B$8)^($L17-2024) -> -15528.892 | R17: =R16+R$8*(1+input!$B$8)^($L17-2024) -> -18154.12 | S17: =S16+S$8*(1+input!$B$8)^($L17-2024) -> -20669.749 | T17: =T16+T$8*(1+input!$B$8)^($L17-2024) -> -27523.562 | ... AB17: =AB16+AB$8*(1+input!$B$8)^($L17-2024) -> -23336.259
L18: 2033 | M18: =M17+M$8*(1+input!$B$8)^($L18-2024) -> 15808.229 | N18: =N17+N$8*(1+input!$B$8)^($L18-2024) -> 15846.879 | O18: =O17+O$8*(1+input!$B$8)^($L18-2024) -> 12884.09 | P18: =P17+P$8*(1+input!$B$8)^($L18-2024) -> 13450 | Q18: =Q17+Q$8*(1+input!$B$8)^($L18-2024) -> -14736.548 | R18: =R17+R$8*(1+input!$B$8)^($L18-2024) -> -16965.604 | S18: =S17+S$8*(1+input!$B$8)^($L18-2024) -> -19085.061 | T18: =T17+T$8*(1+input!$B$8)^($L18-2024) -> -25146.53 | ... AB18: =AB17+AB$8*(1+input!$B$8)^($L18-2024) -> -22047.85
A19: on-peak summer | B19: ='utility rates'!T23 -> 0.18624244 | D19: =(Toronto!D18+Ottawa!D18+Sudbury!D18+London!D18)/4 -> 0.32720978 | E19: =D19*'kWh per yr'!G$22 -> 356.67404 | F19: =$E19*F$3*$B19 -> 332.13922 | G19: =$E19*G$3*$B19 -> 498.20883 | H19: =$E19*H$3*$B19 -> 664.27845 | L19: 2034 | M19: =M18+M$8*(1+input!$B$8)^($L19-2024) -> 17389.051 | N19: =N18+N$8*(1+input!$B$8)^($L19-2024) -> 17431.567 | O19: =O18+O$8*(1+input!$B$8)^($L19-2024) -> 14172.499 | P19: =P18+P$8*(1+input!$B$8)^($L19-2024) -> 14795 | Q19: =Q18+Q$8*(1+input!$B$8)^($L19-2024) -> -13944.204 | R19: =R18+R$8*(1+input!$B$8)^($L19-2024) -> -15777.088 | S19: =S18+S$8*(1+input!$B$8)^($L19-2024) -> -17500.373 | T19: =T18+T$8*(1+input!$B$8)^($L19-2024) -> -22769.498 | ... AB19: =AB18+AB$8*(1+input!$B$8)^($L19-2024) -> -20759.441
A20: on-peak winter | B20: ='utility rates'!T23 -> 0.18624244 | D20: =(Toronto!D19+Ottawa!D19+Sudbury!D19+London!D19)/4 -> 0.058933215 | E20: =D20*'kWh per yr'!G$22 -> 64.239975 | F20: =$E20*F$3*$B20 -> 59.82105 | G20: =$E20*G$3*$B20 -> 89.731575 | H20: =$E20*H$3*$B20 -> 119.6421 | L20: 2035 | M20: =M19+M$8*(1+input!$B$8)^($L20-2024) -> 18969.874 | N20: =N19+N$8*(1+input!$B$8)^($L20-2024) -> 19016.255 | O20: =O19+O$8*(1+input!$B$8)^($L20-2024) -> 15460.908 | P20: =P19+P$8*(1+input!$B$8)^($L20-2024) -> 16140 | Q20: =Q19+Q$8*(1+input!$B$8)^($L20-2024) -> -13151.86 | R20: =R19+R$8*(1+input!$B$8)^($L20-2024) -> -14588.572 | S20: =S19+S$8*(1+input!$B$8)^($L20-2024) -> -15915.685 | T20: =T19+T$8*(1+input!$B$8)^($L20-2024) -> -20392.466 | ... AB20: =AB19+AB$8*(1+input!$B$8)^($L20-2024) -> -19471.032
A21: mid-peak summer | B21: ='utility rates'!T24 -> 0.13334656 | D21: =(Toronto!D20+Ottawa!D20+Sudbury!D20+London!D20)/4 -> 0.16663212 | E21: =D21*'kWh per yr'!G$22 -> 181.63685 | F21: =$E21*F$3*$B21 -> 121.10324 | G21: =$E21*G$3*$B21 -> 181.65486 | H21: =$E21*H$3*$B21 -> 242.20648 | L21: 2036 | M21: =M20+M$8*(1+input!$B$8)^($L21-2024) -> 20550.697 | N21: =N20+N$8*(1+input!$B$8)^($L21-2024) -> 20600.943 | O21: =O20+O$8*(1+input!$B$8)^($L21-2024) -> 16749.317 | P21: =P20+P$8*(1+input!$B$8)^($L21-2024) -> 17485 | Q21: =Q20+Q$8*(1+input!$B$8)^($L21-2024) -> -12359.516 | R21: =R20+R$8*(1+input!$B$8)^($L21-2024) -> -13400.056 | S21: =S20+S$8*(1+input!$B$8)^($L21-2024) -> -14330.997 | T21: =T20+T$8*(1+input!$B$8)^($L21-2024) -> -18015.434 | ... AB21: =AB20+AB$8*(1+input!$B$8)^($L21-2024) -> -18182.623
A22: mid-peak winter | B22: =+'utility rates'!T24 -> 0.13334656 | D22: =(Toronto!D21+Ottawa!D21+Sudbury!D21+London!D21)/4 -> 0.17518676 | E22: =D22*'kWh per yr'!G$22 -> 190.9618 | F22: =$E22*F$3*$B22 -> 127.32049 | G22: =$E22*G$3*$B22 -> 190.98074 | H22: =$E22*H$3*$B22 -> 254.64099 | L22: 2037 | M22: =M21+M$8*(1+input!$B$8)^($L22-2024) -> 22131.52 | N22: =N21+N$8*(1+input!$B$8)^($L22-2024) -> 22185.631 | O22: =O21+O$8*(1+input!$B$8)^($L22-2024) -> 18037.725 | P22: =P21+P$8*(1+input!$B$8)^($L22-2024) -> 18830 | Q22: =Q21+Q$8*(1+input!$B$8)^($L22-2024) -> -11567.172 | R22: =R21+R$8*(1+input!$B$8)^($L22-2024) -> -12211.54 | S22: =S21+S$8*(1+input!$B$8)^($L22-2024) -> -12746.309 | T22: =T21+T$8*(1+input!$B$8)^($L22-2024) -> -15638.403 | ... AB22: =AB21+AB$8*(1+input!$B$8)^($L22-2024) -> -16894.214
A23: off-peak weekend | B23: ='utility rates'!T22 -> 0.10249062 | D23: =(Toronto!D22+Ottawa!D22+Sudbury!D22+London!D22)/4 -> 0.26112619 | E23: =D23*'kWh per yr'!G$22 -> 284.63982 | F23: =$E23*F$3*$B23 -> 145.86456 | G23: =$E23*G$3*$B23 -> 218.79685 | H23: =$E23*H$3*$B23 -> 291.72913 | L23: 2038 | M23: =M22+M$8*(1+input!$B$8)^($L23-2024) -> 23712.343 | N23: =N22+N$8*(1+input!$B$8)^($L23-2024) -> 23770.319 | O23: =O22+O$8*(1+input!$B$8)^($L23-2024) -> 19326.134 | P23: =P22+P$8*(1+input!$B$8)^($L23-2024) -> 20175 | Q23: =Q22+Q$8*(1+input!$B$8)^($L23-2024) -> -10774.828 | R23: =R22+R$8*(1+input!$B$8)^($L23-2024) -> -11023.024 | S23: =S22+S$8*(1+input!$B$8)^($L23-2024) -> -11161.621 | T23: =T22+T$8*(1+input!$B$8)^($L23-2024) -> -13261.371 | ... AB23: =AB22+AB$8*(1+input!$B$8)^($L23-2024) -> -15605.805
A24: off-peak | B24: ='utility rates'!T22 -> 0.10249062 | D24: =(Toronto!D23+Ottawa!D23+Sudbury!D23+London!D23)/4 -> 0.010911944 | E24: =D24*'kWh per yr'!G$22 -> 11.894532 | F24: =$E24*F$3*$B24 -> 6.0953899 | G24: =$E24*G$3*$B24 -> 9.1430848 | H24: =$E24*H$3*$B24 -> 12.19078 | L24: 2039 | M24: =M23+M$8*(1+input!$B$8)^($L24-2024) -> 25293.166 | N24: =N23+N$8*(1+input!$B$8)^($L24-2024) -> 25355.007 | O24: =O23+O$8*(1+input!$B$8)^($L24-2024) -> 20614.543 | P24: =P23+P$8*(1+input!$B$8)^($L24-2024) -> 21520 | Q24: =Q23+Q$8*(1+input!$B$8)^($L24-2024) -> -9982.484 | R24: =R23+R$8*(1+input!$B$8)^($L24-2024) -> -9834.5085 | S24: =S23+S$8*(1+input!$B$8)^($L24-2024) -> -9576.9331 | T24: =T23+T$8*(1+input!$B$8)^($L24-2024) -> -10884.339 | ... AB24: =AB23+AB$8*(1+input!$B$8)^($L24-2024) -> -14317.396
L25: 2040 | M25: =M24+M$8*(1+input!$B$8)^($L25-2024) -> 26873.989 | N25: =N24+N$8*(1+input!$B$8)^($L25-2024) -> 26939.695 | O25: =O24+O$8*(1+input!$B$8)^($L25-2024) -> 21902.952 | P25: =P24+P$8*(1+input!$B$8)^($L25-2024) -> 22865 | Q25: =Q24+Q$8*(1+input!$B$8)^($L25-2024) -> -9190.14 | R25: =R24+R$8*(1+input!$B$8)^($L25-2024) -> -8645.9926 | S25: =S24+S$8*(1+input!$B$8)^($L25-2024) -> -7992.2452 | T25: =T24+T$8*(1+input!$B$8)^($L25-2024) -> -8507.3069 | ... AB25: =AB24+AB$8*(1+input!$B$8)^($L25-2024) -> -13028.987
A26: total | D26: =SUM(D19:D24) -> 1 | E26: =SUM(E19:E24) -> 1090.047 | F26: =SUM(F19:F24) -> 792.34396 | G26: =SUM(G19:G24) -> 1188.5159 | H26: =SUM(H19:H24) -> 1584.6879 | L26: 2041 | M26: =M25+M$8*(1+input!$B$8)^($L26-2024) -> 28454.811 | N26: =N25+N$8*(1+input!$B$8)^($L26-2024) -> 28524.383 | O26: =O25+O$8*(1+input!$B$8)^($L26-2024) -> 23191.361 | P26: =P25+P$8*(1+input!$B$8)^($L26-2024) -> 24210 | Q26: =Q25+Q$8*(1+input!$B$8)^($L26-2024) -> -8397.7961 | R26: =R25+R$8*(1+input!$B$8)^($L26-2024) -> -7457.4767 | S26: =S25+S$8*(1+input!$B$8)^($L26-2024) -> -6407.5572 | T26: =T25+T$8*(1+input!$B$8)^($L26-2024) -> -6130.2751 | ... AB26: =AB25+AB$8*(1+input!$B$8)^($L26-2024) -> -11740.578
A27: payback (no grant) | F27: =(input!B12+'utility rates'!$L40)/'ON avg'!F26 -> 24.248796 | G27: =(input!B13+'utility rates'!$M40)/'ON avg'!G26 -> 20.778992 | H27: =(input!B14+'utility rates'!$N40)/'ON avg'!H26 -> 19.04409 | L27: 2042 | M27: =M26+M$8*(1+input!$B$8)^($L27-2024) -> 30035.634 | N27: =N26+N$8*(1+input!$B$8)^($L27-2024) -> 30109.07 | O27: =O26+O$8*(1+input!$B$8)^($L27-2024) -> 24479.77 | P27: =P26+P$8*(1+input!$B$8)^($L27-2024) -> 25555 | Q27: =Q26+Q$8*(1+input!$B$8)^($L27-2024) -> -7605.4521 | R27: =R26+R$8*(1+input!$B$8)^($L27-2024) -> -6268.9607 | S27: =S26+S$8*(1+input!$B$8)^($L27-2024) -> -4822.8693 | T27: =T26+T$8*(1+input!$B$8)^($L27-2024) -> -3753.2432 | ... AB27: =AB26+AB$8*(1+input!$B$8)^($L27-2024) -> -10452.169
A28: payback (with 5K grant) | F28: =(input!B12+'utility rates'!$L40-5000)/'ON avg'!F26 -> 17.938406 | G28: =(input!B13+'utility rates'!$M40-5000)/'ON avg'!G26 -> 16.572065 | H28: =(input!B14+'utility rates'!$N40-5000)/'ON avg'!H26 -> 15.888895 | L28: 2043 | M28: =M27+M$8*(1+input!$B$8)^($L28-2024) -> 31616.457 | N28: =N27+N$8*(1+input!$B$8)^($L28-2024) -> 31693.758 | O28: =O27+O$8*(1+input!$B$8)^($L28-2024) -> 25768.179 | P28: =P27+P$8*(1+input!$B$8)^($L28-2024) -> 26900 | Q28: =Q27+Q$8*(1+input!$B$8)^($L28-2024) -> -6813.1082 | R28: =R27+R$8*(1+input!$B$8)^($L28-2024) -> -5080.4448 | S28: =S27+S$8*(1+input!$B$8)^($L28-2024) -> -3238.1814 | T28: =T27+T$8*(1+input!$B$8)^($L28-2024) -> -1376.2113 | ... AB28: =AB27+AB$8*(1+input!$B$8)^($L28-2024) -> -9163.7605
A29: payback (wth 10K grant) | F29: =(input!B12+'utility rates'!$L40-10000)/'ON avg'!F26 -> 11.628015 | G29: =(input!B13+'utility rates'!$M40-10000)/'ON avg'!G26 -> 12.365138 | H29: =(input!B14+'utility rates'!$N40-10000)/'ON avg'!H26 -> 12.7337 | L29: 2044 | M29: =M28+M$8*(1+input!$B$8)^($L29-2024) -> 33197.28 | N29: =N28+N$8*(1+input!$B$8)^($L29-2024) -> 33278.446 | O29: =O28+O$8*(1+input!$B$8)^($L29-2024) -> 27056.588 | P29: =P28+P$8*(1+input!$B$8)^($L29-2024) -> 28245 | Q29: =Q28+Q$8*(1+input!$B$8)^($L29-2024) -> -6020.7642 | R29: =R28+R$8*(1+input!$B$8)^($L29-2024) -> -3891.9288 | S29: =S28+S$8*(1+input!$B$8)^($L29-2024) -> -1653.4935 | T29: =T28+T$8*(1+input!$B$8)^($L29-2024) -> 1000.8206 | ... AB29: =AB28+AB$8*(1+input!$B$8)^($L29-2024) -> -7875.3516
L30: 2045 | M30: =M29+M$8*(1+input!$B$8)^($L30-2024) -> 34778.103 | N30: =N29+N$8*(1+input!$B$8)^($L30-2024) -> 34863.134 | O30: =O29+O$8*(1+input!$B$8)^($L30-2024) -> 28344.997 | P30: =P29+P$8*(1+input!$B$8)^($L30-2024) -> 29590 | Q30: =Q29+Q$8*(1+input!$B$8)^($L30-2024) -> -5228.4202 | R30: =R29+R$8*(1+input!$B$8)^($L30-2024) -> -2703.4129 | S30: =S29+S$8*(1+input!$B$8)^($L30-2024) -> -68.805564 | T30: =T29+T$8*(1+input!$B$8)^($L30-2024) -> 3377.8525 | ... AB30: =AB29+AB$8*(1+input!$B$8)^($L30-2024) -> -6586.9426
A31: Tiered | L31: 2046 | M31: =M30+M$8*(1+input!$B$8)^($L31-2024) -> 36358.926 | N31: =N30+N$8*(1+input!$B$8)^($L31-2024) -> 36447.822 | O31: =O30+O$8*(1+input!$B$8)^($L31-2024) -> 29633.406 | P31: =P30+P$8*(1+input!$B$8)^($L31-2024) -> 30935 | Q31: =Q30+Q$8*(1+input!$B$8)^($L31-2024) -> -4436.0763 | R31: =R30+R$8*(1+input!$B$8)^($L31-2024) -> -1514.897 | S31: =S30+S$8*(1+input!$B$8)^($L31-2024) -> 1515.8824 | T31: =T30+T$8*(1+input!$B$8)^($L31-2024) -> 5754.8843 | ... AB31: =AB30+AB$8*(1+input!$B$8)^($L31-2024) -> -5298.5336
A32: summer avg monthly use (kWh) | B32: 750 | L32: 2047 | M32: =M31+M$8*(1+input!$B$8)^($L32-2024) -> 37939.748 | N32: =N31+N$8*(1+input!$B$8)^($L32-2024) -> 38032.51 | O32: =O31+O$8*(1+input!$B$8)^($L32-2024) -> 30921.815 | P32: =P31+P$8*(1+input!$B$8)^($L32-2024) -> 32280 | Q32: =Q31+Q$8*(1+input!$B$8)^($L32-2024) -> -3643.7323 | R32: =R31+R$8*(1+input!$B$8)^($L32-2024) -> -326.38103 | S32: =S31+S$8*(1+input!$B$8)^($L32-2024) -> 3100.5703 | T32: =T31+T$8*(1+input!$B$8)^($L32-2024) -> 8131.9162 | ... AB32: =AB31+AB$8*(1+input!$B$8)^($L32-2024) -> -4010.1247
A33: winter avg monthly use (kWh) | B33: 750 | L33: 2048 | M33: =M32+M$8*(1+input!$B$8)^($L33-2024) -> 39520.571 | N33: =N32+N$8*(1+input!$B$8)^($L33-2024) -> 39617.198 | O33: =O32+O$8*(1+input!$B$8)^($L33-2024) -> 32210.224 | P33: =P32+P$8*(1+input!$B$8)^($L33-2024) -> 33625 | Q33: =Q32+Q$8*(1+input!$B$8)^($L33-2024) -> -2851.3884 | R33: =R32+R$8*(1+input!$B$8)^($L33-2024) -> 862.13491 | S33: =S32+S$8*(1+input!$B$8)^($L33-2024) -> 4685.2582 | T33: =T32+T$8*(1+input!$B$8)^($L33-2024) -> 10508.948 | ... AB33: =AB32+AB$8*(1+input!$B$8)^($L33-2024) -> -2721.7157
A34: Tiered winter low | B34: ='utility rates'!T29 -> 0.11659619 | D34: =(Toronto!D32+Ottawa!D32+Sudbury!D32+London!D32)/4 -> 0.32068635 | E34: =D34*'kWh per yr'!G$22 -> 349.5632 | F34: =MAX($E34*F$3-F35/B35,0)*($B34) -> 203.78869 | G34: =MAX($E34*G$3-G35/B35,0)*($B34) -> 305.68304 | H34: =MAX($E34*H$3-H35/B35,0)*($B34) -> 407.57739 | L34: 2049 | M34: =M33+M$8*(1+input!$B$8)^($L34-2024) -> 41101.394 | N34: =N33+N$8*(1+input!$B$8)^($L34-2024) -> 41201.886 | O34: =O33+O$8*(1+input!$B$8)^($L34-2024) -> 33498.633 | P34: =P33+P$8*(1+input!$B$8)^($L34-2024) -> 34970 | Q34: =Q33+Q$8*(1+input!$B$8)^($L34-2024) -> -2059.0444 | R34: =R33+R$8*(1+input!$B$8)^($L34-2024) -> 2050.6509 | S34: =S33+S$8*(1+input!$B$8)^($L34-2024) -> 6269.9461 | T34: =T33+T$8*(1+input!$B$8)^($L34-2024) -> 12885.98 | ... AB34: =AB33+AB$8*(1+input!$B$8)^($L34-2024) -> -1433.3068
A35: Tiered winter high | B35: ='utility rates'!T30 -> 0.13599135 | D35: =(Toronto!D33+Ottawa!D33+Sudbury!D33+London!D33)/4 -> 0.32068635 | E35: =D35*'kWh per yr'!G$22 -> 349.5632 | F35: =MIN(MAX(($B33-1000)*6,0),$E35*F$3)*($B35) -> 0 | G35: =MIN(MAX(($B33-1000)*6,0),$E35*G$3)*($B35) -> 0 | H35: =MIN(MAX(($B33-1000)*6,0),$E35*H$3)*($B35) -> 0 | L35: 2050 | M35: =M34+M$8*(1+input!$B$8)^($L35-2024) -> 42682.217 | N35: =N34+N$8*(1+input!$B$8)^($L35-2024) -> 42786.574 | O35: =O34+O$8*(1+input!$B$8)^($L35-2024) -> 34787.042 | P35: =P34+P$8*(1+input!$B$8)^($L35-2024) -> 36315 | Q35: =Q34+Q$8*(1+input!$B$8)^($L35-2024) -> -1266.7004 | R35: =R34+R$8*(1+input!$B$8)^($L35-2024) -> 3239.1668 | S35: =S34+S$8*(1+input!$B$8)^($L35-2024) -> 7854.634 | T35: =T34+T$8*(1+input!$B$8)^($L35-2024) -> 15263.012 | ... AB35: =AB34+AB$8*(1+input!$B$8)^($L35-2024) -> -144.89779
A36: Tiered summer low | B36: ='utility rates'!T29 -> 0.11659619 | D36: =(Toronto!D34+Ottawa!D34+Sudbury!D34+London!D34)/4 -> 0.67931365 | E36: =D36*'kWh per yr'!G$22 -> 740.48381 | F36: =MAX($E36*F$3-F37/B37,0)*($B36) -> 326.75139 | G36: =MAX($E36*G$3-G37/B37,0)*($B36) -> 542.59538 | H36: =MAX($E36*H$3-H37/B37,0)*($B36) -> 758.43936 | L36: 2051 | M36: =M35+M$8*(1+input!$B$8)^($L36-2024) -> 44263.04 | N36: =N35+N$8*(1+input!$B$8)^($L36-2024) -> 44371.262 | O36: =O35+O$8*(1+input!$B$8)^($L36-2024) -> 36075.451 | P36: =P35+P$8*(1+input!$B$8)^($L36-2024) -> 37660 | Q36: =Q35+Q$8*(1+input!$B$8)^($L36-2024) -> -474.35649 | R36: =R35+R$8*(1+input!$B$8)^($L36-2024) -> 4427.6827 | S36: =S35+S$8*(1+input!$B$8)^($L36-2024) -> 9439.322 | T36: =T35+T$8*(1+input!$B$8)^($L36-2024) -> 17640.044 | ... AB36: =AB35+AB$8*(1+input!$B$8)^($L36-2024) -> 1143.5112
A37: Tiered summer high | B37: ='utility rates'!T30 -> 0.13599135 | D37: =(Toronto!D35+Ottawa!D35+Sudbury!D35+London!D35)/4 -> 0.67931365 | E37: =D37*'kWh per yr'!G$22 -> 740.48381 | F37: =MIN(MAX(($B32-600)*6,0),$E37*F$3)*($B37) -> 122.39222 | G37: =MIN(MAX(($B32-600)*6,0),$E37*G$3)*($B37) -> 122.39222 | H37: =MIN(MAX(($B32-600)*6,0),$E37*H$3)*($B37) -> 122.39222 | L37: 2052 | M37: =M36+M$8*(1+input!$B$8)^($L37-2024) -> 45843.863 | N37: =N36+N$8*(1+input!$B$8)^($L37-2024) -> 45955.95 | O37: =O36+O$8*(1+input!$B$8)^($L37-2024) -> 37363.86 | P37: =P36+P$8*(1+input!$B$8)^($L37-2024) -> 39005 | Q37: =Q36+Q$8*(1+input!$B$8)^($L37-2024) -> 317.98747 | R37: =R36+R$8*(1+input!$B$8)^($L37-2024) -> 5616.1987 | S37: =S36+S$8*(1+input!$B$8)^($L37-2024) -> 11024.01 | T37: =T36+T$8*(1+input!$B$8)^($L37-2024) -> 20017.076 | ... AB37: =AB36+AB$8*(1+input!$B$8)^($L37-2024) -> 2431.9201
L38: 2053 | M38: =M37+M$8*(1+input!$B$8)^($L38-2024) -> 47424.686 | N38: =N37+N$8*(1+input!$B$8)^($L38-2024) -> 47540.638 | O38: =O37+O$8*(1+input!$B$8)^($L38-2024) -> 38652.269 | P38: =P37+P$8*(1+input!$B$8)^($L38-2024) -> 40350 | Q38: =Q37+Q$8*(1+input!$B$8)^($L38-2024) -> 1110.3314 | R38: =R37+R$8*(1+input!$B$8)^($L38-2024) -> 6804.7146 | S38: =S37+S$8*(1+input!$B$8)^($L38-2024) -> 12608.698 | T38: =T37+T$8*(1+input!$B$8)^($L38-2024) -> 22394.107 | ... AB38: =AB37+AB$8*(1+input!$B$8)^($L38-2024) -> 3720.3291
A39: total | D39: =SUM(D34:D37)/2 -> 1 | E39: =SUM(E34:E37)/2 -> 1090.047 | F39: =SUM(F34:F37) -> 652.9323 | G39: =SUM(G34:G37) -> 970.67063 | H39: =SUM(H34:H37) -> 1288.409 | L39: 2054 | M39: =M38+M$8*(1+input!$B$8)^($L39-2024) -> 49005.508 | N39: =N38+N$8*(1+input!$B$8)^($L39-2024) -> 49125.326 | O39: =O38+O$8*(1+input!$B$8)^($L39-2024) -> 39940.678 | P39: =P38+P$8*(1+input!$B$8)^($L39-2024) -> 41695 | Q39: =Q38+Q$8*(1+input!$B$8)^($L39-2024) -> 1902.6754 | R39: =R38+R$8*(1+input!$B$8)^($L39-2024) -> 7993.2306 | S39: =S38+S$8*(1+input!$B$8)^($L39-2024) -> 14193.386 | T39: =T38+T$8*(1+input!$B$8)^($L39-2024) -> 24771.139 | ... AB39: =AB38+AB$8*(1+input!$B$8)^($L39-2024) -> 5008.7381
A40: payback (no grant) | F40: =(input!$B12+'utility rates'!$L40)/'ON avg'!F39 -> 29.426308 | G40: =(input!$B13+'utility rates'!$L40)/'ON avg'!G39 -> 25.397873 | H40: =(input!$B14+'utility rates'!$L40)/'ON avg'!H39 -> 23.356367 | L40: 2055 | M40: =M39+M$8*(1+input!$B$8)^($L40-2024) -> 50586.331 | N40: =N39+N$8*(1+input!$B$8)^($L40-2024) -> 50710.013 | O40: =O39+O$8*(1+input!$B$8)^($L40-2024) -> 41229.087 | P40: =P39+P$8*(1+input!$B$8)^($L40-2024) -> 43040 | Q40: =Q39+Q$8*(1+input!$B$8)^($L40-2024) -> 2695.0194 | R40: =R39+R$8*(1+input!$B$8)^($L40-2024) -> 9181.7465 | S40: =S39+S$8*(1+input!$B$8)^($L40-2024) -> 15778.074 | T40: =T39+T$8*(1+input!$B$8)^($L40-2024) -> 27148.171 | ... AB40: =AB39+AB$8*(1+input!$B$8)^($L40-2024) -> 6297.147
A41: payback (with 5K grant) | F41: =(input!$B12+'utility rates'!$L40-5000)/F39 -> 21.768547 | G41: =(input!$B13+'utility rates'!$L40-5000)/G39 -> 20.246795 | H41: =(input!$B14+'utility rates'!$L40-5000)/H39 -> 19.475611 | L41: 2056 | M41: =M40+M$8*(1+input!$B$8)^($L41-2024) -> 52167.154 | N41: =N40+N$8*(1+input!$B$8)^($L41-2024) -> 52294.701 | O41: =O40+O$8*(1+input!$B$8)^($L41-2024) -> 42517.496 | P41: =P40+P$8*(1+input!$B$8)^($L41-2024) -> 44385 | Q41: =Q40+Q$8*(1+input!$B$8)^($L41-2024) -> 3487.3633 | R41: =R40+R$8*(1+input!$B$8)^($L41-2024) -> 10370.262 | S41: =S40+S$8*(1+input!$B$8)^($L41-2024) -> 17362.762 | T41: =T40+T$8*(1+input!$B$8)^($L41-2024) -> 29525.203 | ... AB41: =AB40+AB$8*(1+input!$B$8)^($L41-2024) -> 7585.556
...

Sheet Alectra
Q2: TOU | W2: ULO | Z2: Tiered
F3: =input!$B$3 -> 5 | G3: =input!$B$4 -> 7.5 | H3: =input!$B$5 -> 10 | P3: need to change B32 and B33 | Q3: 5 | R3: 7.5 | S3: 10 | T3: 15 | U3: 20 | V3: 25 | W3: 5 | X3: 7.5 | Y3: 10 | Z3: 5 | AA3: 7.5 | AB3: 10
B4: electricity cost/kWh | C4: kW/m2/yr | D4: % of total | E4: kWh/kW | F4: annual savings | G4: annual savings | H4: annual savings | P4: solar array cost | Q4: =input!$B12+'utility rates'!$L39-input!$B30*Q3 -> 19275.75 | R4: =input!$B13+'utility rates'!$M39-input!$B30*R3 -> 24715.332 | S4: =input!$B14+'utility rates'!$N39-input!$B30*S3 -> 30154.915 | T4: =input!$B15+'utility rates'!$O39-input!$B30*T3 -> 42728.769 | U4: =input!$B16+'utility rates'!$P39-input!$B30*U3 -> 53607.934 | V4: =input!$B17+'utility rates'!$Q39-input!$B30*V3 -> 64487.099 | W4: =input!$B12+'utility rates'!$L39-input!$B30*W3 -> 19275.75 | X4: =input!$B13+'utility rates'!$M39-input!$B30*X3 -> 24715.332 | Y4: =input!$B14+'utility rates'!$N39-input!$B30*Y3 -> 30154.915 | Z4: =input!$B15+'utility rates'!$O39-input!$B30*Z3 -> 42728.769 | AA4: =input!$B16+'utility rates'!$P39-input!$B30*AA3 -> 53607.934 | AB4: =input!$B17+'utility rates'!$Q39-input!$B30*AB3 -> 64487.099
A5: ULO | D5: average from other cities | P5: replacement inverter cost | Q5: =input!$B22 -> 3446.6 | R5: =input!$B23 -> 4154.6 | S5: =input!$B24 -> 4753 | T5: =input!$B25 -> 6077.6667 | U5: =input!$B26 -> 7384.0667 | V5: =input!$B27 -> 8690.4667 | W5: =input!$B22 -> 3446.6 | X5: =input!$B23 -> 4154.6 | Y5: =input!$B24 -> 4753 | Z5: =input!$B22 -> 3446.6 | AA5: =input!$B23 -> 4154.6 | AB5: =input!$B24 -> 4753
L6: payback | Q6: =COUNTIF(Q8:Q45, "<0")+1 -> 29 | R6: =COUNTIF(R8:R45, "<0")+1 -> 25 | S6: =COUNTIF(S8:S45, "<0")+1 -> 23 | T6: =COUNTIF(T8:T45, "<0")+1 -> 21 | U6: =COUNTIF(U8:U45, "<0")+1 -> 20 | V6: =COUNTIF(V8:V45, "<0")+1 -> 19 | W6: =COUNTIF(W8:W45, "<0")+1 -> 29 | X6: =COUNTIF(X8:X45, "<0")+1 -> 25 | ... AB6: =COUNTIF(AB8:AB45, "<0")+1 -> 38
A7: on-peak | B7: ='utility rates'!S25 -> 0.27627079 | D7: =(Toronto!D7+Ottawa!D7+Sudbury!D7+London!D7)/4 -> 0.13773564 | E7: =D7*'kWh per yr'!G$22 -> 150.13832 | F7: =$E7*F$3*$B7 -> 207.39417 | G7: =$E7*G$3*$B7 -> 311.09125 | H7: =$E7*H$3*$B7 -> 414.78833 | L7: year | M7: ULO | N7: TOU | O7: tiered (avg electricity use) | P7: tiered (avg use with ASHP/HPWH + EV) | Q7: cumulative annual savings (5 kW | R7: cumulative annual savings 7.5 kW | S7: cumulative annual savings 10 kW | W7: cumulative annual savings (5 kW | X7: cumulative annual savings 7.5 kW | Y7: cumulative annual savings 10 kW | Z7: cumulative annual savings (5 kW | AA7: cumulative annual savings 7.5 kW | AB7: cumulative annual savings 10 kW
