Workbook

Sheet Introduction
A2: An analysis of the impacts of all-electric heat pumps and peak mitigation technologies on peak power demand in Ontario
A4: This spreadsheet is designed to help the user understand the calculation made for the report on the impacts of all-electric heat pump and peak mitigation technologies on peak power demand in Ontario. Users also have the opportunity to change some of the assumptions and data points used and test the impacts on the outcomes.
A6: The ASHPs and GSHPs sheets contain the raw data used to determine the power draw of different sized heat pumps in each temperature bin. Tables showing the home heating load calculations are found at the bottom of these sheets.
A8: The input sheet contains additional input data and sources for all equipment used in the analysis, geographical housing statistics and data used in calculating the avoided costs of building new electricity generation. Values in this sheet can be changed to test the impacts on the calculated outcomes.
A10: The regional outcomes sheet summarizes the heat pump and peak mitigation technology outcomes for each of the geographic regions as well as the outcomes for an average Ontario single family home after taking the geographically weighted average. These outcomes form the basis of the values in the Figures.
A12: The data used to plot the Figures can be seen in the corresponding Figure sheets.
A14: The assumptions sheet lists the assumptions that were made in this analysis.
A16: The formulas sheet shows the calculations and methodology used. For further details, please refer to the full report.

Sheet ASHPs
A1: ASHP data from manufacturer specification sheets
E3: without backup | K3: capacity | Q3: capacity met by backup resistance heater | W3: COP | AC3: % of time HP is running | AI3: % of time electric resistance is running
A4: brand | B4: model | C4: size | D4: scop | E4: kW at -10 | F4: kW at -13.5 | G4: kW at -15 | H4: kW at -20 | I4: kW at -25 | J4: kW a -30 | K4: -10 | L4: -13.5 | M4: -15 | N4: -20 | O4: -25 | P4: -30 | Q4: -10 | R4: -13.5 | S4: -15 | T4: -20 | U4: -25 | V4: -30 | W4: -10 | X4: -13.5 | Y4: -15 | Z4: -20 | AA4: -25 | AB4: -30 | AC4: -10 | AD4: -13.5 | AE4: -15 | AF4: -20 | AG4: -25 | AH4: -30 | AI4: -10 | AJ4: -13.5 | AK4: -15 | AL4: -20 | AM4: -25 | AN4: -30
A5: Capacity calculated using 36,000 BTU/hr at -20'C
A7: -30'C design temperature
A8: Moovair | B8: FMA48HIAHUU230X7/DMA48HOS20230E7 | C8: 4t | E8: 6.86 | F8: 6.93 | G8: 7.1 | H8: 7.46 | I8: 7.83 | J8: 7.59 | K8: 50440 | L8: 48830 | M8: 47060 | N8: 43290 | O8: 38960 | P8: 33120 | Q8: =MAX(ASHPs!I$81 -K8,0) -> 0 | R8: =MAX(ASHPs!J$81 -L8,0) -> 0 | S8: =MAX(ASHPs!K$81 -M8,0) -> 0 | T8: =MAX(ASHPs!L$81 -N8,0) -> 0 | U8: =MAX(ASHPs!M$81 -O8,0) -> 2355.7029 | V8: =MAX(ASHPs!N$81 -P8,0) -> 12932.545 | W8: =K8/(E8*3412) -> 2.1549735 | X8: =L8/(F8*3412) -> 2.0651161 | Y8: =M8/(G8*3412) -> 1.9426052 | Z8: =N8/(H8*3412) -> 1.7007471 | AA8: =O8/(I8*3412) -> 1.4583043 | AB8: =P8/(J8*3412) -> 1.2789087 | AC8: =IF(ASHPs!I$81/K8<1, ASHPs!I$81/K8,1) -> 0.53737464 | AD8: =IF(ASHPs!J$81/L8<1, ASHPs!J$81/L8,1) -> 0.62299746 | AE8: =IF(ASHPs!K$81/M8<1, ASHPs!K$81/M8,1) -> 0.67662598 | AF8: =IF(ASHPs!L$81/N8<1, ASHPs!L$81/N8,1) -> 0.84497253 | AG8: =IF(ASHPs!M$81/O8<1, ASHPs!M$81/O8,1) -> 1 | AH8: =IF(ASHPs!N$81/P8<1, ASHPs!N$81/P8,1) -> 1 | AI8: =Q8/(15*3412) -> 0 | AJ8: =R8/(15*3412) -> 0 | AK8: =S8/(15*3412) -> 0 | AL8: =T8/(15*3412) -> 0 | AM8: =U8/(15*3412) -> 0.046027803 | AN8: =V8/(15*3412) -> 0.25268748
A9: Daikin Comfort | B9: FTQ48TAVJU + RZQ48TAVJUA | C9: 4t | E9: 6.67 | F9: 6.47 | G9: 6.41 | H9: 6.03 | I9: =AVERAGE(E9:H9) -> 6.395 | J9: =AVERAGE(E9:I9) -> 6.395 | K9: =15.3*3412 -> 52203.6 | L9: =14.1*3412 -> 48109.2 | M9: =13.7*3412 -> 46744.4 | N9: =11.9*3412 -> 40602.8 | O9: =0.9*N9 -> 36542.52 | P9: =0.5*N9 -> 20301.4 | Q9: =MAX(ASHPs!I$81 -K9,0) -> 0 | R9: =MAX(ASHPs!J$81 -L9,0) -> 0 | S9: =MAX(ASHPs!K$81 -M9,0) -> 0 | T9: =MAX(ASHPs!L$81 -N9,0) -> 0 | U9: =MAX(ASHPs!M$81 -O9,0) -> 4773.1829 | V9: =MAX(ASHPs!N$81 -P9,0) -> 25751.145 | W9: =K9/(E9*3412) -> 2.2938531 | X9: =L9/(F9*3412) -> 2.179289 | Y9: =M9/(G9*3412) -> 2.1372855 | Z9: =N9/(H9*3412) -> 1.973466 | AA9: =O9/(I9*3412) -> 1.6747459 | AB9: =P9/(J9*3412) -> 0.93041439 | AC9: =IF(ASHPs!I$81/K9<1, ASHPs!I$81/K9,1) -> 0.51922045 | AD9: =IF(ASHPs!J$81/L9<1, ASHPs!J$81/L9,1) -> 0.63233157 | AE9: =IF(ASHPs!K$81/M9<1, ASHPs!K$81/M9,1) -> 0.6811943 | AF9: =IF(ASHPs!L$81/N9<1, ASHPs!L$81/N9,1) -> 0.90089503 | AG9: =IF(ASHPs!M$81/O9<1, ASHPs!M$81/O9,1) -> 1 | AH9: =IF(ASHPs!N$81/P9<1, ASHPs!N$81/P9,1) -> 1 | AI9: =Q9/(15*3412) -> 0 | AJ9: =R9/(15*3412) -> 0 | AK9: =S9/(15*3412) -> 0 | AL9: =T9/(15*3412) -> 0 | AM9: =U9/(15*3412) -> 0.09326266 | AN9: =V9/(15*3412) -> 0.50314859
A10: Fujitsu | B10: AMUG48LMAS | C10: 4t | E10: 6.34 | F10: 6.37 | G10: 6.39 | H10: 6.34 | I10: 6.29 | J10: =AVERAGE(E10:I10) -> 6.346 | K10: 51000 | L10: 51000 | M10: 51000 | N10: 45500 | O10: 39000 | P10: =_xlfn.FORECAST.LINEAR(P$4,L10:O10,L$4:O$4) -> 34039.403 | Q10: =MAX(ASHPs!I$81 -K10,0) -> 0 | R10: =MAX(ASHPs!J$81 -L10,0) -> 0 | S10: =MAX(ASHPs!K$81 -M10,0) -> 0 | T10: =MAX(ASHPs!L$81 -N10,0) -> 0 | U10: =MAX(ASHPs!M$81 -O10,0) -> 2315.7029 | V10: =MAX(ASHPs!N$81 -P10,0) -> 12013.142 | W10: =K10/(E10*3412) -> 2.3576096 | X10: =L10/(F10*3412) -> 2.3465063 | Y10: =M10/(G10*3412) -> 2.339162 | Z10: =N10/(H10*3412) -> 2.1033576 | AA10: =O10/(I10*3412) -> 1.8172093 | AB10: =P10/(J10*3412) -> 1.5720735 | AC10: =IF(ASHPs!I$81/K10<1, ASHPs!I$81/K10,1) -> 0.53147405 | AD10: =IF(ASHPs!J$81/L10<1, ASHPs!J$81/L10,1) -> 0.59648953 | AE10: =IF(ASHPs!K$81/M10<1, ASHPs!K$81/M10,1) -> 0.62435331 | AF10: =IF(ASHPs!L$81/N10<1, ASHPs!L$81/N10,1) -> 0.80393101 | AG10: =IF(ASHPs!M$81/O10<1, ASHPs!M$81/O10,1) -> 1 | AH10: =IF(ASHPs!N$81/P10<1, ASHPs!N$81/P10,1) -> 1 | AI10: =Q10/(15*3412) -> 0 | AJ10: =R10/(15*3412) -> 0 | AK10: =S10/(15*3412) -> 0 | AL10: =T10/(15*3412) -> 0 | AM10: =U10/(15*3412) -> 0.045246247 | AN10: =V10/(15*3412) -> 0.23472337
A11: Mitsubishi Zuba | B11: PVA‐A42AA7/PUZ-HA42NKA | C11: 4t | E11: 7.67 | F11: 7.6 | G11: 7.54 | H11: 7.35 | I11: 7.1 | J11: =AVERAGE(E11:I11) -> 7.452 | K11: 48000 | L11: 48000 | M11: 48000 | N11: 43200 | O11: 38400 | P11: =_xlfn.FORECAST.LINEAR(P$4,L11:O11,L$4:O$4) -> 34239.021 | Q11: =MAX(ASHPs!I$81 -K11,0) -> 0 | R11: =MAX(ASHPs!J$81 -L11,0) -> 0 | S11: =MAX(ASHPs!K$81 -M11,0) -> 0 | T11: =MAX(ASHPs!L$81 -N11,0) -> 0 | U11: =MAX(ASHPs!M$81 -O11,0) -> 2915.7029 | V11: =MAX(ASHPs!N$81 -P11,0) -> 11813.524 | W11: =K11/(E11*3412) -> 1.8341584 | X11: =L11/(F11*3412) -> 1.851052 | Y11: =M11/(G11*3412) -> 1.8657819 | Z11: =N11/(H11*3412) -> 1.7226117 | AA11: =O11/(I11*3412) -> 1.5851262 | AB11: =P11/(J11*3412) -> 1.3466027 | AC11: =IF(ASHPs!I$81/K11<1, ASHPs!I$81/K11,1) -> 0.56469118 | AD11: =IF(ASHPs!J$81/L11<1, ASHPs!J$81/L11,1) -> 0.63377013 | AE11: =IF(ASHPs!K$81/M11<1, ASHPs!K$81/M11,1) -> 0.66337539 | AF11: =IF(ASHPs!L$81/N11<1, ASHPs!L$81/N11,1) -> 0.84673289 | AG11: =IF(ASHPs!M$81/O11<1, ASHPs!M$81/O11,1) -> 1 | AH11: =IF(ASHPs!N$81/P11<1, ASHPs!N$81/P11,1) -> 1 | AI11: =Q11/(15*3412) -> 0 | AJ11: =R11/(15*3412) -> 0 | AK11: =S11/(15*3412) -> 0 | AL11: =T11/(15*3412) -> 0 | AM11: =U11/(15*3412) -> 0.056969577 | AN11: =V11/(15*3412) -> 0.23082306
A12: GE Connect | B12: AUH4060ZGDA/UUY60ZGDAA | C12: 5t | E12: 7.1 | F12: 7.13 | G12: 7.16 | H12: 7 | I12: 6.7 | J12: 6.35 | K12: 49000 | L12: 46500 | M12: 44000 | N12: 37000 | O12: 32000 | P12: 27000 | Q12: =MAX(ASHPs!I$81 -K12,0) -> 0 | R12: =MAX(ASHPs!J$81 -L12,0) -> 0 | S12: =MAX(ASHPs!K$81 -M12,0) -> 0 | T12: =MAX(ASHPs!L$81 -N12,0) -> 0 | U12: =MAX(ASHPs!M$81 -O12,0) -> 9315.7029 | V12: =MAX(ASHPs!N$81 -P12,0) -> 19052.545 | W12: =K12/(E12*3412) -> 2.0226871 | X12: =L12/(F12*3412) -> 1.9114124 | Y12: =M12/(G12*3412) -> 1.8010702 | Z12: =N12/(H12*3412) -> 1.5491542 | AA12: =O12/(I12*3412) -> 1.3998005 | AB12: =P12/(J12*3412) -> 1.2461807 | AC12: =IF(ASHPs!I$81/K12<1, ASHPs!I$81/K12,1) -> 0.55316687 | AD12: =IF(ASHPs!J$81/L12<1, ASHPs!J$81/L12,1) -> 0.65421432 | AE12: =IF(ASHPs!K$81/M12<1, ASHPs!K$81/M12,1) -> 0.72368224 | AF12: =IF(ASHPs!L$81/N12<1, ASHPs!L$81/N12,1) -> 0.98861786 | AG12: =IF(ASHPs!M$81/O12<1, ASHPs!M$81/O12,1) -> 1 | AH12: =IF(ASHPs!N$81/P12<1, ASHPs!N$81/P12,1) -> 1 | AI12: =Q12/(15*3412) -> 0 | AJ12: =R12/(15*3412) -> 0 | AK12: =S12/(15*3412) -> 0 | AL12: =T12/(15*3412) -> 0 | AM12: =U12/(15*3412) -> 0.18201842 | AN12: =V12/(15*3412) -> 0.37226544
A14: average | E14: =AVERAGE(E7:E12) -> 6.928 | F14: =AVERAGE(F7:F12) -> 6.9 | G14: =AVERAGE(G7:G12) -> 6.92 | H14: =AVERAGE(H7:H12) -> 6.836 | I14: =AVERAGE(I7:I12) -> 6.863 | J14: =AVERAGE(J7:J12) -> 6.8266 | K14: =AVERAGE(K7:K12) -> 50128.72 | L14: =AVERAGE(L7:L12) -> 48487.84 | ... AN14: =AVERAGE(AN7:AN12) -> 0.31872959
A16: -25'C design temperature
A17: Moovair | B17: FMA48HIAHUU230X7/DMA48HOS20230E7 | C17: 4t | E17: 6.86 | F17: 6.93 | G17: 7.1 | H17: 7.46 | I17: 7.83 | J17: 7.59 | K17: 50440 | L17: 48830 | M17: 47060 | N17: 43290 | O17: 38960 | P17: 33120 | Q17: =MAX(ASHPs!I$81 -K17,0) -> 0 | R17: =MAX(ASHPs!J$81 -L17,0) -> 0 | S17: =MAX(ASHPs!K$81 -M17,0) -> 0 | T17: =MAX(ASHPs!L$81 -N17,0) -> 0 | U17: =MAX(ASHPs!M$81 -O17,0) -> 2355.7029 | V17: =MAX(ASHPs!N$81 -P17,0) -> 12932.545 | W17: =K17/(E17*3412) -> 2.1549735 | X17: =L17/(F17*3412) -> 2.0651161 | Y17: =M17/(G17*3412) -> 1.9426052 | Z17: =N17/(H17*3412) -> 1.7007471 | AA17: =O17/(I17*3412) -> 1.4583043 | AB17: =P17/(J17*3412) -> 1.2789087 | AC17: =IF(ASHPs!I$81/K17<1, ASHPs!I$81/K17,1) -> 0.53737464 | AD17: =IF(ASHPs!J$81/L17<1, ASHPs!J$81/L17,1) -> 0.62299746 | AE17: =IF(ASHPs!K$81/M17<1, ASHPs!K$81/M17,1) -> 0.67662598 | AF17: =IF(ASHPs!L$81/N17<1, ASHPs!L$81/N17,1) -> 0.84497253 | AG17: =IF(ASHPs!M$81/O17<1, ASHPs!M$81/O17,1) -> 1 | AH17: =IF(ASHPs!N$81/P17<1, ASHPs!N$81/P17,1) -> 1 | AI17: =Q17/(10*3412) -> 0 | AJ17: =R17/(10*3412) -> 0 | AK17: =S17/(10*3412) -> 0 | AL17: =T17/(10*3412) -> 0 | AM17: =U17/(10*3412) -> 0.069041704 | AN17: =V17/(10*3412) -> 0.37903121
A18: Daikin Comfort | B18: FTQ48TAVJU + RZQ48TAVJUA | C18: 4t | E18: 6.67 | F18: 6.47 | G18: 6.41 | H18: 6.03 | I18: =AVERAGE(E18:H18) -> 6.395 | J18: =AVERAGE(E18:I18) -> 6.395 | K18: =15.3*3412 -> 52203.6 | L18: =14.1*3412 -> 48109.2 | M18: =13.7*3412 -> 46744.4 | N18: =11.9*3412 -> 40602.8 | O18: =0.9*N18 -> 36542.52 | P18: =0.5*N18 -> 20301.4 | Q18: =MAX(ASHPs!I$81 -K18,0) -> 0 | R18: =MAX(ASHPs!J$81 -L18,0) -> 0 | S18: =MAX(ASHPs!K$81 -M18,0) -> 0 | T18: =MAX(ASHPs!L$81 -N18,0) -> 0 | U18: =MAX(ASHPs!M$81 -O18,0) -> 4773.1829 | V18: =MAX(ASHPs!N$81 -P18,0) -> 25751.145 | W18: =K18/(E18*3412) -> 2.2938531 | X18: =L18/(F18*3412) -> 2.179289 | Y18: =M18/(G18*3412) -> 2.1372855 | Z18: =N18/(H18*3412) -> 1.973466 | AA18: =O18/(I18*3412) -> 1.6747459 | AB18: =P18/(J18*3412) -> 0.93041439 | AC18: =IF(ASHPs!I$81/K18<1, ASHPs!I$81/K18,1) -> 0.51922045 | AD18: =IF(ASHPs!J$81/L18<1, ASHPs!J$81/L18,1) -> 0.63233157 | AE18: =IF(ASHPs!K$81/M18<1, ASHPs!K$81/M18,1) -> 0.6811943 | AF18: =IF(ASHPs!L$81/N18<1, ASHPs!L$81/N18,1) -> 0.90089503 | AG18: =IF(ASHPs!M$81/O18<1, ASHPs!M$81/O18,1) -> 1 | AH18: =IF(ASHPs!N$81/P18<1, ASHPs!N$81/P18,1) -> 1 | AI18: =Q18/(10*3412) -> 0 | AJ18: =R18/(10*3412) -> 0 | AK18: =S18/(10*3412) -> 0 | AL18: =T18/(10*3412) -> 0 | AM18: =U18/(10*3412) -> 0.13989399 | AN18: =V18/(10*3412) -> 0.75472289
A19: Fujitsu | B19: AMUG48LMAS | C19: 4t | E19: 6.34 | F19: 6.37 | G19: 6.39 | H19: 6.34 | I19: 6.29 | J19: =AVERAGE(E19:I19) -> 6.346 | K19: 51000 | L19: 51000 | M19: 51000 | N19: 45500 | O19: 39000 | P19: =_xlfn.FORECAST.LINEAR(P$4,L19:O19,L$4:O$4) -> 34039.403 | Q19: =MAX(ASHPs!I$81 -K19,0) -> 0 | R19: =MAX(ASHPs!J$81 -L19,0) -> 0 | S19: =MAX(ASHPs!K$81 -M19,0) -> 0 | T19: =MAX(ASHPs!L$81 -N19,0) -> 0 | U19: =MAX(ASHPs!M$81 -O19,0) -> 2315.7029 | V19: =MAX(ASHPs!N$81 -P19,0) -> 12013.142 | W19: =K19/(E19*3412) -> 2.3576096 | X19: =L19/(F19*3412) -> 2.3465063 | Y19: =M19/(G19*3412) -> 2.339162 | Z19: =N19/(H19*3412) -> 2.1033576 | AA19: =O19/(I19*3412) -> 1.8172093 | AB19: =P19/(J19*3412) -> 1.5720735 | AC19: =IF(ASHPs!I$81/K19<1, ASHPs!I$81/K19,1) -> 0.53147405 | AD19: =IF(ASHPs!J$81/L19<1, ASHPs!J$81/L19,1) -> 0.59648953 | AE19: =IF(ASHPs!K$81/M19<1, ASHPs!K$81/M19,1) -> 0.62435331 | AF19: =IF(ASHPs!L$81/N19<1, ASHPs!L$81/N19,1) -> 0.80393101 | AG19: =IF(ASHPs!M$81/O19<1, ASHPs!M$81/O19,1) -> 1 | AH19: =IF(ASHPs!N$81/P19<1, ASHPs!N$81/P19,1) -> 1 | AI19: =Q19/(10*3412) -> 0 | AJ19: =R19/(10*3412) -> 0 | AK19: =S19/(10*3412) -> 0 | AL19: =T19/(10*3412) -> 0 | AM19: =U19/(10*3412) -> 0.067869371 | AN19: =V19/(10*3412) -> 0.35208505
A20: Mitsubishi Zuba | B20: PVA‐A42AA7/PUZ-HA42NKA | C20: 4t | E20: 7.67 | F20: 7.6 | G20: 7.54 | H20: 7.35 | I20: 7.1 | J20: =AVERAGE(E20:I20) -> 7.452 | K20: 48000 | L20: 48000 | M20: 48000 | N20: 43200 | O20: 38400 | P20: =_xlfn.FORECAST.LINEAR(P$4,L20:O20,L$4:O$4) -> 34239.021 | Q20: =MAX(ASHPs!I$81 -K20,0) -> 0 | R20: =MAX(ASHPs!J$81 -L20,0) -> 0 | S20: =MAX(ASHPs!K$81 -M20,0) -> 0 | T20: =MAX(ASHPs!L$81 -N20,0) -> 0 | U20: =MAX(ASHPs!M$81 -O20,0) -> 2915.7029 | V20: =MAX(ASHPs!N$81 -P20,0) -> 11813.524 | W20: =K20/(E20*3412) -> 1.8341584 | X20: =L20/(F20*3412) -> 1.851052 | Y20: =M20/(G20*3412) -> 1.8657819 | Z20: =N20/(H20*3412) -> 1.7226117 | AA20: =O20/(I20*3412) -> 1.5851262 | AB20: =P20/(J20*3412) -> 1.3466027 | AC20: =IF(ASHPs!I$81/K20<1, ASHPs!I$81/K20,1) -> 0.56469118 | AD20: =IF(ASHPs!J$81/L20<1, ASHPs!J$81/L20,1) -> 0.63377013 | AE20: =IF(ASHPs!K$81/M20<1, ASHPs!K$81/M20,1) -> 0.66337539 | AF20: =IF(ASHPs!L$81/N20<1, ASHPs!L$81/N20,1) -> 0.84673289 | AG20: =IF(ASHPs!M$81/O20<1, ASHPs!M$81/O20,1) -> 1 | AH20: =IF(ASHPs!N$81/P20<1, ASHPs!N$81/P20,1) -> 1 | AI20: =Q20/(10*3412) -> 0 | AJ20: =R20/(10*3412) -> 0 | AK20: =S20/(10*3412) -> 0 | AL20: =T20/(10*3412) -> 0 | AM20: =U20/(10*3412) -> 0.085454365 | AN20: =V20/(10*3412) -> 0.3462346
A21: GE Connect | B21: AUH4060ZGDA/UUY60ZGDAA | C21: 5t | E21: 7.1 | F21: 7.13 | G21: 7.16 | H21: 7 | I21: 6.7 | J21: 6.35 | K21: 49000 | L21: 46500 | M21: 44000 | N21: 37000 | O21: 32000 | P21: 27000 | Q21: =MAX(ASHPs!I$81 -K21,0) -> 0 | R21: =MAX(ASHPs!J$81 -L21,0) -> 0 | S21: =MAX(ASHPs!K$81 -M21,0) -> 0 | T21: =MAX(ASHPs!L$81 -N21,0) -> 0 | U21: =MAX(ASHPs!M$81 -O21,0) -> 9315.7029 | V21: =MAX(ASHPs!N$81 -P21,0) -> 19052.545 | W21: =K21/(E21*3412) -> 2.0226871 | X21: =L21/(F21*3412) -> 1.9114124 | Y21: =M21/(G21*3412) -> 1.8010702 | Z21: =N21/(H21*3412) -> 1.5491542 | AA21: =O21/(I21*3412) -> 1.3998005 | AB21: =P21/(J21*3412) -> 1.2461807 | AC21: =IF(ASHPs!I$81/K21<1, ASHPs!I$81/K21,1) -> 0.55316687 | AD21: =IF(ASHPs!J$81/L21<1, ASHPs!J$81/L21,1) -> 0.65421432 | AE21: =IF(ASHPs!K$81/M21<1, ASHPs!K$81/M21,1) -> 0.72368224 | AF21: =IF(ASHPs!L$81/N21<1, ASHPs!L$81/N21,1) -> 0.98861786 | AG21: =IF(ASHPs!M$81/O21<1, ASHPs!M$81/O21,1) -> 1 | AH21: =IF(ASHPs!N$81/P21<1, ASHPs!N$81/P21,1) -> 1 | AI21: =Q21/(10*3412) -> 0 | AJ21: =R21/(10*3412) -> 0 | AK21: =S21/(10*3412) -> 0 | AL21: =T21/(10*3412) -> 0 | AM21: =U21/(10*3412) -> 0.27302764 | AN21: =V21/(10*3412) -> 0.55839816
A23: average | E23: =AVERAGE(E17:E21) -> 6.928 | F23: =AVERAGE(F17:F21) -> 6.9 | G23: =AVERAGE(G17:G21) -> 6.92 | H23: =AVERAGE(H17:H21) -> 6.836 | I23: =AVERAGE(I17:I21) -> 6.863 | J23: =AVERAGE(J17:J21) -> 6.8266 | K23: =AVERAGE(K17:K21) -> 50128.72 | L23: =AVERAGE(L17:L21) -> 48487.84 | ... AN23: =AVERAGE(AN17:AN21) -> 0.47809438
A25: -20'C design temperature
A26: Moovair | B26: FMA36HIAHUU230X7/DMA36HOS20230E7 | C26: 3t | E26: 6.44 | F26: 6.33 | G26: 6.25 | H26: 6.56 | I26: 6.89 | J26: 6.91 | K26: 42840 | L26: 40720 | M26: 38890 | N26: 35780 | O26: 32200 | P26: 27690 | Q26: =MAX(ASHPs!I$81 -K26,0) -> 0 | R26: =MAX(ASHPs!J$81 -L26,0) -> 0 | S26: =MAX(ASHPs!K$81 -M26,0) -> 0 | T26: =MAX(ASHPs!L$81 -N26,0) -> 798.86084 | U26: =MAX(ASHPs!M$81 -O26,0) -> 9115.7029 | V26: =MAX(ASHPs!N$81 -P26,0) -> 18362.545 | W26: =K26/(E26*3412) -> 1.9496407 | X26: =L26/(F26*3412) -> 1.8853632 | Y26: =M26/(G26*3412) -> 1.8236811 | Z26: =N26/(H26*3412) -> 1.5985546 | AA26: =O26/(I26*3412) -> 1.3697068 | AB26: =P26/(J26*3412) -> 1.1744537 | AC26: =IF(ASHPs!I$81/K26<1, ASHPs!I$81/K26,1) -> 0.6327072 | AD26: =IF(ASHPs!J$81/L26<1, ASHPs!J$81/L26,1) -> 0.74707677 | AE26: =IF(ASHPs!K$81/M26<1, ASHPs!K$81/M26,1) -> 0.81877137 | AF26: =IF(ASHPs!L$81/N26<1, ASHPs!L$81/N26,1) -> 1 | AG26: =IF(ASHPs!M$81/O26<1, ASHPs!M$81/O26,1) -> 1 | AH26: =IF(ASHPs!N$81/P26<1, ASHPs!N$81/P26,1) -> 1 | AI26: =Q26/(10*3412) -> 0 | AJ26: =R26/(10*3412) -> 0 | AK26: =S26/(10*3412) -> 0 | AL26: =T26/(10*3412) -> 0.023413272 | AM26: =U26/(10*3412) -> 0.26716597 | AN26: =V26/(10*3412) -> 0.53817541
A27: Daikin Comfort | B27: FTQ36TAVJUD/A + RZQ36TAVJUA | C27: 3t | E27: 5.25 | F27: 5.9 | G27: 6.09 | H27: 7.42 | I27: =AVERAGE(E27:H27) -> 6.165 | J27: =AVERAGE(E27:I27) -> 6.165 | K27: =11.7*3412 -> 39920.4 | L27: =11.7*3412 -> 39920.4 | M27: =11.7*3412 -> 39920.4 | N27: =11.7*3412 -> 39920.4 | O27: =0.9*N27 -> 35928.36 | P27: =0.5*N27 -> 19960.2 | Q27: =MAX(ASHPs!I$81 -K27,0) -> 0 | R27: =MAX(ASHPs!J$81 -L27,0) -> 0 | S27: =MAX(ASHPs!K$81 -M27,0) -> 0 | T27: =MAX(ASHPs!L$81 -N27,0) -> 0 | U27: =MAX(ASHPs!M$81 -O27,0) -> 5387.3429 | V27: =MAX(ASHPs!N$81 -P27,0) -> 26092.345 | W27: =K27/(E27*3412) -> 2.2285714 | X27: =L27/(F27*3412) -> 1.9830508 | Y27: =M27/(G27*3412) -> 1.9211823 | Z27: =N27/(H27*3412) -> 1.5768194 | AA27: =O27/(I27*3412) -> 1.7080292 | AB27: =P27/(J27*3412) -> 0.94890511 | AC27: =IF(ASHPs!I$81/K27<1, ASHPs!I$81/K27,1) -> 0.67898059 | AD27: =IF(ASHPs!J$81/L27<1, ASHPs!J$81/L27,1) -> 0.76204061 | AE27: =IF(ASHPs!K$81/M27<1, ASHPs!K$81/M27,1) -> 0.79763777 | AF27: =IF(ASHPs!L$81/N27<1, ASHPs!L$81/N27,1) -> 0.91629495 | AG27: =IF(ASHPs!M$81/O27<1, ASHPs!M$81/O27,1) -> 1 | AH27: =IF(ASHPs!N$81/P27<1, ASHPs!N$81/P27,1) -> 1 | AI27: =Q27/(10*3412) -> 0 | AJ27: =R27/(10*3412) -> 0 | AK27: =S27/(10*3412) -> 0 | AL27: =T27/(10*3412) -> 0 | AM27: =U27/(10*3412) -> 0.15789399 | AN27: =V27/(10*3412) -> 0.76472289
A28: Mitsubishi Zuba | B28: PVA‐A36AA4/PUZ-HA36NHA5 | C28: 3t | E28: 5.69 | F28: 5.98 | G28: 6.1 | H28: 6.12 | I28: 6.15 | J28: =AVERAGE(E28:I28) -> 6.008 | K28: 38000 | L28: 38000 | M28: 38000 | N28: 34200 | O28: 30400 | P28: =_xlfn.FORECAST.LINEAR(P$4,L28:O28,L$4:O$4) -> 27105.891 | Q28: =MAX(ASHPs!I$81 -K28,0) -> 0 | R28: =MAX(ASHPs!J$81 -L28,0) -> 0 | S28: =MAX(ASHPs!K$81 -M28,0) -> 0 | T28: =MAX(ASHPs!L$81 -N28,0) -> 2378.8608 | U28: =MAX(ASHPs!M$81 -O28,0) -> 10915.703 | V28: =MAX(ASHPs!N$81 -P28,0) -> 18946.654 | W28: =K28/(E28*3412) -> 1.9573221 | X28: =L28/(F28*3412) -> 1.8624018 | Y28: =M28/(G28*3412) -> 1.8257644 | Z28: =N28/(H28*3412) -> 1.6378181 | AA28: =O28/(I28*3412) -> 1.4487366 | AB28: =P28/(J28*3412) -> 1.322284 | AC28: =IF(ASHPs!I$81/K28<1, ASHPs!I$81/K28,1) -> 0.71329412 | AD28: =IF(ASHPs!J$81/L28<1, ASHPs!J$81/L28,1) -> 0.80055174 | AE28: =IF(ASHPs!K$81/M28<1, ASHPs!K$81/M28,1) -> 0.83794786 | AF28: =IF(ASHPs!L$81/N28<1, ASHPs!L$81/N28,1) -> 1 | AG28: =IF(ASHPs!M$81/O28<1, ASHPs!M$81/O28,1) -> 1 | AH28: =IF(ASHPs!N$81/P28<1, ASHPs!N$81/P28,1) -> 1 | AI28: =Q28/(10*3412) -> 0 | AJ28: =R28/(10*3412) -> 0 | AK28: =S28/(10*3412) -> 0 | AL28: =T28/(10*3412) -> 0.069720423 | AM28: =U28/(10*3412) -> 0.31992095 | AN28: =V28/(10*3412) -> 0.55529466
A29: Fujitsu | B29: AMUG36LMAS | C29: 3t | E29: 5.82 | F29: 5.85 | G29: 5.85 | H29: 5.8 | I29: 5.75 | J29: =AVERAGE(E29:I29) -> 5.814 | K29: 44150 | L29: 43000 | M29: 42000 | N29: 38000 | O29: 32000 | P29: =_xlfn.FORECAST.LINEAR(P$4,L29:O29,L$4:O$4) -> 27703.137 | Q29: =MAX(ASHPs!I$81 -K29,0) -> 0 | R29: =MAX(ASHPs!J$81 -L29,0) -> 0 | S29: =MAX(ASHPs!K$81 -M29,0) -> 0 | T29: =MAX(ASHPs!L$81 -N29,0) -> 0 | U29: =MAX(ASHPs!M$81 -O29,0) -> 9315.7029 | V29: =MAX(ASHPs!N$81 -P29,0) -> 18349.408 | W29: =K29/(E29*3412) -> 2.2233032 | X29: =L29/(F29*3412) -> 2.154287 | Y29: =M29/(G29*3412) -> 2.1041873 | Z29: =N29/(H29*3412) -> 1.9202005 | AA29: =O29/(I29*3412) -> 1.6310719 | AB29: =P29/(J29*3412) -> 1.3965127 | AC29: =IF(ASHPs!I$81/K29<1, ASHPs!I$81/K29,1) -> 0.61393379 | AD29: =IF(ASHPs!J$81/L29<1, ASHPs!J$81/L29,1) -> 0.70746433 | AE29: =IF(ASHPs!K$81/M29<1, ASHPs!K$81/M29,1) -> 0.7581433 | AF29: =IF(ASHPs!L$81/N29<1, ASHPs!L$81/N29,1) -> 0.9626016 | AG29: =IF(ASHPs!M$81/O29<1, ASHPs!M$81/O29,1) -> 1 | AH29: =IF(ASHPs!N$81/P29<1, ASHPs!N$81/P29,1) -> 1 | AI29: =Q29/(10*3412) -> 0 | AJ29: =R29/(10*3412) -> 0 | AK29: =S29/(10*3412) -> 0 | AL29: =T29/(10*3412) -> 0 | AM29: =U29/(10*3412) -> 0.27302764 | AN29: =V29/(10*3412) -> 0.53779039
A30: GE Connect | B30: AUH4860ZGDA1/UUY48ZGDAA | C30: 4t | E30: 6.88 | F30: 6.9 | G30: 6.92 | H30: 6.2 | I30: 5.9 | J30: 5.7 | K30: 48000 | L30: 45500 | M30: 43000 | N30: 34200 | O30: 28500 | P30: 26400 | Q30: =MAX(ASHPs!I$81 -K30,0) -> 0 | R30: =MAX(ASHPs!J$81 -L30,0) -> 0 | S30: =MAX(ASHPs!K$81 -M30,0) -> 0 | T30: =MAX(ASHPs!L$81 -N30,0) -> 2378.8608 | U30: =MAX(ASHPs!M$81 -O30,0) -> 12815.703 | V30: =MAX(ASHPs!N$81 -P30,0) -> 19652.545 | W30: =K30/(E30*3412) -> 2.0447668 | X30: =L30/(F30*3412) -> 1.9326503 | Y30: =M30/(G30*3412) -> 1.821182 | Z30: =N30/(H30*3412) -> 1.6166849 | AA30: =O30/(I30*3412) -> 1.4157411 | AB30: =P30/(J30*3412) -> 1.3574381 | AC30: =IF(ASHPs!I$81/K30<1, ASHPs!I$81/K30,1) -> 0.56469118 | AD30: =IF(ASHPs!J$81/L30<1, ASHPs!J$81/L30,1) -> 0.66859266 | AE30: =IF(ASHPs!K$81/M30<1, ASHPs!K$81/M30,1) -> 0.74051206 | AF30: =IF(ASHPs!L$81/N30<1, ASHPs!L$81/N30,1) -> 1 | AG30: =IF(ASHPs!M$81/O30<1, ASHPs!M$81/O30,1) -> 1 | AH30: =IF(ASHPs!N$81/P30<1, ASHPs!N$81/P30,1) -> 1 | AI30: =Q30/(10*3412) -> 0 | AJ30: =R30/(10*3412) -> 0 | AK30: =S30/(10*3412) -> 0 | AL30: =T30/(10*3412) -> 0.069720423 | AM30: =U30/(10*3412) -> 0.37560677 | AN30: =V30/(10*3412) -> 0.57598315
A32: average | E32: =AVERAGE(E26:E30) -> 6.016 | F32: =AVERAGE(F26:F30) -> 6.192 | G32: =AVERAGE(G26:G30) -> 6.242 | H32: =AVERAGE(H26:H30) -> 6.42 | I32: =AVERAGE(I26:I30) -> 6.171 | J32: =AVERAGE(J26:J30) -> 6.1194 | K32: =AVERAGE(K26:K30) -> 42582.08 | L32: =AVERAGE(L26:L30) -> 41428.08 | ... AN32: =AVERAGE(AN26:AN30) -> 0.5943933
A34: Moovair | B34: FMA30HIAHUU230X7/DMA30HOS20230E7 | C34: 2.5t | E34: 3.84 | F34: 3.97 | G34: 4.13 | H34: 4.34 | I34: 4.55 | J34: 4.52 | K34: 29620 | L34: 29080 | M34: 28550 | N34: 26270 | O34: 23900 | P34: 21040 | Q34: =MAX(ASHPs!I$81 -K34,0) -> 0 | R34: =MAX(ASHPs!J$81 -L34,0) -> 1340.9661 | S34: =MAX(ASHPs!K$81 -M34,0) -> 3292.0187 | T34: =MAX(ASHPs!L$81 -N34,0) -> 10308.861 | U34: =MAX(ASHPs!M$81 -O34,0) -> 17415.703 | V34: =MAX(ASHPs!N$81 -P34,0) -> 25012.545 | W34: =K34/(E34*3412) -> 2.2607097 | X34: =L34/(F34*3412) -> 2.1468162 | Y34: =M34/(G34*3412) -> 2.0260354 | Z34: =N34/(H34*3412) -> 1.7740315 | AA34: =O34/(I34*3412) -> 1.5394922 | AB34: =P34/(J34*3412) -> 1.3642636 | AC34: =IF(ASHPs!I$81/K34<1, ASHPs!I$81/K34,1) -> 0.91509712 | AD34: =IF(ASHPs!J$81/L34<1, ASHPs!J$81/L34,1) -> 1 | AE34: =IF(ASHPs!K$81/M34<1, ASHPs!K$81/M34,1) -> 1 | AF34: =IF(ASHPs!L$81/N34<1, ASHPs!L$81/N34,1) -> 1 | AG34: =IF(ASHPs!M$81/O34<1, ASHPs!M$81/O34,1) -> 1 | AH34: =IF(ASHPs!N$81/P34<1, ASHPs!N$81/P34,1) -> 1 | AI34: =Q34/(10*3412) -> 0 | AJ34: =R34/(10*3412) -> 0.039301468 | AK34: =S34/(10*3412) -> 0.09648355 | AL34: =T34/(10*3412) -> 0.30213543 | AM34: =U34/(10*3412) -> 0.51042506 | AN34: =V34/(10*3412) -> 0.73307576
A35: Daikin Comfort | B35: FTQ30TAVJUD/A + RZQ30TAVJUA | C35: 2.5t | E35: 4.11 | F35: 4.61 | G35: 4.77 | H35: 5.81 | I35: =AVERAGE(E35:H35) -> 4.825 | J35: =AVERAGE(E35:I35) -> 4.825 | K35: =9.96*3412 -> 33983.52 | L35: =9.96*3412 -> 33983.52 | M35: =9.96*3412 -> 33983.52 | N35: =9.96*3412 -> 33983.52 | O35: =0.9*N35 -> 30585.168 | P35: =0.5*N35 -> 16991.76 | Q35: =MAX(ASHPs!I$81 -K35,0) -> 0 | R35: =MAX(ASHPs!J$81 -L35,0) -> 0 | S35: =MAX(ASHPs!K$81 -M35,0) -> 0 | T35: =MAX(ASHPs!L$81 -N35,0) -> 2595.3408 | U35: =MAX(ASHPs!M$81 -O35,0) -> 10730.535 | V35: =MAX(ASHPs!N$81 -P35,0) -> 29060.785 | W35: =K35/(E35*3412) -> 2.4233577 | X35: =L35/(F35*3412) -> 2.1605206 | Y35: =M35/(G35*3412) -> 2.0880503 | Z35: =N35/(H35*3412) -> 1.7142857 | AA35: =O35/(I35*3412) -> 1.8578238 | AB35: =P35/(J35*3412) -> 1.0321244 | AC35: =IF(ASHPs!I$81/K35<1, ASHPs!I$81/K35,1) -> 0.79759768 | AD35: =IF(ASHPs!J$81/L35<1, ASHPs!J$81/L35,1) -> 0.89516819 | AE35: =IF(ASHPs!K$81/M35<1, ASHPs!K$81/M35,1) -> 0.93698412 | AF35: =IF(ASHPs!L$81/N35<1, ASHPs!L$81/N35,1) -> 1 | AG35: =IF(ASHPs!M$81/O35<1, ASHPs!M$81/O35,1) -> 1 | AH35: =IF(ASHPs!N$81/P35<1, ASHPs!N$81/P35,1) -> 1 | AI35: =Q35/(10*3412) -> 0 | AJ35: =R35/(10*3412) -> 0 | AK35: =S35/(10*3412) -> 0 | AL35: =T35/(10*3412) -> 0.076065089 | AM35: =U35/(10*3412) -> 0.31449399 | AN35: =V35/(10*3412) -> 0.85172289
A36: Mitsubishi Zuba | B36: PVA‐A30AA7/PUZ-HA30NHA5 | C36: 2.5t | E36: 4.58 | F36: 4.73 | G36: 4.87 | H36: 4.91 | I36: 4.95 | J36: =AVERAGE(E36:I36) -> 4.808 | K36: 32000 | L36: 32000 | M36: 32000 | N36: 28800 | O36: 25600 | P36: =_xlfn.FORECAST.LINEAR(P$4,L36:O36,L$4:O$4) -> 22826.014 | Q36: =MAX(ASHPs!I$81 -K36,0) -> 0 | R36: =MAX(ASHPs!J$81 -L36,0) -> 0 | S36: =MAX(ASHPs!K$81 -M36,0) -> 0 | T36: =MAX(ASHPs!L$81 -N36,0) -> 7778.8608 | U36: =MAX(ASHPs!M$81 -O36,0) -> 15715.703 | V36: =MAX(ASHPs!N$81 -P36,0) -> 23226.531 | W36: =K36/(E36*3412) -> 2.0477431 | X36: =L36/(F36*3412) -> 1.9828041 | Y36: =M36/(G36*3412) -> 1.9258036 | Z36: =N36/(H36*3412) -> 1.7191033 | AA36: =O36/(I36*3412) -> 1.5157436 | AB36: =P36/(J36*3412) -> 1.3914147 | AC36: =IF(ASHPs!I$81/K36<1, ASHPs!I$81/K36,1) -> 0.84703677 | AD36: =IF(ASHPs!J$81/L36<1, ASHPs!J$81/L36,1) -> 0.95065519 | AE36: =IF(ASHPs!K$81/M36<1, ASHPs!K$81/M36,1) -> 0.99506309 | AF36: =IF(ASHPs!L$81/N36<1, ASHPs!L$81/N36,1) -> 1 | AG36: =IF(ASHPs!M$81/O36<1, ASHPs!M$81/O36,1) -> 1 | AH36: =IF(ASHPs!N$81/P36<1, ASHPs!N$81/P36,1) -> 1 | AI36: =Q36/(10*3412) -> 0 | AJ36: =R36/(10*3412) -> 0 | AK36: =S36/(10*3412) -> 0 | AL36: =T36/(10*3412) -> 0.22798537 | AM36: =U36/(10*3412) -> 0.46060091 | AN36: =V36/(10*3412) -> 0.68073069
A37: Fujitsu | B37: AMUG30LMAS | C37: 2.5t | E37: 4.98 | F37: 5 | G37: 5.01 | H37: 4.97 | I37: 4.93 | J37: =AVERAGE(E37:I37) -> 4.978 | K37: 34290 | L37: 33600 | M37: 33000 | N37: 29000 | O37: 26000 | P37: =_xlfn.FORECAST.LINEAR(P$4,L37:O37,L$4:O$4) -> 22459.067 | Q37: =MAX(ASHPs!I$81 -K37,0) -> 0 | R37: =MAX(ASHPs!J$81 -L37,0) -> 0 | S37: =MAX(ASHPs!K$81 -M37,0) -> 0 | T37: =MAX(ASHPs!L$81 -N37,0) -> 7578.8608 | U37: =MAX(ASHPs!M$81 -O37,0) -> 15315.703 | V37: =MAX(ASHPs!N$81 -P37,0) -> 23593.478 | W37: =K37/(E37*3412) -> 2.018037 | X37: =L37/(F37*3412) -> 1.9695193 | Y37: =M37/(G37*3412) -> 1.9304884 | Z37: =N37/(H37*3412) -> 1.7101436 | AA37: =O37/(I37*3412) -> 1.5456722 | AB37: =P37/(J37*3412) -> 1.3222933 | AC37: =IF(ASHPs!I$81/K37<1, ASHPs!I$81/K37,1) -> 0.79046884 | AD37: =IF(ASHPs!J$81/L37<1, ASHPs!J$81/L37,1) -> 0.9053859 | AE37: =IF(ASHPs!K$81/M37<1, ASHPs!K$81/M37,1) -> 0.96490966 | AF37: =IF(ASHPs!L$81/N37<1, ASHPs!L$81/N37,1) -> 1 | AG37: =IF(ASHPs!M$81/O37<1, ASHPs!M$81/O37,1) -> 1 | AH37: =IF(ASHPs!N$81/P37<1, ASHPs!N$81/P37,1) -> 1 | AI37: =Q37/(10*3412) -> 0 | AJ37: =R37/(10*3412) -> 0 | AK37: =S37/(10*3412) -> 0 | AL37: =T37/(10*3412) -> 0.22212371 | AM37: =U37/(10*3412) -> 0.44887758 | AN37: =V37/(10*3412) -> 0.6914853
A38: GE Connect | B38: AUH2436ZGDA/UUY36ZGDAA | C38: 3t | E38: 5.45 | F38: 4.8 | G38: 4.8 | H38: 4.63 | I38: 4.43 | J38: 4.15 | K38: 36000 | L38: 33000 | M38: 30000 | N38: 25200 | O38: 21100 | P38: 18400 | Q38: =MAX(ASHPs!I$81 -K38,0) -> 0 | R38: =MAX(ASHPs!J$81 -L38,0) -> 0 | S38: =MAX(ASHPs!K$81 -M38,0) -> 1842.0187 | T38: =MAX(ASHPs!L$81 -N38,0) -> 11378.861 | U38: =MAX(ASHPs!M$81 -O38,0) -> 20215.703 | V38: =MAX(ASHPs!N$81 -P38,0) -> 27652.545 | W38: =K38/(E38*3412) -> 1.9359627 | X38: =L38/(F38*3412) -> 2.0149472 | Y38: =M38/(G38*3412) -> 1.8317702 | Z38: =N38/(H38*3412) -> 1.5951831 | AA38: =O38/(I38*3412) -> 1.3959495 | AB38: =P38/(J38*3412) -> 1.2994534 | AC38: =IF(ASHPs!I$81/K38<1, ASHPs!I$81/K38,1) -> 0.75292157 | AD38: =IF(ASHPs!J$81/L38<1, ASHPs!J$81/L38,1) -> 0.92184746 | AE38: =IF(ASHPs!K$81/M38<1, ASHPs!K$81/M38,1) -> 1 | AF38: =IF(ASHPs!L$81/N38<1, ASHPs!L$81/N38,1) -> 1 | AG38: =IF(ASHPs!M$81/O38<1, ASHPs!M$81/O38,1) -> 1 | AH38: =IF(ASHPs!N$81/P38<1, ASHPs!N$81/P38,1) -> 1 | AI38: =Q38/(10*3412) -> 0 | AJ38: =R38/(10*3412) -> 0 | AK38: =S38/(10*3412) -> 0.053986481 | AL38: =T38/(10*3412) -> 0.33349534 | AM38: =U38/(10*3412) -> 0.59248836 | AN38: =V38/(10*3412) -> 0.81044974
A40: average | E40: =AVERAGE(E34:E38) -> 4.592 | F40: =AVERAGE(F34:F38) -> 4.622 | G40: =AVERAGE(G34:G38) -> 4.716 | H40: =AVERAGE(H34:H38) -> 4.932 | I40: =AVERAGE(I34:I38) -> 4.737 | J40: =AVERAGE(J34:J38) -> 4.6562 | K40: =AVERAGE(K34:K38) -> 33178.704 | L40: =AVERAGE(L34:L38) -> 32332.704 | ... AN40: =AVERAGE(AN34:AN38) -> 0.75349288
A43: Capacity calculated with 30,000 BTU/hr at -20'C
A45: -25'C design temperature
A46: Moovair | B46: FMA48HIAHUU230X7/DMA48HOS20230E7 | C46: 4t | E46: 6.86 | F46: 6.93 | G46: 7.1 | H46: 7.46 | I46: 7.83 | J46: 7.59 | K46: 50440 | L46: 48830 | M46: 47060 | N46: 43290 | O46: 38960 | P46: 33120 | Q46: =MAX(ASHPs!I$84 -K46,0) -> 0 | R46: =MAX(ASHPs!J$84 -L46,0) -> 0 | S46: =MAX(ASHPs!K$84 -M46,0) -> 0 | T46: =MAX(ASHPs!L$84 -N46,0) -> 0 | U46: =MAX(ASHPs!M$84 -O46,0) -> 0 | V46: =MAX(ASHPs!N$84 -P46,0) -> 5353.5977 | W46: =K46/(E46*3412) -> 2.1549735 | X46: =L46/(F46*3412) -> 2.0651161 | Y46: =M46/(G46*3412) -> 1.9426052 | Z46: =N46/(H46*3412) -> 1.7007471 | AA46: =O46/(I46*3412) -> 1.4583043 | AB46: =P46/(J46*3412) -> 1.2789087 | AC46: =IF(ASHPs!I$84/K46<1, ASHPs!I$84/K46,1) -> 0.4497249 | AD46: =IF(ASHPs!J$84/L46<1, ASHPs!J$84/L46,1) -> 0.52114032 | AE46: =IF(ASHPs!K$84/M46<1, ASHPs!K$84/M46,1) -> 0.56590507 | AF46: =IF(ASHPs!L$84/N46<1, ASHPs!L$84/N46,1) -> 0.70637239 | AG46: =IF(ASHPs!M$84/O46<1, ASHPs!M$84/O46,1) -> 0.88619685 | AH46: =IF(ASHPs!N$84/P46<1, ASHPs!N$84/P46,1) -> 1 | AI46: =Q46/(10*3412) -> 0 | AJ46: =R46/(10*3412) -> 0 | AK46: =S46/(10*3412) -> 0 | AL46: =T46/(10*3412) -> 0 | AM46: =U46/(10*3412) -> 0 | AN46: =V46/(10*3412) -> 0.15690497
A47: Daikin Comfort | B47: FTQ48TAVJU + RZQ48TAVJUA | C47: 4t | E47: 6.67 | F47: 6.47 | G47: 6.41 | H47: 6.03 | I47: =AVERAGE(E47:H47) -> 6.395 | J47: =AVERAGE(E47:I47) -> 6.395 | K47: =15.3*3412 -> 52203.6 | L47: =14.1*3412 -> 48109.2 | M47: =13.7*3412 -> 46744.4 | N47: =11.9*3412 -> 40602.8 | O47: =0.9*N47 -> 36542.52 | P47: =0.5*N47 -> 20301.4 | Q47: =MAX(ASHPs!I$84 -K47,0) -> 0 | R47: =MAX(ASHPs!J$84 -L47,0) -> 0 | S47: =MAX(ASHPs!K$84 -M47,0) -> 0 | T47: =MAX(ASHPs!L$84 -N47,0) -> 0 | U47: =MAX(ASHPs!M$84 -O47,0) -> 0 | V47: =MAX(ASHPs!N$84 -P47,0) -> 18172.198 | W47: =K47/(E47*3412) -> 2.2938531 | X47: =L47/(F47*3412) -> 2.179289 | Y47: =M47/(G47*3412) -> 2.1372855 | Z47: =N47/(H47*3412) -> 1.973466 | AA47: =O47/(I47*3412) -> 1.6747459 | AB47: =P47/(J47*3412) -> 0.93041439 | AC47: =IF(ASHPs!I$84/K47<1, ASHPs!I$84/K47,1) -> 0.43453179 | AD47: =IF(ASHPs!J$84/L47<1, ASHPs!J$84/L47,1) -> 0.52894835 | AE47: =IF(ASHPs!K$84/M47<1, ASHPs!K$84/M47,1) -> 0.56972584 | AF47: =IF(ASHPs!L$84/N47<1, ASHPs!L$84/N47,1) -> 0.75312197 | AG47: =IF(ASHPs!M$84/O47<1, ASHPs!M$84/O47,1) -> 0.94482343 | AH47: =IF(ASHPs!N$84/P47<1, ASHPs!N$84/P47,1) -> 1 | AI47: =Q47/(10*3412) -> 0 | AJ47: =R47/(10*3412) -> 0 | AK47: =S47/(10*3412) -> 0 | AL47: =T47/(10*3412) -> 0 | AM47: =U47/(10*3412) -> 0 | AN47: =V47/(10*3412) -> 0.53259665
A48: Fujitsu | B48: AMUG48LMAS | C48: 4t | E48: 6.34 | F48: 6.37 | G48: 6.39 | H48: 6.34 | I48: 6.29 | J48: =AVERAGE(E48:I48) -> 6.346 | K48: 51000 | L48: 51000 | M48: 51000 | N48: 45500 | O48: 39000 | P48: =_xlfn.FORECAST.LINEAR(P$4,L48:O48,L$4:O$4) -> 34039.403 | Q48: =MAX(ASHPs!I$84 -K48,0) -> 0 | R48: =MAX(ASHPs!J$84 -L48,0) -> 0 | S48: =MAX(ASHPs!K$84 -M48,0) -> 0 | T48: =MAX(ASHPs!L$84 -N48,0) -> 0 | U48: =MAX(ASHPs!M$84 -O48,0) -> 0 | V48: =MAX(ASHPs!N$84 -P48,0) -> 4434.1945 | W48: =K48/(E48*3412) -> 2.3576096 | X48: =L48/(F48*3412) -> 2.3465063 | Y48: =M48/(G48*3412) -> 2.339162 | Z48: =N48/(H48*3412) -> 2.1033576 | AA48: =O48/(I48*3412) -> 1.8172093 | AB48: =P48/(J48*3412) -> 1.5720735 | AC48: =IF(ASHPs!I$84/K48<1, ASHPs!I$84/K48,1) -> 0.44478675 | AD48: =IF(ASHPs!J$84/L48<1, ASHPs!J$84/L48,1) -> 0.49896631 | AE48: =IF(ASHPs!K$84/M48<1, ASHPs!K$84/M48,1) -> 0.52218613 | AF48: =IF(ASHPs!L$84/N48<1, ASHPs!L$84/N48,1) -> 0.67206288 | AG48: =IF(ASHPs!M$84/O48<1, ASHPs!M$84/O48,1) -> 0.88528793 | AH48: =IF(ASHPs!N$84/P48<1, ASHPs!N$84/P48,1) -> 1 | AI48: =Q48/(10*3412) -> 0 | AJ48: =R48/(10*3412) -> 0 | AK48: =S48/(10*3412) -> 0 | AL48: =T48/(10*3412) -> 0 | AM48: =U48/(10*3412) -> 0 | AN48: =V48/(10*3412) -> 0.12995881
A49: Mitsubishi Zuba | B49: PVA‐A42AA7/PUZ-HA42NKA | C49: 4t | E49: 7.67 | F49: 7.6 | G49: 7.54 | H49: 7.35 | I49: 7.1 | J49: =AVERAGE(E49:I49) -> 7.452 | K49: 48000 | L49: 48000 | M49: 48000 | N49: 43200 | O49: 38400 | P49: =_xlfn.FORECAST.LINEAR(P$4,L49:O49,L$4:O$4) -> 34239.021 | Q49: =MAX(ASHPs!I$84 -K49,0) -> 0 | R49: =MAX(ASHPs!J$84 -L49,0) -> 0 | S49: =MAX(ASHPs!K$84 -M49,0) -> 0 | T49: =MAX(ASHPs!L$84 -N49,0) -> 0 | U49: =MAX(ASHPs!M$84 -O49,0) -> 0 | V49: =MAX(ASHPs!N$84 -P49,0) -> 4234.577 | W49: =K49/(E49*3412) -> 1.8341584 | X49: =L49/(F49*3412) -> 1.851052 | Y49: =M49/(G49*3412) -> 1.8657819 | Z49: =N49/(H49*3412) -> 1.7226117 | AA49: =O49/(I49*3412) -> 1.5851262 | AB49: =P49/(J49*3412) -> 1.3466027 | AC49: =IF(ASHPs!I$84/K49<1, ASHPs!I$84/K49,1) -> 0.47258592 | AD49: =IF(ASHPs!J$84/L49<1, ASHPs!J$84/L49,1) -> 0.53015171 | AE49: =IF(ASHPs!K$84/M49<1, ASHPs!K$84/M49,1) -> 0.55482276 | AF49: =IF(ASHPs!L$84/N49<1, ASHPs!L$84/N49,1) -> 0.707844 | AG49: =IF(ASHPs!M$84/O49<1, ASHPs!M$84/O49,1) -> 0.89912055 | AH49: =IF(ASHPs!N$84/P49<1, ASHPs!N$84/P49,1) -> 1 | AI49: =Q49/(10*3412) -> 0 | AJ49: =R49/(10*3412) -> 0 | AK49: =S49/(10*3412) -> 0 | AL49: =T49/(10*3412) -> 0 | AM49: =U49/(10*3412) -> 0 | AN49: =V49/(10*3412) -> 0.12410835
A50: GE Connect | B50: AUH4060ZGDA/UUY60ZGDAA | C50: 5t | E50: 7.1 | F50: 7.13 | G50: 7.16 | H50: 7 | I50: 6.7 | J50: 6.35 | K50: 49000 | L50: 46500 | M50: 44000 | N50: 37000 | O50: 32000 | P50: 27000 | Q50: =MAX(ASHPs!I$84 -K50,0) -> 0 | R50: =MAX(ASHPs!J$84 -L50,0) -> 0 | S50: =MAX(ASHPs!K$84 -M50,0) -> 0 | T50: =MAX(ASHPs!L$84 -N50,0) -> 0 | U50: =MAX(ASHPs!M$84 -O50,0) -> 2526.2293 | V50: =MAX(ASHPs!N$84 -P50,0) -> 11473.598 | W50: =K50/(E50*3412) -> 2.0226871 | X50: =L50/(F50*3412) -> 1.9114124 | Y50: =M50/(G50*3412) -> 1.8010702 | Z50: =N50/(H50*3412) -> 1.5491542 | AA50: =O50/(I50*3412) -> 1.3998005 | AB50: =P50/(J50*3412) -> 1.2461807 | AC50: =IF(ASHPs!I$84/K50<1, ASHPs!I$84/K50,1) -> 0.46294131 | AD50: =IF(ASHPs!J$84/L50<1, ASHPs!J$84/L50,1) -> 0.54725337 | AE50: =IF(ASHPs!K$84/M50<1, ASHPs!K$84/M50,1) -> 0.60526119 | AF50: =IF(ASHPs!L$84/N50<1, ASHPs!L$84/N50,1) -> 0.8264557 | AG50: =IF(ASHPs!M$84/O50<1, ASHPs!M$84/O50,1) -> 1 | AH50: =IF(ASHPs!N$84/P50<1, ASHPs!N$84/P50,1) -> 1 | AI50: =Q50/(10*3412) -> 0 | AJ50: =R50/(10*3412) -> 0 | AK50: =S50/(10*3412) -> 0 | AL50: =T50/(10*3412) -> 0 | AM50: =U50/(10*3412) -> 0.074039545 | AN50: =V50/(10*3412) -> 0.33627191
A52: average | E52: =AVERAGE(E46:E50) -> 6.928 | F52: =AVERAGE(F46:F50) -> 6.9 | G52: =AVERAGE(G46:G50) -> 6.92 | H52: =AVERAGE(H46:H50) -> 6.836 | I52: =AVERAGE(I46:I50) -> 6.863 | J52: =AVERAGE(J46:J50) -> 6.8266 | K52: =AVERAGE(K46:K50) -> 50128.72 | L52: =AVERAGE(L46:L50) -> 48487.84 | ... AN52: =AVERAGE(AN46:AN50) -> 0.25596814
A54: -20'C design temperature
...

Sheet GSHPs
A1: GSHP data from manufacturer software
E3: average kW per hour | L3: capacity of heat pump | S3: capacity met by backup resistance heater
A4: brand | C4: size | D4: scop | E4: kW at -10 | F4: kW at -13.5 | G4: kW at -15 | H4: kW at -20 | I4: kW at -25 | J4: kW at -30 | K4: kW at -35 | L4: -10 | M4: -13.5 | N4: -15 | O4: -20 | P4: -25 | Q4: -30 | R4: -35 | S4: -10 | T4: -13.5 | U4: -15 | V4: -20 | W4: -25 | X4: -30 | Y4: -35
A5: Capacity calculated using 36,000 BTU/hr at -20'C
A7: -20'C design temperature
A8: TE 038 Digital with horizontal loop | C8: 3t | E8: =4080/245/10 -> 1.6653061 | F8: =2930/159/10 -> 1.8427673 | G8: =1850/92/10 -> 2.0108696 | H8: =990/45/10 -> 2.2 | I8: =70/3/10 -> 2.3333333 | J8: =20/1/10 -> 2 | K8: =J8 -> 2 | L8: 36000 | M8: 36000 | N8: 36000 | O8: 36000 | P8: 36000 | Q8: 36000 | R8: 36000 | S8: =MAX(GSHPs!I$33-L8,0) -> 0 | T8: =MAX(GSHPs!J$33-M8,0) -> 0 | U8: =MAX(GSHPs!K$33-N8,0) -> 0 | V8: =MAX(GSHPs!L$33-O8,0) -> 289.43042 | W8: =MAX(GSHPs!M$33-P8,0) -> 5026.2725 | X8: =MAX(GSHPs!N$33-Q8,0) -> 9763.1146 | Y8: =MAX(GSHPs!O$33-R8,0) -> 14499.957
A10: Average | B10: for Toronto, Windsor | E10: =AVERAGE(E8:E8) -> 1.6653061 | F10: =AVERAGE(F8:F8) -> 1.8427673 | G10: =AVERAGE(G8:G8) -> 2.0108696 | H10: =AVERAGE(H8:H8) -> 2.2 | I10: =AVERAGE(I8:I8) -> 2.3333333 | J10: =AVERAGE(J8:J8) -> 2 | K10: =AVERAGE(K8:K8) -> 2 | L10: =AVERAGE(L8:L8) -> 36000 | ... Y10: =AVERAGE(Y8:Y8) -> 14499.957
A13: -25'C design temperature
A14: TE 049 digital with horizontal loop | C14: 4t | E14: =6100/340/10 -> 1.7941176 | F14: =5410/275/10 -> 1.9672727 | G14: =4540/212/10 -> 2.1415094 | H14: =3480/150/10 -> 2.32 | I14: =1210/44/10 -> 2.75 | J14: =130/4/10 -> 3.25 | K14: =30/1/10 -> 3 | L14: 48000 | M14: 48000 | N14: 48000 | O14: 48000 | P14: 48000 | Q14: 48000 | R14: 48000 | S14: =MAX(GSHPs!I$33-L14,0) -> 0 | T14: =MAX(GSHPs!J$33-M14,0) -> 0 | U14: =MAX(GSHPs!K$33-N14,0) -> 0 | V14: =MAX(GSHPs!L$33-O14,0) -> 0 | W14: =MAX(GSHPs!M$33-P14,0) -> 0 | X14: =MAX(GSHPs!N$33-Q14,0) -> 0 | Y14: =MAX(GSHPs!O$33-R14,0) -> 2499.9567
A16: Average | B16: for Ottawa area | E16: =AVERAGE(E14:E14) -> 1.7941176 | F16: =AVERAGE(F14:F14) -> 1.9672727 | G16: =AVERAGE(G14:G14) -> 2.1415094 | H16: =AVERAGE(H14:H14) -> 2.32 | I16: =AVERAGE(I14:I14) -> 2.75 | J16: =AVERAGE(J14:J14) -> 3.25 | K16: =AVERAGE(K14:K14) -> 3 | L16: =AVERAGE(L14:L14) -> 48000 | ... Y16: =AVERAGE(Y14:Y14) -> 2499.9567
A19: -30'C design temperature
A20: TE 049 digital with horizontal loop | C20: 4t | E20: =6590/345/10 -> 1.9101449 | F20: =6790/325/10 -> 2.0892308 | G20: =6070/268/10 -> 2.2649254 | H20: =6100/248/10 -> 2.4596774 | I20: =3870/134/10 -> 2.8880597 | J20: =1290/39/10 -> 3.3076923 | K20: =70/2/10 -> 3.5 | L20: 48000 | M20: 48000 | N20: 48000 | O20: 48000 | P20: 48000 | Q20: 48000 | R20: 48000 | S20: =MAX(GSHPs!I$33-L20,0) -> 0 | T20: =MAX(GSHPs!J$33-M20,0) -> 0 | U20: =MAX(GSHPs!K$33-N20,0) -> 0 | V20: =MAX(GSHPs!L$33-O20,0) -> 0 | W20: =MAX(GSHPs!M$33-P20,0) -> 0 | X20: =MAX(GSHPs!N$33-Q20,0) -> 0 | Y20: =MAX(GSHPs!O$33-R20,0) -> 2499.9567
A22: Average | B22: for Thunder Bay area | E22: =AVERAGE(E20:E20) -> 1.9101449 | F22: =AVERAGE(F20:F20) -> 2.0892308 | G22: =AVERAGE(G20:G20) -> 2.2649254 | H22: =AVERAGE(H20:H20) -> 2.4596774 | I22: =AVERAGE(I20:I20) -> 2.8880597 | J22: =AVERAGE(J20:J20) -> 3.3076923 | K22: =AVERAGE(K20:K20) -> 3.5 | L22: =AVERAGE(L20:L20) -> 48000 | ... Y22: =AVERAGE(Y20:Y20) -> 2499.9567
C25: heating load at different temperatures for home with a GSHP (desuperheater load included)
B27: temp heat turned on | C27: temp where 36000 BTU used | D27: slope and intercept | F27: desuperheater load
A28: heating load for 48000 BTU/hr at design temperature | B28: 18 | C28: -20 | D28: {=LINEST(B29:C29,B28:C28)} -> -1263.1579 | E28: 22736.842 | F28: =Input!B86*947817/(365*24)/4 -> 289.43042 | H28: -5 | I28: -10 | J28: -13.5 | K28: -15 | L28: -20 | M28: -25 | N28: -30 | O28: -35 | P28: -40
B29: 0 | C29: 48000 | H29: =$D28*H28+$E28+$F28 -> 29342.062 | I29: =$D28*I28+$E28+$F28 -> 35657.851 | J29: =$D28*J28+$E28+$F28 -> 40078.904 | K29: =$D28*K28+$E28+$F28 -> 41973.641 | L29: =$D28*L28+$E28+$F28 -> 48289.43 | M29: =$D28*M28+$E28+$F28 -> 54605.22 | N29: =$D28*N28+$E28+$F28 -> 60921.009 | O29: =$D28*O28+$E28+$F28 -> 67236.799 | P29: =$D28*P28+$E28+$F28 -> 73552.588
A30: heating load for 42000 BTU/hr at -25'C | B30: 18 | C30: -20 | D30: {=LINEST(B31:C31,B30:C30)} -> -1105.2632 | E30: 19894.737 | F30: =F$28 -> 289.43042 | H30: -5 | I30: -10 | J30: -13.5 | K30: -15 | L30: -20 | M30: -25 | N30: -30 | O30: -35 | P30: -40
B31: 0 | C31: 42000 | H31: =$D30*H30+$E30 -> 25421.053 | I31: =$D30*I30+$E30 -> 30947.368 | J31: =$D30*J30+$E30 -> 34815.789 | K31: =$D30*K30+$E30 -> 36473.684 | L31: =$D30*L30+$E30 -> 42000 | M31: =$D30*M30+$E30 -> 47526.316 | N31: =$D30*N30+$E30 -> 53052.632 | O31: =$D30*O30+$E30 -> 58578.947 | P31: =$D30*P30+$E30 -> 64105.263
A32: heating load for 36000 BTU/hr at -20'C - the "average home" | B32: 18 | C32: -20 | D32: {=LINEST(B33:C33,B32:C32)} -> -947.36842 | E32: 17052.632 | F32: =F$28 -> 289.43042 | H32: -5 | I32: -10 | J32: -13.5 | K32: -15 | L32: -20 | M32: -25 | N32: -30 | O32: -35 | P32: -40
B33: 0 | C33: 36000 | H33: =$D32*H32+$E32+$F32 -> 22078.904 | I33: =$D32*I32+$E32+$F32 -> 26815.746 | J33: =$D32*J32+$E32+$F32 -> 30131.536 | K33: =$D32*K32+$E32+$F32 -> 31552.588 | L33: =$D32*L32+$E32+$F32 -> 36289.43 | M33: =$D32*M32+$E32+$F32 -> 41026.273 | N33: =$D32*N32+$E32+$F32 -> 45763.115 | O33: =$D32*O32+$E32+$F32 -> 50499.957 | P33: =$D32*P32+$E32+$F32 -> 55236.799
A34: heating load (kW) | H34: =H33/3412 -> 6.4709567 | I34: =I33/3412 -> 7.8592457 | J34: =J33/3412 -> 8.831048 | K34: =K33/3412 -> 9.2475347 | L34: =L33/3412 -> 10.635824 | M34: =M33/3412 -> 12.024113 | N34: =N33/3412 -> 13.412402 | O34: =O33/3412 -> 14.800691 | P34: =P33/3412 -> 16.18898
A35: heating load for 30000 BTU/hr at -30'C | B35: 18 | C35: -20 | D35: {=LINEST(B36:C36,B35:C35)} -> -789.47368 | E35: 14210.526 | F35: =F$28 -> 289.43042 | H35: -5 | I35: -10 | J35: -13.5 | K35: -15 | L35: -20 | M35: -25 | N35: -30 | O35: -35 | P35: -40
B36: 0 | C36: 30000 | H36: =$D35*H35+$E35+$F35 -> 18447.325 | I36: =$D35*I35+$E35+$F35 -> 22394.694 | J36: =$D35*J35+$E35+$F35 -> 25157.851 | K36: =$D35*K35+$E35+$F35 -> 26342.062 | L36: =$D35*L35+$E35+$F35 -> 30289.43 | M36: =$D35*M35+$E35+$F35 -> 34236.799 | N36: =$D35*N35+$E35+$F35 -> 38184.167 | O36: =$D35*O35+$E35+$F35 -> 42131.536 | P36: =$D35*P35+$E35+$F35 -> 46078.904
H37: =H36/3412 -> 5.4066017 | I37: =I36/3412 -> 6.5635093 | J37: =J36/3412 -> 7.3733445 | K37: =K36/3412 -> 7.7204168 | L37: =L36/3412 -> 8.8773243 | M37: =M36/3412 -> 10.034232 | N37: =N36/3412 -> 11.191139 | O37: =O36/3412 -> 12.348047 | P37: =P36/3412 -> 13.504954
A38: heating load for 24000 BTU/hr at design temperature | B38: 18 | C38: -20 | D38: {=LINEST(B39:C39,B38:C38)} -> -631.57895 | E38: 11368.421 | F38: =F$28 -> 289.43042 | H38: -5 | I38: -10 | J38: -13.5 | K38: -15 | L38: -20 | M38: -25 | N38: -30 | O38: -35 | P38: -40
B39: 0 | C39: 24000 | H39: =$D38*H38+$E38+$F38 -> 14815.746 | I39: =$D38*I38+$E38+$F38 -> 17973.641 | J39: =$D38*J38+$E38+$F38 -> 20184.167 | K39: =$D38*K38+$E38+$F38 -> 21131.536 | L39: =$D38*L38+$E38+$F38 -> 24289.43 | M39: =$D38*M38+$E38+$F38 -> 27447.325 | N39: =$D38*N38+$E38+$F38 -> 30605.22 | O39: =$D38*O38+$E38+$F38 -> 33763.115 | P39: =$D38*P38+$E38+$F38 -> 36921.009

Sheet Input
A1: ETS | B1: Value | C1: Source
A2: upfront costs | B2: 10000 | C2: Steffes and Hydro Quebec unofficial quotes
A3: 15-year annualized cost | B3: =-PMT(B$88,15,B2) -> 1029.6276 | C3: annual payments
A4: % adoption | B4: 0.24 | C4: IESO DER study BAU+
A5: ETS heating efficiency | B5: 0.78
A6: Charging Input (Kw) | B6: 14 | C6: https://www.steffes.com/wp-content/uploads/2020/12/Steffes-Forced-Air-Furnace.pdf
A7: Charging time (Hr) | B7: =B10/(B6*0.78) -> 10.989011 | C7: Charging time for the heating load requirement = energy draw/power draw
A8: Air Supply Outlet (Fan) (Kw) | B8: 0.84 | C8: supplier notes max 7amp draw for blower and control, assumes 120V https://www.steffes.com/wp-content/uploads/2020/12/Steffes-Forced-Air-Furnace.pdf
A9: Discharging time (Hr) | B9: =409440/30621 -> 13.371216 | C9: based on output capacity and storage capacity https://www.steffes.com/wp-content/uploads/2020/12/Steffes-Forced-Air-Furnace.pdf
A10: size (total kWh stored) | B10: 120 | C10: https://www.steffes.com/wp-content/uploads/2020/12/Steffes-Forced-Air-Furnace.pdf
A11: efficiency | B11: 1
A12: after diversity maximum demand or coincidence factor | B12: 1 | C12: assuming that during discharge, the fan is running 100% of the time and therefore there is maximum coincidence
A13: Batteries (Tesla Powerwall) | B13: Value | C13: Source
A14: Upfront costs | B14: 21500 | C14: https://kubyenergy.ca/blog/complete-guide-to-tesla-powerwall-in-canada | D14: installation included, $CAN
A15: lifespan (yrs) | B15: 10 | C15: https://kubyenergy.ca/blog/complete-guide-to-tesla-powerwall-in-canada
A16: 10-year annualized cost | B16: =-PMT(B$88,B15,B14) -> 2921.1611 | C16: annual payments
A17: % adoption | B17: 0.27 | C17: IESO DER study BAU+
A18: Size needed (Kwh) | B18: 13.5 | C18: https://www.tesla.com/en_ca/powerwall
A19: Discharge efficiency | B19: 0.9 | C19: https://www.tesla.com/en_ca/powerwall
A20: discharge time (hours) | B20: =B18/B24*B19 -> 2.43
A21: practical discharge time (hours) | B21: 2
A22: Charging Input (Kw) | B22: =B24/B19 -> 5.5555556 | C22: https://www.tesla.com/en_ca/powerwall
A23: Charging Time (Hr) | B23: =B18/B22/B19 -> 2.7 | C23: https://www.ndh-ltd.co.uk/sites/default/files/2020-08/Tesla%20Battery%20User%20Guide.pdf
A24: Power available during discharge (kW) | B24: 5 | C24: https://www.tesla.com/en_ca/powerwall
A25: Electricity draw during charging times (Kwh) | B25: =B22*B23 -> 15 | C25: https://www.ndh-ltd.co.uk/sites/default/files/2020-08/Tesla%20Battery%20User%20Guide.pdf
A26: EV batteries | B26: Value | C26: Source
A27: bidirectional charger | B27: 9950 | C27: $1310 US + $3895 US Integration System converted to CAN$ + HST https://chargers.ford.com/products/ford-charge-station-pro + $2000 installation cost | D27: for estimated installation cost, see https://www.linkedin.com/feed/update/urn:li:activity:7042123940617482240/?commentUrn=urn%3Ali%3Acomment%3A(ugcPost%3A7042123940198064129%2C7042845035297456128)&dashCommentUrn=urn%3Ali%3Afsd_comment%3A(7042845035297456128%2Curn%3Ali%3AugcPost%3A7042123940198064129)
A28: EV/vehicle lifetime | B28: 15 | C28: https://www.cell.com/joule/pdfExtended/S2542-4351(20)30231-2
A29: 15-year annualized cost | B29: =-PMT(B$88,B28,B27) -> 1024.4795
A30: % adoption | B30: 0.31 | C30: IESO DER study BAU+
A31: Battery Size (Kwh) | B31: 98 | C31: https://www.caranddriver.com/ford/f-150-lightning
A32: Discharge efficiency | B32: =B33/(B31/B35) -> 0.9002449 | C32: Calculated value
A33: maximum discharge time (hours) | B33: 9.19
A34: practical discharge time (hours) | B34: 4
A35: Power available during discharge (kW) | B35: 9.6 | C35: https://www.ford.com/trucks/f150/f150-lightning/features/capability/
A36: Power draw during charging times (Kw) | B36: 11.52 | C36: https://insideevs.com/news/508674/battery-capacity-ford-f150-lightning/ (240V*48amps considering a Lvl. 2 Charger, std. Range battery)
A37: Charging time (Hr) 15%-80% | B37: =((B31*80%)-(B31*15%))/B36/B32 -> 6.142233 | C37: Calculated value depending on the battery size, considering the battery is at 15% and is charged at 80% of its capacity
A38: ASHP | B38: Value | C38: Source
A39: Upfront cost | B39: 19000 | C39: source from NG vs ASHP v
A40: average lifespan (yr) | B40: 15
...

Sheet regional outcomes
A2: Single Toronto or Windsor home peak power draw analysis for space heating (kW) | J2: Single Ottawa home peak power draw analysis for space heating (kW) | S2: Single Northern home peak power draw analysis for space heating (kW)
A3: condition | B3: at -10'C | C3: at -13.5'C | D3: at -15'C | E3: at -20'C | F3: at -25'C | G3: at -30'C | J3: condition | K3: at -10'C | L3: at -13.5'C | M3: at -15'C | N3: at -20'C | O3: at -25'C | P3: at -30'C | S3: condition | T3: at -10'C | U3: at -13.5'C | V3: at -15'C | W3: at -20'C | X3: at -25'C | Y3: at -30'C | Z3: at -35
A5: ASHP alone | B5: =ASHPs!E32*ASHPs!AC32*Input!$B45 + 10*ASHPs!AI32*Input!$B45 -> 3.8545798 | C5: =ASHPs!F32*ASHPs!AD32*Input!$B45 + 10*ASHPs!AJ32*Input!$B45 -> 4.5644032 | D5: =ASHPs!G32*ASHPs!AE32*Input!$B45 + 10*ASHPs!AK32*Input!$B45 -> 4.9349406 | E5: =ASHPs!H32*ASHPs!AF32*Input!$B45 + 10*ASHPs!AL32*Input!$B45 -> 6.5902114 | F5: =ASHPs!I32*ASHPs!AG32*Input!$B45 + 10*ASHPs!AM32*Input!$B45 -> 8.9582306 | G5: =ASHPs!J32*ASHPs!AH32*Input!$B45 + 10*ASHPs!AN32*Input!$B45 -> 12.063333 | J5: ASHP alone | K5: =ASHPs!E23*ASHPs!AC23*Input!$B45+10*ASHPs!AI23*Input!$B45 -> 3.7493327 | L5: =ASHPs!F23*ASHPs!AD23*Input!$B45+10*ASHPs!AJ23*Input!$B45 -> 4.3329282 | M5: =ASHPs!G23*ASHPs!AE23*Input!$B45+10*ASHPs!AK23*Input!$B45 -> 4.663016 | N5: =ASHPs!H23*ASHPs!AF23*Input!$B45+10*ASHPs!AL23*Input!$B45 -> 5.9953762 | O5: =ASHPs!I23*ASHPs!AG23*Input!$B45+10*ASHPs!AM23*Input!$B45 -> 8.1335741 | P5: =ASHPs!J23*ASHPs!AH23*Input!$B45+10*ASHPs!AN23*Input!$B45 -> 11.607544 | S5: ASHP alone | T5: =ASHPs!E14*ASHPs!AC14*Input!$B45+15*ASHPs!AI14*Input!$B45 -> 3.7493327 | U5: =ASHPs!F14*ASHPs!AD14*Input!$B45+15*ASHPs!AJ14*Input!$B45 -> 4.3329282 | V5: =ASHPs!G14*ASHPs!AE14*Input!$B45+15*ASHPs!AK14*Input!$B45 -> 4.663016 | W5: =ASHPs!H14*ASHPs!AF14*Input!$B45+15*ASHPs!AL14*Input!$B45 -> 5.9953762 | X5: =ASHPs!I14*ASHPs!AG14*Input!$B45+15*ASHPs!AM14*Input!$B45 -> 8.1335741 | Y5: =ASHPs!J14*ASHPs!AH14*Input!$B45+15*ASHPs!AN14*Input!$B45 -> 11.607544 | Z5: =15 -> 15
A6: ASHP with ETS for peak hours | B6: =Input!$B8*Input!$B12 -> 0.84 | C6: =Input!$B8*Input!$B12 -> 0.84 | D6: =Input!$B8*Input!$B12 -> 0.84 | E6: =Input!$B8*Input!$B12 -> 0.84 | F6: =Input!$B8*Input!$B12 -> 0.84 | G6: =Input!$B8*Input!$B12 -> 0.84 | J6: ASHP with ETS for peak hours | K6: =Input!$B8*Input!$B12 -> 0.84 | L6: =Input!$B8*Input!$B12 -> 0.84 | M6: =Input!$B8*Input!$B12 -> 0.84 | N6: =Input!$B8*Input!$B12 -> 0.84 | O6: =Input!$B8*Input!$B12 -> 0.84 | P6: =Input!$B8*Input!$B12 -> 0.84 | S6: ASHP with ETS for peak hours | T6: =Input!$B8*Input!$B12 -> 0.84 | U6: =Input!$B8*Input!$B12 -> 0.84 | V6: =Input!$B8*Input!$B12 -> 0.84 | W6: =Input!$B8*Input!$B12 -> 0.84 | X6: =Input!$B8*Input!$B12 -> 0.84 | Y6: =Input!$B8*Input!$B12 -> 0.84 | Z6: =Input!$B8*Input!$B12 -> 0.84
A7: ASHP powered with home batteries | B7: =IF((B5-Input!$B24)<0,0,B5-Input!$B24) -> 0 | C7: =IF((C5-Input!$B24)<0,0,C5-Input!$B24) -> 0 | D7: =IF((D5-Input!$B24)<0,0,D5-Input!$B24) -> 0 | E7: =IF((E5-Input!$B24)<0,0,E5-Input!$B24) -> 1.5902114 | F7: =IF((F5-Input!$B24)<0,0,F5-Input!$B24) -> 3.9582306 | G7: =IF((G5-Input!$B24)<0,0,G5-Input!$B24) -> 7.063333 | J7: ASHP powered with home batteries | K7: =MAX(K5-Input!$B24,0) -> 0 | L7: =MAX(L5-Input!$B24,0) -> 0 | M7: =MAX(M5-Input!$B24,0) -> 0 | N7: =MAX(N5-Input!$B24,0) -> 0.99537615 | O7: =MAX(O5-Input!$B24,0) -> 3.1335741 | P7: =MAX(P5-Input!$B24,0) -> 6.6075438 | S7: ASHP powered with home batteries | T7: =MAX(T5-Input!$B24,0) -> 0 | U7: =MAX(U5-Input!$B24,0) -> 0 | V7: =MAX(V5-Input!$B24,0) -> 0 | W7: =MAX(W5-Input!$B24,0) -> 0.99537615 | X7: =MAX(X5-Input!$B24,0) -> 3.1335741 | Y7: =MAX(Y5-Input!$B24,0) -> 6.6075438 | Z7: =MAX(Z5-Input!$B24,0) -> 10
A8: ASHP powered with EV battery | B8: =MAX(B5-Input!$B35,0) -> 0 | C8: =MAX(C5-Input!$B35,0) -> 0 | D8: =MAX(D5-Input!$B35,0) -> 0 | E8: =MAX(E5-Input!$B35,0) -> 0 | F8: =MAX(F5-Input!$B35,0) -> 0 | G8: =MAX(G5-Input!$B35,0) -> 2.463333 | J8: ASHP powered with EV battery | K8: =MAX(K5 -Input!$B35,0) -> 0 | L8: =MAX(L5 -Input!$B35,0) -> 0 | M8: =MAX(M5 -Input!$B35,0) -> 0 | N8: =MAX(N5 -Input!$B35,0) -> 0 | O8: =MAX(O5 -Input!$B35,0) -> 0 | P8: =MAX(P5 -Input!$B35,0) -> 2.0075438 | S8: ASHP powered with EV battery | T8: =MAX(T5-Input!$B35,0) -> 0 | U8: =MAX(U5-Input!$B35,0) -> 0 | V8: =MAX(V5-Input!$B35,0) -> 0 | W8: =MAX(W5-Input!$B35,0) -> 0 | X8: =MAX(X5-Input!$B35,0) -> 0 | Y8: =MAX(Y5-Input!$B35,0) -> 2.0075438 | Z8: =MAX(Z5-Input!$B35,0) -> 5.4
A9: ASHP after retrofits | B9: =ASHPs!E69*ASHPs!AC69*Input!$B45 + 10*ASHPs!AI69*Input!$B45 -> 3.1536687 | C9: =ASHPs!F69*ASHPs!AD69*Input!$B45 + 10*ASHPs!AJ69*Input!$B45 -> 3.6491686 | D9: =ASHPs!G69*ASHPs!AE69*Input!$B45 + 10*ASHPs!AK69*Input!$B45 -> 4.0023997 | E9: =ASHPs!H69*ASHPs!AF69*Input!$B45 + 10*ASHPs!AL69*Input!$B45 -> 5.5978571 | F9: =ASHPs!I69*ASHPs!AG69*Input!$B45 + 10*ASHPs!AM69*Input!$B45 -> 7.4008909 | G9: =ASHPs!J69*ASHPs!AH69*Input!$B45 + 10*ASHPs!AN69*Input!$B45 -> 9.9698664 | J9: ASHP after retrofits | K9: =ASHPs!E61*ASHPs!AC61*Input!$B45 +10*ASHPs!AI61*Input!$B45 -> 3.2258696 | L9: =ASHPs!F61*ASHPs!AD61*Input!$B45 +10*ASHPs!AJ61*Input!$B45 -> 3.8181449 | M9: =ASHPs!G61*ASHPs!AE61*Input!$B45 +10*ASHPs!AK61*Input!$B45 -> 4.1274027 | N9: =ASHPs!H61*ASHPs!AF61*Input!$B45 +10*ASHPs!AL61*Input!$B45 -> 5.4102313 | O9: =ASHPs!I61*ASHPs!AG61*Input!$B45 +10*ASHPs!AM61*Input!$B45 -> 7.0023724 | P9: =ASHPs!J61*ASHPs!AH61*Input!$B45 +10*ASHPs!AN61*Input!$B45 -> 9.8420706 | S9: ASHP after retrofits | T9: =ASHPs!E52*ASHPs!AC52*Input!$B45+15*ASHPs!AI52*Input!$B45 -> 3.1377891 | U9: =ASHPs!F52*ASHPs!AD52*Input!$B45+15*ASHPs!AJ52*Input!$B45 -> 3.6245149 | V9: =ASHPs!G52*ASHPs!AE52*Input!$B45+15*ASHPs!AK52*Input!$B45 -> 3.899975 | W9: =ASHPs!H52*ASHPs!AF52*Input!$B45+15*ASHPs!AL52*Input!$B45 -> 5.0119596 | X9: =ASHPs!I52*ASHPs!AG52*Input!$B45+15*ASHPs!AM52*Input!$B45 -> 6.5572562 | Y9: =ASHPs!J52*ASHPs!AH52*Input!$B45+15*ASHPs!AN52*Input!$B45 -> 10.666122 | Z9: 15
A10: GSHP alone | B10: =GSHPs!E10*Input!$B54+GSHPs!S10/3412*Input!$B54 -> 1.6653061 | C10: =GSHPs!F10*Input!$B54+GSHPs!T10/3412*Input!$B54 -> 1.8427673 | D10: =GSHPs!G10*Input!$B54+GSHPs!U10/3412*Input!$B54 -> 2.0108696 | E10: =GSHPs!H10*Input!$B54+GSHPs!V10/3412*Input!$B54 -> 2.2848272 | F10: =GSHPs!I10*Input!$B54+GSHPs!W10/3412*Input!$B54 -> 3.8064495 | G10: =GSHPs!J10*Input!$B54+GSHPs!X10/3412*Input!$B54 -> 4.8614052 | J10: GSHP alone | K10: =GSHPs!E16*Input!$B54+GSHPs!S16/3412*Input!$B54 -> 1.7941176 | L10: =GSHPs!F16*Input!$B54+GSHPs!T16/3412*Input!$B54 -> 1.9672727 | M10: =GSHPs!G16*Input!$B54+GSHPs!U16/3412*Input!$B54 -> 2.1415094 | N10: =GSHPs!H16*Input!$B54+GSHPs!V16/3412*Input!$B54 -> 2.32 | O10: =GSHPs!I16*Input!$B54+GSHPs!W16/3412*Input!$B54 -> 2.75 | P10: =GSHPs!J16*Input!$B54+GSHPs!X16/3412*Input!$B54 -> 3.25 | S10: GSHP alone | T10: =GSHPs!E22*Input!$B54+GSHPs!S22/3412*Input!$B54 -> 1.9101449 | U10: =GSHPs!F22*Input!$B54+GSHPs!T22/3412*Input!$B54 -> 2.0892308 | V10: =GSHPs!G22*Input!$B54+GSHPs!U22/3412*Input!$B54 -> 2.2649254 | W10: =GSHPs!H22*Input!$B54+GSHPs!V22/3412*Input!$B54 -> 2.4596774 | X10: =GSHPs!I22*Input!$B54+GSHPs!W22/3412*Input!$B54 -> 2.8880597 | Y10: =GSHPs!J22*Input!$B54+GSHPs!X22/3412*Input!$B54 -> 3.3076923 | Z10: =GSHPs!K22*Input!$B54+GSHPs!Y22/3412*Input!$B54 -> 4.2326954
A11: improved ASHP model | B11: =MIN(ASHPs!E26:E30)*ASHPs!AC32*Input!$B45 + 10*ASHPs!AI32*Input!$B45 -> 3.3637872 | C11: =MIN(ASHPs!F26:F30)*ASHPs!AD32*Input!$B45 + 10*ASHPs!AJ32*Input!$B45 -> 4.3122996 | D11: =MIN(ASHPs!G26:G30)*ASHPs!AE32*Input!$B45 + 10*ASHPs!AK32*Input!$B45 -> 4.6250245 | E11: =MIN(ASHPs!H26:H30)*ASHPs!AF32*Input!$B45 + 10*ASHPs!AL32*Input!$B45 -> 5.9852282 | F11: =MIN(ASHPs!I26:I30)*ASHPs!AG32*Input!$B45 + 10*ASHPs!AM32*Input!$B45 -> 8.5372306 | G11: =MIN(ASHPs!J26:J30)*ASHPs!AH32*Input!$B45 + 10*ASHPs!AN32*Input!$B45 -> 11.643933 | J11: improved ASHP model | K11: =MIN(ASHPs!E17:E21)*ASHPs!AC23*Input!$B45 -> 3.4311157 | L11: =MIN(ASHPs!F17:F21)*ASHPs!AD23*Input!$B45 -> 4.000109 | M11: =MIN(ASHPs!G17:G21)*ASHPs!AE23*Input!$B45 -> 4.3058775 | N11: =MIN(ASHPs!H17:H21)*ASHPs!AF23*Input!$B45 -> 5.2884901 | O11: =MIN(ASHPs!I17:I21)*ASHPs!AG23*Input!$B45 -> 6.29 | P11: =MIN(ASHPs!J17:J21)*ASHPs!AH23*Input!$B45 -> 6.346 | S11: improved ASHP model | T11: =MIN(ASHPs!E8:E12)*ASHPs!AC14*Input!$B45 -> 3.4311157 | U11: =MIN(ASHPs!F8:F12)*ASHPs!AD14*Input!$B45 -> 4.000109 | V11: =MIN(ASHPs!G8:G12)*ASHPs!AE14*Input!$B45 -> 4.3058775 | W11: =MIN(ASHPs!H8:H12)*ASHPs!AF14*Input!$B45 -> 5.2884901 | X11: =MIN(ASHPs!I8:I12)*ASHPs!AG14*Input!$B45 -> 6.29 | Y11: =MIN(ASHPs!J8:J12)*ASHPs!AH14*Input!$B45 -> 6.346 | Z11: 15
A12: Fossil gas heated home | B12: =Input!$B60*Input!$B62 -> 0.672 | C12: =Input!$B60*Input!$B62 -> 0.672 | D12: =Input!$B60*Input!$B62 -> 0.672 | E12: =Input!$B60*Input!$B62 -> 0.672 | F12: =Input!$B60*Input!$B62 -> 0.672 | G12: =Input!$B60*Input!$B62 -> 0.672 | J12: fossil gas heated home | K12: =Input!$B60*Input!$B62 -> 0.672 | L12: =Input!$B60*Input!$B62 -> 0.672 | M12: =Input!$B60*Input!$B62 -> 0.672 | N12: =Input!$B60*Input!$B62 -> 0.672 | O12: =Input!$B60*Input!$B62 -> 0.672 | P12: =Input!$B60*Input!$B62 -> 0.672 | S12: fossil gas heated home | T12: =Input!$B60*Input!$B62 -> 0.672 | U12: =Input!$B60*Input!$B62 -> 0.672 | V12: =Input!$B60*Input!$B62 -> 0.672 | W12: =Input!$B60*Input!$B62 -> 0.672 | X12: =Input!$B60*Input!$B62 -> 0.672 | Y12: =Input!$B60*Input!$B62 -> 0.672 | Z12: =Input!$B60*Input!$B62 -> 0.672
A13: electric resistance space heating | B13: =ASHPs!I82*Input!$B58 -> 7.1496656 | C13: =ASHPs!J82*Input!$B58 -> 8.0242877 | D13: =ASHPs!K82*Input!$B58 -> 8.3991257 | E13: =ASHPs!L82*Input!$B58 -> 9.6485858 | F13: =ASHPs!M82*Input!$B58 -> 10.898046 | G13: =ASHPs!N82*Input!$B58 -> 12.147506 | J13: electrically heated home | K13: =ASHPs!I82*Input!$B58 -> 7.1496656 | L13: =ASHPs!J82*Input!$B58 -> 8.0242877 | M13: =ASHPs!K82*Input!$B58 -> 8.3991257 | N13: =ASHPs!L82*Input!$B58 -> 9.6485858 | O13: =ASHPs!M82*Input!$B58 -> 10.898046 | P13: =ASHPs!N82*Input!$B58 -> 12.147506 | S13: electrically heated home | T13: =ASHPs!I82*Input!$B58 -> 7.1496656 | U13: =ASHPs!J82*Input!$B58 -> 8.0242877 | V13: =ASHPs!K82*Input!$B58 -> 8.3991257 | W13: =ASHPs!L82*Input!$B58 -> 9.6485858 | X13: =ASHPs!M82*Input!$B58 -> 10.898046 | Y13: =ASHPs!N82*Input!$B58 -> 12.147506 | Z13: =ASHPs!O82*Input!$B58 -> 13.396966
A15: Single Toronto or Windsor home peak power draw analysis for space and water heating (kW) | J15: Single Ottawa home peak power draw analysis for space and water heating (kW) | S15: Single Northern home peak power draw analysis for space and water heating (kW)
A16: condition | B16: at -10'C | C16: at -13.5'C | D16: at -15'C | E16: at -20'C | F16: at -25'C | G16: at -30'C | J16: condition | K16: at -10'C | L16: at -13.5'C | M16: at -15'C | N16: at -20'C | O16: at -25'C | P16: at -30'C | S16: condition | T16: at -10'C | U16: at -13.5'C | V16: at -15'C | W16: at -20'C | X16: at -25'C | Y16: at -30'C | Z16: at -35'C
A18: ASHP +HPWH | B18: =B5+Input!$B69*Input!$B70 -> 4.0390798 | C18: =C5+Input!$B69*Input!$B70 -> 4.7489032 | D18: =D5+Input!$B69*Input!$B70 -> 5.1194406 | E18: =E5+Input!$B69*Input!$B70 -> 6.7747114 | F18: =F5+Input!$B69*Input!$B70 -> 9.1427306 | G18: =G5+Input!$B69*Input!$B70 -> 12.247833 | J18: ASHP +HPWH | K18: =K5+Input!$B69*Input!$B70 -> 3.9338327 | L18: =L5+Input!$B69*Input!$B70 -> 4.5174282 | M18: =M5+Input!$B69*Input!$B70 -> 4.847516 | N18: =N5+Input!$B69*Input!$B70 -> 6.1798762 | O18: =O5+Input!$B69*Input!$B70 -> 8.3180741 | P18: =P5+Input!$B69*Input!$B70 -> 11.792044 | S18: ASHP +HPWH | T18: =T5+Input!$B69*Input!$B70 -> 3.9338327 | U18: =U5+Input!$B69*Input!$B70 -> 4.5174282 | V18: =V5+Input!$B69*Input!$B70 -> 4.847516 | W18: =W5+Input!$B69*Input!$B70 -> 6.1798762 | X18: =X5+Input!$B69*Input!$B70 -> 8.3180741 | Y18: =Y5+Input!$B69*Input!$B70 -> 11.792044 | Z18: =Z5+Input!$B69*Input!$B70 -> 15.1845
