Workbook
Name city: calculations!$G$2:$G$5
Name year: 'operational costs by year'!$A$3:$A$8

Sheet HOME
D6: An analysis of the financial and climate benefits of electrifying Ontario’s gas-heated homes

Sheet Introduction
B1: An analysis of the financial and climate benefits of electrifying Ontario’s gas-heated homes
B3: This spreadsheet is designed to help the user understand the calculations made for the report on the financial and climate benefits of electrifying Ontario's gas-heated homes. Users also have the opportunity to change some of the assumptions and data points used and test the impacts on the outcomes.
B5: The input data sheet is where the raw data related to heating and cooling equipment, and home characteristics is shown alongside the data sources and any comments on that data. The user can select from four major Ontario communities with different utility rates and can select the year of installation on this sheet. Users can change these values to test the impacts on the calculated outcomes. There is also a section on this sheet that helps the user to calculate the heating and cooling loads of their home, allowing the user to model the economic and climate benefits for their home.
B7: The gas rates and electricity rates sheets are where the raw data related to utility rates are found. Users can change these values to test the impacts on the calculated outcomes.
B9: The outputs sheet show the calculated values that are derived from the input data and utility rates. These are used for the report's analysis. If a user changes the input data, the corresponding values in the outputs sheet will change. The outputs sheet is not designed to be altered by the user.
B11: The methodology sheet lists the assumptions that were made in this analysis.
B13: The formulas sheet shows how the values in the outputs sheet were calculated.

Sheet input data
B1: Input Data
B3: Natural Gas Equipment Data
C4: values | D4: source | E4: comments
B5: gas furnace upfront cost | C5: 5000 | D5: based on quotes from 3 installers
B6: gas furnace efficiency (%) | C6: 0.95 | D6: Ontario Energy Board Hearing EB-2021-0002 Exhibit I.10h.EGI.STAFF.77
B8: AC upfront cost | C8: 5000 | D8: based on quotes from 3 installers
B9: AC efficiency (SEER) | C9: 13 | D9: Ontario Energy Board Hearing EB-2021-0002 Exhibit I.10h.EGI.STAFF.77
B10: AC seasonal efficiency (COP) | C10: =(1.12*C9-0.02*C9*C9)/3.413 -> 3.2757105
B12: water heater upfront cost | C12: 2000 | D12: based on quotes from 2 installers plus Ontario Energy Board Hearing EB-2021-0002 Exhibit I.10h.EGI.STAFF.77
B13: water heater efficiency (%) | C13: 0.67 | D13: based on typical EF values for gas tank water heaters at Home Depot
B15: Electric Heat Pump Data
C16: value | D16: source | E16: comments
B17: ASHP upfront cost | C17: =19000 -> 19000 | D17: based on quotes from 3 installers | E17: A conservative estimate based on recent quotes. These quotes may be high due to transitory supply-issues. Enbridge gas estimated a cost of $11,000 (Ontario Energy Board Hearing EB-2021-0002 Exhibit I.10h.EGI.STAFF.77).
B18: cost to upgrade the electrical panel | C18: 2000 | D18: estimated average cost of upgrade
B19: ASHP heating seasonal COP | C19: 2.7 | D19: based on a minimum HSPF performance of 10.5 in zone IV | E19: This is a conservative figure. Market-available heat pumps have sCOP figures of 3.3 and even higher. See the Greener Homes Grant eligible product list: https://open.canada.ca/data/en/dataset/4717f11d-b018-4fd3-ae66-e38e8fdef5d7
B20: ASHP cooling SEER | C20: 18 | D20: https://open.canada.ca/data/en/dataset/4717f11d-b018-4fd3-ae66-e38e8fdef5d7 | E20: typical minimum value for ccASHPs with HSPF of 10.5 or greater
B21: ASHP cooling seasonal COP | C21: 4.01 | E21: https://energy-models.com/tools/how-convert-seer-eer-or-cop-kwton-hspf?page=1
B23: water heater upfront cost | C23: 3750 | D23: based on quotes from 2 installers | E23: HPWH: Home Depot 50 gal hybrid heat pump water heater and estimated $1,800 installation cost EWR: conventional electric tank water heater: $1,880 + $500 installation
B24: water heater efficiency (COP or EF) | C24: 3.75 | D24: HPWH: 3.75 Home Depot 50 gal hybrid heat pump water heater | E24: for a conventional electric tank water heater use 0.91 https://www.rheem.com/product/marathon-50-gallon-electric-water-heater-with-limited-lifetime-warranty-msr50245c
B25: is this a heat pump water heater? | C25: Yes
B27: Additonal Data
C28: value | D28: source | E28: comments
B29: average annual heating load (GJ) | C29: 74.6 | D29: Tables 33 and 16 of https://oee.nrcan.gc.ca/corporate/statistics/neud/dpa/menus/trends/comprehensive/trends_res_on.cfm | E29: average heating energy use per home for all ON homes adjusted for an assumed 90% furnace efficiency
B30: average annual cooling load (GJ) | C30: 20.7 | D30: Tables 4 and 27 of https://oee.nrcan.gc.ca/corporate/statistics/neud/dpa/menus/trends/comprehensive/trends_res_on.cfm
B31: average annual water heating load (GJ) | C31: 10.7 | E31: based on an OEB analysis of gas demand side management options - derived from values in Table 1 on page 31 of https://www.oeb.ca/sites/default/files/OEB-Natural-Gas-DSM-TRM-V5.0-20201112.pdf
B33: inflation for gas supply cost (%/yr) | C33: 0
B34: inflation for other gas costs (%/yr) | C34: 0
B35: inflation for electricity costs (%/yr) | C35: 0
B37: GJ/kWh | C37: 0.0036
B38: GJ/m3 NG | C38: 0.038
B40: kgCO2/m3 NG | C40: 1.888 | D40: http://data.ec.gc.ca/data/substances/monitor/canada-s-official-greenhouse-gas-inventory/Emission_Factors.pdf
B41: year of installation | C41: 2022
B42: Location | C42: Toronto
B44: Estimating space and water heating loads from gas utility bills
D45: instructions
B46: annual m3 for space heating | D46: from your gas bill, a) total your m3 of gas use for Jun, Jul, Aug and multiply this by 4 - this is your estimated annual m3 gas use for water heating; b) subtract that value from your total m3 of gas use for one year to get your annual m3 of gas for space heating
B47: gas furnace efficiency | D47: enter this value in cell b5 of sheet 'NG data' to get an estimate of future gas costs for space heating in your home
B48: GJ annual heating load | C48: =C46*C38 -> 0 | D48: enter this value in cell b4 to get an estimate of future space heating costs for your home
B50: annual m3 for water heating | D50: from your gas bill, total your m3 of gas use for Jun, Jul, Aug and multiply this by 4 - this is your estimated annual m3 gas use for water heating
B51: gas water heater efficiency | D51: enter this value in cell b12 of sheet 'NG data' to get an estimate of future gas costs for water heating in your home
...

Sheet outputs
B1: Outputs
B3: City | C3: ='input data'!C42 -> Toronto
B4: Installation year | C4: ='input data'!C41 -> 2022
B6: Lifetime cost ($) | F6: Lifetime emissions with 2022 install (t CO2) | J6: Payback
C7: gas equipment and AC | D7: ccASHP + HPWH | G7: gas equipment and AC | H7: ccASHP + HPWH
B8: upfront cost | C8: ='input data'!C5+'input data'!C8+'input data'!C12 -> 12000 | D8: ='input data'!C17+'input data'!C23+'input data'!C18 -> 24750 | F8: high carbon electricity | J8: payback years with Greener Homes Grant | K8: =LOOKUP('input data'!C41, ' payback calculation'!E7:J7, ' payback calculation'!E6:J6) -> 8
B9: incremental upfront cost with Greener Homes Grant | C9: =C8 -> 12000 | D9: =D8-5000 -> 19750 | F9: carbon emissions from home heating (tonnes) | G9: ='input data'!$C$29/'input data'!$C$38/'input data'!$C$6*'input data'!$C$40*15/1000 -> 58.52277 | H9: ='input data'!C29/'input data'!C37/'input data'!C19*(SUM('electricity rates'!C21:C35))/1000 -> 38.866848 | J9: payback years without Greener Homes Grant | K9: =LOOKUP('input data'!C41, ' payback calculation'!P7:U7, ' payback calculation'!P6:U6) -> 12
B10: 15-year heating cost | C10: =HLOOKUP('input data'!$C$42, calculations!B$6:F$19, 6, 0) -> 23753.111 | D10: =HLOOKUP('input data'!$C$42, calculations!H$6:L$19, 6, 0) -> 13839.362 | F10: carbon emissions from home cooling (tonnes) | G10: ='input data'!C30/'input data'!C37/'input data'!C10*(SUM('electricity rates'!C21:C35))/1000 -> 8.8893312 | H10: ='input data'!C30/'input data'!C37/'input data'!C21*(SUM('electricity rates'!C21:C35))/1000 -> 7.261565
B11: 15-year cooling cost | C11: =HLOOKUP('input data'!$C$42, calculations!B$6:F$19, 7, 0) -> 3165.234 | D11: =HLOOKUP('input data'!$C$42, calculations!H$6:L$19, 7, 0) -> 2585.6335 | F11: carbon emissions from water heating (tonnes) | G11: ='input data'!$C$31/'input data'!$C$38/'input data'!$C$13*'input data'!$C$40*15/1000 -> 11.901964 | H11: ='input data'!$C$31/'input data'!$C$37/'input data'!C24*(SUM('electricity rates'!C21:C35))/1000 + 0.5*('input data'!C31/'input data'!C37/'input data'!C19-'input data'!C31/'input data'!C37/'input data'!C21)*(SUM('electricity rates'!C21:C35))/1000 -> 4.9243961
B12: 15-year water heating cost (incl heating penalty) | C12: =HLOOKUP('input data'!$C$42, calculations!B$6:F$19, 8, 0) -> 4830.7466 | D12: =HLOOKUP('input data'!$C$42, calculations!H$6:L$19, 8, 0) + IF('input data'!$C$25="Yes", HLOOKUP('input data'!$C$42, calculations!H$6:L$19, 9, 0), 0) -> 1753.4352 | F12: total carbon emissions (tonnes) | G12: =SUM(G9:G11) -> 79.314065 | H12: =SUM(H9:H11) -> 51.052809
B13: 15-year gas fixed customer charges | C13: =HLOOKUP('input data'!$C$42, calculations!B$6:F$19, 10, 0) -> 4499.208 | D13: =HLOOKUP('input data'!$C$42, calculations!H$6:L$19, 10, 0) -> 0
B14: total 15-year operational cost | C14: =SUM(C10:C13) -> 36248.3 | D14: =SUM(D10:D13) -> 18178.43 | F14: zero carbon electricity
B15: total lifetime cost | C15: =C14+C8 -> 48248.3 | D15: =D14+D8 -> 42928.43 | F15: carbon emissions from home heating (tonnes) | G15: ='input data'!$C$29/'input data'!$C$38/'input data'!$C$6*'input data'!$C$40*15/1000 -> 58.52277 | H15: ='input data'!C29/'input data'!C37/'input data'!C19*(SUM('electricity rates'!D22:D36))/1000 -> 0
B16: total lifetime savings | D16: =C15-D15 -> 5319.8697 | F16: carbon emissions from home cooling (tonnes) | G16: ='input data'!C30/'input data'!C37/'input data'!C10*(SUM('electricity rates'!D22:D36))/1000 -> 0 | H16: ='input data'!C30/'input data'!C37/'input data'!C21*(SUM('electricity rates'!D22:D36))/1000 -> 0
B17: total lifetime savings with Greener Homes Grant | D17: =D16+ 5000 -> 10319.87 | F17: carbon emissions from water heating (tonnes) | G17: ='input data'!$C$31/'input data'!$C$38/'input data'!$C$13*'input data'!$C$40*15/1000 -> 11.901964 | H17: ='input data'!$C$31/'input data'!$C$37/'input data'!C24*(SUM('electricity rates'!D22:D36))/1000 + 0.5*('input data'!C31/'input data'!C37/'input data'!C19-'input data'!C31/'input data'!C37/'input data'!C21)*(SUM('electricity rates'!D22:D36))/1000 -> 0
F18: total carbon emissions (tonnes) | G18: =SUM(G15:G17) -> 70.424734 | H18: =SUM(H15:H17) -> 0

Sheet gas rates
B1: Methane gas rates (July 2022)
B3: Gas rates, carbon tax not included | L3: Toronto Rates Jan 1, 2022
B5: 2022 | C5: EG Union South rate zone | D5: EG Union North East | E5: EG Union North West | F5: EG Rate 1 (includes Toronto) | G5: gas exjpansion communities
B6: source | C6: Schedule B in http://www.regie-energie.qc.ca/consommateur/gaz_prix/gazifere/ajustement/20220616-dec_order_EGI_July%202022%20QRAM.pdf | D6: Schedule B in http://www.regie-energie.qc.ca/consommateur/gaz_prix/gazifere/ajustement/20220616-dec_order_EGI_July%202022%20QRAM.pdf | E6: Schedule B in http://www.regie-energie.qc.ca/consommateur/gaz_prix/gazifere/ajustement/20220616-dec_order_EGI_July%202022%20QRAM.pdf | F6: Schedule B in http://www.regie-energie.qc.ca/consommateur/gaz_prix/gazifere/ajustement/20220616-dec_order_EGI_July%202022%20QRAM.pdf
B7: gas supply | C7: 0.303894 | D7: 0.306718 | E7: 0.275852 | F7: =0.276752 -> 0.276752 | G7: =0.276752+0.23 -> 0.506752
B8: average rate for delivery of 300 m3/mo ($/m3) | C8: ='additional information'!B34 -> 0.068076167 | D8: ='additional information'!E36 -> 0.16340633 | E8: ='additional information'!F36 -> 0.12589333 | F8: ='additional information'!I35 -> 0.10920753 | G8: =F8 -> 0.10920753
B9: transportation | C9: 0 | D9: 0.02355 | E9: 0.046194 | F9: 0.040765 | G9: 0.040765
B10: storage | C10: 0 | D10: 0 | E10: 0 | F10: 0 | G10: 0
B11: gas price adjustment | C11: 0.009857 | D11: -0.02111 | E11: -0.01551 | F11: -0.008072 | G11: -0.008072
B12: transportation price adjustment | C12: 0 | D12: -0.000986 | E12: 0.005028 | F12: -0.001394 | G12: -0.001394
B13: delivery price adjustment | C13: 0 | D13: 0 | E13: 0 | F13: 0.005474 | G13: 0.005474
B14: fixed customer charge ($/mo) | C14: 23.18 | D14: 23.18 | E14: 23.18 | F14: 22.12 | G14: 22.12
B15: HST | C15: 0.13 | D15: 0.13 | E15: 0.13 | F15: 0.13 | G15: 0.13
B16: gas supply cost | C16: =C7*(1+C15) -> 0.34340022 | D16: =D7*(1+D15) -> 0.34659134 | E16: =E7*(1+E15) -> 0.31171276 | F16: =F7*(1+F15) -> 0.31272976 | G16: =G7*(1+G15) -> 0.57262976
B17: remaining variable cost (no carbon tax) | C17: =(SUM(C8:C13)*(1+C15)) -> 0.088064478 | D17: =(SUM(D8:D13)*(1+D15)) -> 0.18629218 | E17: =(SUM(E8:E13)*(1+E15)) -> 0.18261403 | F17: =(SUM(F8:F13)*(1+F15)) -> 0.164958 | G17: =(SUM(G8:G13)*(1+G15)) -> 0.164958
B18: total annual fixed cost | C18: =+C14*12*(1+C15) -> 314.3208 | D18: =+D14*12*(1+D15) -> 314.3208 | E18: =+E14*12*(1+E15) -> 314.3208 | F18: =+F14*12*(1+F15) -> 299.9472 | G18: =+G14*12*(1+G15) -> 299.9472
C22: =C16+C17 -> 0.4314647 | D22: =D16+D17 -> 0.53288352 | E22: =E16+E17 -> 0.49432679 | F22: =F16+F17 -> 0.47768776
B23: gas supply cost by year ($/m3) | I23: gas variable distribution rate by year ($/m3) | P23: gas fixed rate by year ($/yr) | W23: gas carbon tax ($/m3) | Y23: https://www.canada.ca/en/department-finance/news/2021/12/fuel-charge-rates-for-listed-provinces-and-territories-for-2023-to-2030.html | AB23: total gas variable rate by year ($/m3)
B25: year | C25: London | D25: Belleville | E25: Thunder Bay | F25: Toronto | G25: Gas Expansion | I25: year | J25: London | K25: Belleville | L25: Thunder Bay | M25: Toronto | N25: Gas Expansion | P25: year | Q25: London | R25: Belleville | S25: Thunder Bay | T25: Toronto | U25: Gas Expansion | W25: year | X25: carbon tax rate $/t | Y25: $/m3 no GST | Z25: $/m3 with GST | AB25: year | AC25: London | AD25: Belleville | AE25: Thunder Bay | AF25: Toronto | AG25: Gas Expansion
B26: 2022 | C26: =+C16 -> 0.34340022 | D26: =+D16 -> 0.34659134 | E26: =+E16 -> 0.31171276 | F26: =F16 -> 0.31272976 | G26: =G16 -> 0.57262976 | I26: 2022 | J26: =+C17 -> 0.088064478 | K26: =+D17 -> 0.18629218 | L26: =+E17 -> 0.18261403 | M26: =+F17 -> 0.164958 | N26: =+G17 -> 0.164958 | P26: 2022 | Q26: =+C18 -> 314.3208 | R26: =+D18 -> 314.3208 | S26: =+E18 -> 314.3208 | T26: =+F18 -> 299.9472 | U26: =+G18 -> 299.9472 | W26: 2022 | X26: 50 | Z26: =Z27*X26/X27 -> 0.10769769 | AB26: 2022 | AC26: =C26+J26+$Z26 -> 0.53916239 | AD26: =D26+K26+$Z26 -> 0.64058121 | AE26: =E26+L26+$Z26 -> 0.60202448 | AF26: =F26+M26+$Z26 -> 0.58538545 | AG26: =G26+N26+$Z26 -> 0.84528545
B27: 2023 | C27: =C16*(1+'input data'!$C33) -> 0.34340022 | D27: =D16*(1+'input data'!$C33) -> 0.34659134 | E27: =E16*(1+'input data'!$C33) -> 0.31171276 | F27: =F26*(1+'input data'!C33) -> 0.31272976 | G27: =G26*(1+'input data'!D33) -> 0.57262976 | I27: 2023 | J27: ='gas rates'!C17*(1+'input data'!C34) -> 0.088064478 | K27: ='gas rates'!D17*(1+'input data'!C34) -> 0.18629218 | L27: ='gas rates'!E17*(1+'input data'!C34) -> 0.18261403 | M27: ='gas rates'!F17*(1+'input data'!C34) -> 0.164958 | N27: ='gas rates'!G17*(1+'input data'!D34) -> 0.164958 | P27: 2023 | Q27: ='gas rates'!C18*(1+'input data'!C34) -> 314.3208 | R27: ='gas rates'!D18*(1+'input data'!C34) -> 314.3208 | S27: ='gas rates'!E18*(1+'input data'!C34) -> 314.3208 | T27: ='gas rates'!F18*(1+'input data'!C34) -> 299.9472 | U27: ='gas rates'!G18*(1+'input data'!D34) -> 299.9472 | W27: 2023 | X27: 65 | Y27: 0.1239 | Z27: =Y27*1.13 -> 0.140007 | AB27: 2023 | AC27: =C27+J27+$Z27 -> 0.5714717 | AD27: =D27+K27+$Z27 -> 0.67289052 | AE27: =E27+L27+$Z27 -> 0.63433379 | AF27: =F27+M27+$Z27 -> 0.61769476 | AG27: =G27+N27+$Z27 -> 0.87759476
B28: 2024 | C28: =C27*(1+'input data'!$C$33) -> 0.34340022 | D28: =D27*(1+'input data'!$C$33) -> 0.34659134 | E28: =E27*(1+'input data'!$C$33) -> 0.31171276 | F28: =F27*(1+'input data'!$C$33) -> 0.31272976 | G28: =G27*(1+'input data'!$C$33) -> 0.57262976 | I28: 2024 | J28: =J27*(1+'input data'!$C$34) -> 0.088064478 | K28: =K27*(1+'input data'!$C$34) -> 0.18629218 | L28: =L27*(1+'input data'!$C$34) -> 0.18261403 | M28: =M27*(1+'input data'!$C$34) -> 0.164958 | N28: =N27*(1+'input data'!$C$34) -> 0.164958 | P28: 2024 | Q28: =Q27*(1+'input data'!$C$34) -> 314.3208 | R28: =R27*(1+'input data'!$C$34) -> 314.3208 | S28: =S27*(1+'input data'!$C$34) -> 314.3208 | T28: =T27*(1+'input data'!$C$34) -> 299.9472 | U28: =U27*(1+'input data'!$C$34) -> 299.9472 | W28: 2024 | X28: =X27+15 -> 80 | Y28: 0.1525 | Z28: =Y28*1.13 -> 0.172325 | AB28: 2024 | AC28: =C28+J28+$Z28 -> 0.6037897 | AD28: =D28+K28+$Z28 -> 0.70520852 | AE28: =E28+L28+$Z28 -> 0.66665179 | AF28: =F28+M28+$Z28 -> 0.65001276 | AG28: =G28+N28+$Z28 -> 0.90991276
B29: 2025 | C29: =C28*(1+'input data'!$C$33) -> 0.34340022 | D29: =D28*(1+'input data'!$C$33) -> 0.34659134 | E29: =E28*(1+'input data'!$C$33) -> 0.31171276 | F29: =F28*(1+'input data'!$C$33) -> 0.31272976 | G29: =G28*(1+'input data'!$C$33) -> 0.57262976 | I29: 2025 | J29: =J28*(1+'input data'!$C$34) -> 0.088064478 | K29: =K28*(1+'input data'!$C$34) -> 0.18629218 | L29: =L28*(1+'input data'!$C$34) -> 0.18261403 | M29: =M28*(1+'input data'!$C$34) -> 0.164958 | N29: =N28*(1+'input data'!$C$34) -> 0.164958 | P29: 2025 | Q29: =Q28*(1+'input data'!$C$34) -> 314.3208 | R29: =R28*(1+'input data'!$C$34) -> 314.3208 | S29: =S28*(1+'input data'!$C$34) -> 314.3208 | T29: =T28*(1+'input data'!$C$34) -> 299.9472 | U29: =U28*(1+'input data'!$C$34) -> 299.9472 | W29: 2025 | X29: =X28+15 -> 95 | Y29: 0.1811 | Z29: =Y29*1.13 -> 0.204643 | AB29: 2025 | AC29: =C29+J29+$Z29 -> 0.6361077 | AD29: =D29+K29+$Z29 -> 0.73752652 | AE29: =E29+L29+$Z29 -> 0.69896979 | AF29: =F29+M29+$Z29 -> 0.68233076 | AG29: =G29+N29+$Z29 -> 0.94223076
B30: 2026 | C30: =C29*(1+'input data'!$C$33) -> 0.34340022 | D30: =D29*(1+'input data'!$C$33) -> 0.34659134 | E30: =E29*(1+'input data'!$C$33) -> 0.31171276 | F30: =F29*(1+'input data'!$C$33) -> 0.31272976 | G30: =G29*(1+'input data'!$C$33) -> 0.57262976 | I30: 2026 | J30: =J29*(1+'input data'!$C$34) -> 0.088064478 | K30: =K29*(1+'input data'!$C$34) -> 0.18629218 | L30: =L29*(1+'input data'!$C$34) -> 0.18261403 | M30: =M29*(1+'input data'!$C$34) -> 0.164958 | N30: =N29*(1+'input data'!$C$34) -> 0.164958 | P30: 2026 | Q30: =Q29*(1+'input data'!$C$34) -> 314.3208 | R30: =R29*(1+'input data'!$C$34) -> 314.3208 | S30: =S29*(1+'input data'!$C$34) -> 314.3208 | T30: =T29*(1+'input data'!$C$34) -> 299.9472 | U30: =U29*(1+'input data'!$C$34) -> 299.9472 | W30: 2026 | X30: =X29+15 -> 110 | Y30: 0.2097 | Z30: =Y30*1.13 -> 0.236961 | AB30: 2026 | AC30: =C30+J30+$Z30 -> 0.6684257 | AD30: =D30+K30+$Z30 -> 0.76984452 | AE30: =E30+L30+$Z30 -> 0.73128779 | AF30: =F30+M30+$Z30 -> 0.71464876 | AG30: =G30+N30+$Z30 -> 0.97454876
B31: 2027 | C31: =C30*(1+'input data'!$C$33) -> 0.34340022 | D31: =D30*(1+'input data'!$C$33) -> 0.34659134 | E31: =E30*(1+'input data'!$C$33) -> 0.31171276 | F31: =F30*(1+'input data'!$C$33) -> 0.31272976 | G31: =G30*(1+'input data'!$C$33) -> 0.57262976 | I31: 2027 | J31: =J30*(1+'input data'!$C$34) -> 0.088064478 | K31: =K30*(1+'input data'!$C$34) -> 0.18629218 | L31: =L30*(1+'input data'!$C$34) -> 0.18261403 | M31: =M30*(1+'input data'!$C$34) -> 0.164958 | N31: =N30*(1+'input data'!$C$34) -> 0.164958 | P31: 2027 | Q31: =Q30*(1+'input data'!$C$34) -> 314.3208 | R31: =R30*(1+'input data'!$C$34) -> 314.3208 | S31: =S30*(1+'input data'!$C$34) -> 314.3208 | T31: =T30*(1+'input data'!$C$34) -> 299.9472 | U31: =U30*(1+'input data'!$C$34) -> 299.9472 | W31: 2027 | X31: =X30+15 -> 125 | Y31: 0.2383 | Z31: =Y31*1.13 -> 0.269279 | AB31: 2027 | AC31: =C31+J31+$Z31 -> 0.7007437 | AD31: =D31+K31+$Z31 -> 0.80216252 | AE31: =E31+L31+$Z31 -> 0.76360579 | AF31: =F31+M31+$Z31 -> 0.74696676 | AG31: =G31+N31+$Z31 -> 1.0068668
B32: 2028 | C32: =C31*(1+'input data'!$C$33) -> 0.34340022 | D32: =D31*(1+'input data'!$C$33) -> 0.34659134 | E32: =E31*(1+'input data'!$C$33) -> 0.31171276 | F32: =F31*(1+'input data'!$C$33) -> 0.31272976 | G32: =G31*(1+'input data'!$C$33) -> 0.57262976 | I32: 2028 | J32: =J31*(1+'input data'!$C$34) -> 0.088064478 | K32: =K31*(1+'input data'!$C$34) -> 0.18629218 | L32: =L31*(1+'input data'!$C$34) -> 0.18261403 | M32: =M31*(1+'input data'!$C$34) -> 0.164958 | N32: =N31*(1+'input data'!$C$34) -> 0.164958 | P32: 2028 | Q32: =Q31*(1+'input data'!$C$34) -> 314.3208 | R32: =R31*(1+'input data'!$C$34) -> 314.3208 | S32: =S31*(1+'input data'!$C$34) -> 314.3208 | T32: =T31*(1+'input data'!$C$34) -> 299.9472 | U32: =U31*(1+'input data'!$C$34) -> 299.9472 | W32: 2028 | X32: =X31+15 -> 140 | Y32: 0.2669 | Z32: =Y32*1.13 -> 0.301597 | AB32: 2028 | AC32: =C32+J32+$Z32 -> 0.7330617 | AD32: =D32+K32+$Z32 -> 0.83448052 | AE32: =E32+L32+$Z32 -> 0.79592379 | AF32: =F32+M32+$Z32 -> 0.77928476 | AG32: =G32+N32+$Z32 -> 1.0391848
B33: 2029 | C33: =C32*(1+'input data'!$C$33) -> 0.34340022 | D33: =D32*(1+'input data'!$C$33) -> 0.34659134 | E33: =E32*(1+'input data'!$C$33) -> 0.31171276 | F33: =F32*(1+'input data'!$C$33) -> 0.31272976 | G33: =G32*(1+'input data'!$C$33) -> 0.57262976 | I33: 2029 | J33: =J32*(1+'input data'!$C$34) -> 0.088064478 | K33: =K32*(1+'input data'!$C$34) -> 0.18629218 | L33: =L32*(1+'input data'!$C$34) -> 0.18261403 | M33: =M32*(1+'input data'!$C$34) -> 0.164958 | N33: =N32*(1+'input data'!$C$34) -> 0.164958 | P33: 2029 | Q33: =Q32*(1+'input data'!$C$34) -> 314.3208 | R33: =R32*(1+'input data'!$C$34) -> 314.3208 | S33: =S32*(1+'input data'!$C$34) -> 314.3208 | T33: =T32*(1+'input data'!$C$34) -> 299.9472 | U33: =U32*(1+'input data'!$C$34) -> 299.9472 | W33: 2029 | X33: =X32+15 -> 155 | Y33: 0.2954 | Z33: =Y33*1.13 -> 0.333802 | AB33: 2029 | AC33: =C33+J33+$Z33 -> 0.7652667 | AD33: =D33+K33+$Z33 -> 0.86668552 | AE33: =E33+L33+$Z33 -> 0.82812879 | AF33: =F33+M33+$Z33 -> 0.81148976 | AG33: =G33+N33+$Z33 -> 1.0713898
B34: 2030 | C34: =C33*(1+'input data'!$C$33) -> 0.34340022 | D34: =D33*(1+'input data'!$C$33) -> 0.34659134 | E34: =E33*(1+'input data'!$C$33) -> 0.31171276 | F34: =F33*(1+'input data'!$C$33) -> 0.31272976 | G34: =G33*(1+'input data'!$C$33) -> 0.57262976 | I34: 2030 | J34: =J33*(1+'input data'!$C$34) -> 0.088064478 | K34: =K33*(1+'input data'!$C$34) -> 0.18629218 | L34: =L33*(1+'input data'!$C$34) -> 0.18261403 | M34: =M33*(1+'input data'!$C$34) -> 0.164958 | N34: =N33*(1+'input data'!$C$34) -> 0.164958 | P34: 2030 | Q34: =Q33*(1+'input data'!$C$34) -> 314.3208 | R34: =R33*(1+'input data'!$C$34) -> 314.3208 | S34: =S33*(1+'input data'!$C$34) -> 314.3208 | T34: =T33*(1+'input data'!$C$34) -> 299.9472 | U34: =U33*(1+'input data'!$C$34) -> 299.9472 | W34: 2030 | X34: =X33+15 -> 170 | Y34: 0.324 | Z34: =Y34*1.13 -> 0.36612 | AB34: 2030 | AC34: =C34+J34+$Z34 -> 0.7975847 | AD34: =D34+K34+$Z34 -> 0.89900352 | AE34: =E34+L34+$Z34 -> 0.86044679 | AF34: =F34+M34+$Z34 -> 0.84380776 | AG34: =G34+N34+$Z34 -> 1.1037078
B35: 2031 | C35: =C34*(1+'input data'!$C$33) -> 0.34340022 | D35: =D34*(1+'input data'!$C$33) -> 0.34659134 | E35: =E34*(1+'input data'!$C$33) -> 0.31171276 | F35: =F34*(1+'input data'!$C$33) -> 0.31272976 | G35: =G34*(1+'input data'!$C$33) -> 0.57262976 | I35: 2031 | J35: =J34*(1+'input data'!$C$34) -> 0.088064478 | K35: =K34*(1+'input data'!$C$34) -> 0.18629218 | L35: =L34*(1+'input data'!$C$34) -> 0.18261403 | M35: =M34*(1+'input data'!$C$34) -> 0.164958 | N35: =N34*(1+'input data'!$C$34) -> 0.164958 | P35: 2031 | Q35: =Q34*(1+'input data'!$C$34) -> 314.3208 | R35: =R34*(1+'input data'!$C$34) -> 314.3208 | S35: =S34*(1+'input data'!$C$34) -> 314.3208 | T35: =T34*(1+'input data'!$C$34) -> 299.9472 | U35: =U34*(1+'input data'!$C$34) -> 299.9472 | W35: 2031 | X35: =X34+15 -> 185 | Y35: =Y34/X34*X35 -> 0.35258824 | Z35: =Z34*(1+'input data'!C$34) -> 0.36612 | AB35: 2031 | AC35: =C35+J35+$Z35 -> 0.7975847 | AD35: =D35+K35+$Z35 -> 0.89900352 | AE35: =E35+L35+$Z35 -> 0.86044679 | AF35: =F35+M35+$Z35 -> 0.84380776 | AG35: =G35+N35+$Z35 -> 1.1037078
B36: 2032 | C36: =C35*(1+'input data'!$C$33) -> 0.34340022 | D36: =D35*(1+'input data'!$C$33) -> 0.34659134 | E36: =E35*(1+'input data'!$C$33) -> 0.31171276 | F36: =F35*(1+'input data'!$C$33) -> 0.31272976 | G36: =G35*(1+'input data'!$C$33) -> 0.57262976 | I36: 2032 | J36: =J35*(1+'input data'!$C$34) -> 0.088064478 | K36: =K35*(1+'input data'!$C$34) -> 0.18629218 | L36: =L35*(1+'input data'!$C$34) -> 0.18261403 | M36: =M35*(1+'input data'!$C$34) -> 0.164958 | N36: =N35*(1+'input data'!$C$34) -> 0.164958 | P36: 2032 | Q36: =Q35*(1+'input data'!$C$34) -> 314.3208 | R36: =R35*(1+'input data'!$C$34) -> 314.3208 | S36: =S35*(1+'input data'!$C$34) -> 314.3208 | T36: =T35*(1+'input data'!$C$34) -> 299.9472 | U36: =U35*(1+'input data'!$C$34) -> 299.9472 | W36: 2032 | X36: =X35+15 -> 200 | Y36: =Y35/X35*X36 -> 0.38117647 | Z36: =Z35*(1+'input data'!C$34) -> 0.36612 | AB36: 2032 | AC36: =C36+J36+$Z36 -> 0.7975847 | AD36: =D36+K36+$Z36 -> 0.89900352 | AE36: =E36+L36+$Z36 -> 0.86044679 | AF36: =F36+M36+$Z36 -> 0.84380776 | AG36: =G36+N36+$Z36 -> 1.1037078
B37: 2033 | C37: =C36*(1+'input data'!$C$33) -> 0.34340022 | D37: =D36*(1+'input data'!$C$33) -> 0.34659134 | E37: =E36*(1+'input data'!$C$33) -> 0.31171276 | F37: =F36*(1+'input data'!$C$33) -> 0.31272976 | G37: =G36*(1+'input data'!$C$33) -> 0.57262976 | I37: 2033 | J37: =J36*(1+'input data'!$C$34) -> 0.088064478 | K37: =K36*(1+'input data'!$C$34) -> 0.18629218 | L37: =L36*(1+'input data'!$C$34) -> 0.18261403 | M37: =M36*(1+'input data'!$C$34) -> 0.164958 | N37: =N36*(1+'input data'!$C$34) -> 0.164958 | P37: 2033 | Q37: =Q36*(1+'input data'!$C$34) -> 314.3208 | R37: =R36*(1+'input data'!$C$34) -> 314.3208 | S37: =S36*(1+'input data'!$C$34) -> 314.3208 | T37: =T36*(1+'input data'!$C$34) -> 299.9472 | U37: =U36*(1+'input data'!$C$34) -> 299.9472 | W37: 2033 | X37: =X36+15 -> 215 | Y37: =Y36/X36*X37 -> 0.40976471 | Z37: =Z36*(1+'input data'!C$34) -> 0.36612 | AB37: 2033 | AC37: =C37+J37+$Z37 -> 0.7975847 | AD37: =D37+K37+$Z37 -> 0.89900352 | AE37: =E37+L37+$Z37 -> 0.86044679 | AF37: =F37+M37+$Z37 -> 0.84380776 | AG37: =G37+N37+$Z37 -> 1.1037078
B38: 2034 | C38: =C37*(1+'input data'!$C$33) -> 0.34340022 | D38: =D37*(1+'input data'!$C$33) -> 0.34659134 | E38: =E37*(1+'input data'!$C$33) -> 0.31171276 | F38: =F37*(1+'input data'!$C$33) -> 0.31272976 | G38: =G37*(1+'input data'!$C$33) -> 0.57262976 | I38: 2034 | J38: =J37*(1+'input data'!$C$34) -> 0.088064478 | K38: =K37*(1+'input data'!$C$34) -> 0.18629218 | L38: =L37*(1+'input data'!$C$34) -> 0.18261403 | M38: =M37*(1+'input data'!$C$34) -> 0.164958 | N38: =N37*(1+'input data'!$C$34) -> 0.164958 | P38: 2034 | Q38: =Q37*(1+'input data'!$C$34) -> 314.3208 | R38: =R37*(1+'input data'!$C$34) -> 314.3208 | S38: =S37*(1+'input data'!$C$34) -> 314.3208 | T38: =T37*(1+'input data'!$C$34) -> 299.9472 | U38: =U37*(1+'input data'!$C$34) -> 299.9472 | W38: 2034 | X38: =X37+15 -> 230 | Y38: =Y37/X37*X38 -> 0.43835294 | Z38: =Z37*(1+'input data'!C$34) -> 0.36612 | AB38: 2034 | AC38: =C38+J38+$Z38 -> 0.7975847 | AD38: =D38+K38+$Z38 -> 0.89900352 | AE38: =E38+L38+$Z38 -> 0.86044679 | AF38: =F38+M38+$Z38 -> 0.84380776 | AG38: =G38+N38+$Z38 -> 1.1037078
B39: 2035 | C39: =C38*(1+'input data'!$C$33) -> 0.34340022 | D39: =D38*(1+'input data'!$C$33) -> 0.34659134 | E39: =E38*(1+'input data'!$C$33) -> 0.31171276 | F39: =F38*(1+'input data'!$C$33) -> 0.31272976 | G39: =G38*(1+'input data'!$C$33) -> 0.57262976 | I39: 2035 | J39: =J38*(1+'input data'!$C$34) -> 0.088064478 | K39: =K38*(1+'input data'!$C$34) -> 0.18629218 | L39: =L38*(1+'input data'!$C$34) -> 0.18261403 | M39: =M38*(1+'input data'!$C$34) -> 0.164958 | N39: =N38*(1+'input data'!$C$34) -> 0.164958 | P39: 2035 | Q39: =Q38*(1+'input data'!$C$34) -> 314.3208 | R39: =R38*(1+'input data'!$C$34) -> 314.3208 | S39: =S38*(1+'input data'!$C$34) -> 314.3208 | T39: =T38*(1+'input data'!$C$34) -> 299.9472 | U39: =U38*(1+'input data'!$C$34) -> 299.9472 | W39: 2035 | X39: =X38+15 -> 245 | Y39: =Y38/X38*X39 -> 0.46694118 | Z39: =Z38*(1+'input data'!C$34) -> 0.36612 | AB39: 2035 | AC39: =C39+J39+$Z39 -> 0.7975847 | AD39: =D39+K39+$Z39 -> 0.89900352 | AE39: =E39+L39+$Z39 -> 0.86044679 | AF39: =F39+M39+$Z39 -> 0.84380776 | AG39: =G39+N39+$Z39 -> 1.1037078
B40: 2036 | C40: =C39*(1+'input data'!$C$33) -> 0.34340022 | D40: =D39*(1+'input data'!$C$33) -> 0.34659134 | E40: =E39*(1+'input data'!$C$33) -> 0.31171276 | F40: =F39*(1+'input data'!$C$33) -> 0.31272976 | G40: =G39*(1+'input data'!$C$33) -> 0.57262976 | I40: 2036 | J40: =J39*(1+'input data'!$C$34) -> 0.088064478 | K40: =K39*(1+'input data'!$C$34) -> 0.18629218 | L40: =L39*(1+'input data'!$C$34) -> 0.18261403 | M40: =M39*(1+'input data'!$C$34) -> 0.164958 | N40: =N39*(1+'input data'!$C$34) -> 0.164958 | P40: 2036 | Q40: =Q39*(1+'input data'!$C$34) -> 314.3208 | R40: =R39*(1+'input data'!$C$34) -> 314.3208 | S40: =S39*(1+'input data'!$C$34) -> 314.3208 | T40: =T39*(1+'input data'!$C$34) -> 299.9472 | U40: =U39*(1+'input data'!$C$34) -> 299.9472 | W40: 2036 | X40: =X39+15 -> 260 | Y40: =Y39/X39*X40 -> 0.49552941 | Z40: =Z39*(1+'input data'!C$34) -> 0.36612 | AB40: 2036 | AC40: =C40+J40+$Z40 -> 0.7975847 | AD40: =D40+K40+$Z40 -> 0.89900352 | AE40: =E40+L40+$Z40 -> 0.86044679 | AF40: =F40+M40+$Z40 -> 0.84380776 | AG40: =G40+N40+$Z40 -> 1.1037078
B41: 2037 | C41: =C40*(1+'input data'!$C$33) -> 0.34340022 | D41: =D40*(1+'input data'!$C$33) -> 0.34659134 | E41: =E40*(1+'input data'!$C$33) -> 0.31171276 | F41: =F40*(1+'input data'!$C$33) -> 0.31272976 | G41: =G40*(1+'input data'!$C$33) -> 0.57262976 | I41: 2037 | J41: =J40*(1+'input data'!$C$34) -> 0.088064478 | K41: =K40*(1+'input data'!$C$34) -> 0.18629218 | L41: =L40*(1+'input data'!$C$34) -> 0.18261403 | M41: =M40*(1+'input data'!$C$34) -> 0.164958 | N41: =N40*(1+'input data'!$C$34) -> 0.164958 | P41: 2037 | Q41: =Q40*(1+'input data'!$C$34) -> 314.3208 | R41: =R40*(1+'input data'!$C$34) -> 314.3208 | S41: =S40*(1+'input data'!$C$34) -> 314.3208 | T41: =T40*(1+'input data'!$C$34) -> 299.9472 | U41: =U40*(1+'input data'!$C$34) -> 299.9472 | W41: 2037 | X41: =X40+15 -> 275 | Y41: =Y40/X40*X41 -> 0.52411765 | Z41: =Z40*(1+'input data'!C$34) -> 0.36612 | AB41: 2037 | AC41: =C41+J41+$Z41 -> 0.7975847 | AD41: =D41+K41+$Z41 -> 0.89900352 | AE41: =E41+L41+$Z41 -> 0.86044679 | AF41: =F41+M41+$Z41 -> 0.84380776 | AG41: =G41+N41+$Z41 -> 1.1037078
B42: 2038 | C42: =C41*(1+'input data'!$C$33) -> 0.34340022 | D42: =D41*(1+'input data'!$C$33) -> 0.34659134 | E42: =E41*(1+'input data'!$C$33) -> 0.31171276 | F42: =F41*(1+'input data'!$C$33) -> 0.31272976 | G42: =G41*(1+'input data'!$C$33) -> 0.57262976 | I42: 2038 | J42: =J41*(1+'input data'!$C$34) -> 0.088064478 | K42: =K41*(1+'input data'!$C$34) -> 0.18629218 | L42: =L41*(1+'input data'!$C$34) -> 0.18261403 | M42: =M41*(1+'input data'!$C$34) -> 0.164958 | N42: =N41*(1+'input data'!$C$34) -> 0.164958 | P42: 2038 | Q42: =Q41*(1+'input data'!$C$34) -> 314.3208 | R42: =R41*(1+'input data'!$C$34) -> 314.3208 | S42: =S41*(1+'input data'!$C$34) -> 314.3208 | T42: =T41*(1+'input data'!$C$34) -> 299.9472 | U42: =U41*(1+'input data'!$C$34) -> 299.9472 | W42: 2038 | X42: =X41+15 -> 290 | Y42: =Y41/X41*X42 -> 0.55270588 | Z42: =Z41*(1+'input data'!C$34) -> 0.36612 | AB42: 2038 | AC42: =C42+J42+$Z42 -> 0.7975847 | AD42: =D42+K42+$Z42 -> 0.89900352 | AE42: =E42+L42+$Z42 -> 0.86044679 | AF42: =F42+M42+$Z42 -> 0.84380776 | AG42: =G42+N42+$Z42 -> 1.1037078
B43: 2039 | C43: =C42*(1+'input data'!$C$33) -> 0.34340022 | D43: =D42*(1+'input data'!$C$33) -> 0.34659134 | E43: =E42*(1+'input data'!$C$33) -> 0.31171276 | F43: =F42*(1+'input data'!$C$33) -> 0.31272976 | G43: =G42*(1+'input data'!$C$33) -> 0.57262976 | I43: 2039 | J43: =J42*(1+'input data'!$C$34) -> 0.088064478 | K43: =K42*(1+'input data'!$C$34) -> 0.18629218 | L43: =L42*(1+'input data'!$C$34) -> 0.18261403 | M43: =M42*(1+'input data'!$C$34) -> 0.164958 | N43: =N42*(1+'input data'!$C$34) -> 0.164958 | P43: 2039 | Q43: =Q42*(1+'input data'!$C$34) -> 314.3208 | R43: =R42*(1+'input data'!$C$34) -> 314.3208 | S43: =S42*(1+'input data'!$C$34) -> 314.3208 | T43: =T42*(1+'input data'!$C$34) -> 299.9472 | U43: =U42*(1+'input data'!$C$34) -> 299.9472 | W43: 2039 | X43: =X42+15 -> 305 | Y43: =Y42/X42*X43 -> 0.58129412 | Z43: =Z42*(1+'input data'!C$34) -> 0.36612 | AB43: 2039 | AC43: =C43+J43+$Z43 -> 0.7975847 | AD43: =D43+K43+$Z43 -> 0.89900352 | AE43: =E43+L43+$Z43 -> 0.86044679 | AF43: =F43+M43+$Z43 -> 0.84380776 | AG43: =G43+N43+$Z43 -> 1.1037078
B44: 2040 | C44: =C43*(1+'input data'!$C$33) -> 0.34340022 | D44: =D43*(1+'input data'!$C$33) -> 0.34659134 | E44: =E43*(1+'input data'!$C$33) -> 0.31171276 | F44: =F43*(1+'input data'!$C$33) -> 0.31272976 | G44: =G43*(1+'input data'!$C$33) -> 0.57262976 | I44: 2040 | J44: =J43*(1+'input data'!$C$34) -> 0.088064478 | K44: =K43*(1+'input data'!$C$34) -> 0.18629218 | L44: =L43*(1+'input data'!$C$34) -> 0.18261403 | M44: =M43*(1+'input data'!$C$34) -> 0.164958 | N44: =N43*(1+'input data'!$C$34) -> 0.164958 | P44: 2040 | Q44: =Q43*(1+'input data'!$C$34) -> 314.3208 | R44: =R43*(1+'input data'!$C$34) -> 314.3208 | S44: =S43*(1+'input data'!$C$34) -> 314.3208 | T44: =T43*(1+'input data'!$C$34) -> 299.9472 | U44: =U43*(1+'input data'!$C$34) -> 299.9472 | W44: 2040 | X44: =X43+15 -> 320 | Y44: =Y43/X43*X44 -> 0.60988235 | Z44: =Z43*(1+'input data'!C$34) -> 0.36612 | AB44: 2040 | AC44: =C44+J44+$Z44 -> 0.7975847 | AD44: =D44+K44+$Z44 -> 0.89900352 | AE44: =E44+L44+$Z44 -> 0.86044679 | AF44: =F44+M44+$Z44 -> 0.84380776 | AG44: =G44+N44+$Z44 -> 1.1037078
B45: 2041 | C45: =C44*(1+'input data'!$C$33) -> 0.34340022 | D45: =D44*(1+'input data'!$C$33) -> 0.34659134 | E45: =E44*(1+'input data'!$C$33) -> 0.31171276 | F45: =F44*(1+'input data'!$C$33) -> 0.31272976 | G45: =G44*(1+'input data'!$C$33) -> 0.57262976 | I45: 2041 | J45: =J44*(1+'input data'!$C$34) -> 0.088064478 | K45: =K44*(1+'input data'!$C$34) -> 0.18629218 | L45: =L44*(1+'input data'!$C$34) -> 0.18261403 | M45: =M44*(1+'input data'!$C$34) -> 0.164958 | N45: =N44*(1+'input data'!$C$34) -> 0.164958 | P45: 2041 | Q45: =Q44*(1+'input data'!$C$34) -> 314.3208 | R45: =R44*(1+'input data'!$C$34) -> 314.3208 | S45: =S44*(1+'input data'!$C$34) -> 314.3208 | T45: =T44*(1+'input data'!$C$34) -> 299.9472 | U45: =U44*(1+'input data'!$C$34) -> 299.9472 | W45: 2041 | X45: =X44+15 -> 335 | Y45: =Y44/X44*X45 -> 0.63847059 | Z45: =Z44*(1+'input data'!C$34) -> 0.36612 | AB45: 2041 | AC45: =C45+J45+$Z45 -> 0.7975847 | AD45: =D45+K45+$Z45 -> 0.89900352 | AE45: =E45+L45+$Z45 -> 0.86044679 | AF45: =F45+M45+$Z45 -> 0.84380776 | AG45: =G45+N45+$Z45 -> 1.1037078
B46: 2042 | C46: =C45*(1+'input data'!$C$33) -> 0.34340022 | D46: =D45*(1+'input data'!$C$33) -> 0.34659134 | E46: =E45*(1+'input data'!$C$33) -> 0.31171276 | F46: =F45*(1+'input data'!$C$33) -> 0.31272976 | G46: =G45*(1+'input data'!$C$33) -> 0.57262976 | I46: 2042 | J46: =J45*(1+'input data'!$C$34) -> 0.088064478 | K46: =K45*(1+'input data'!$C$34) -> 0.18629218 | L46: =L45*(1+'input data'!$C$34) -> 0.18261403 | M46: =M45*(1+'input data'!$C$34) -> 0.164958 | N46: =N45*(1+'input data'!$C$34) -> 0.164958 | P46: 2042 | Q46: =Q45*(1+'input data'!$C$34) -> 314.3208 | R46: =R45*(1+'input data'!$C$34) -> 314.3208 | S46: =S45*(1+'input data'!$C$34) -> 314.3208 | T46: =T45*(1+'input data'!$C$34) -> 299.9472 | U46: =U45*(1+'input data'!$C$34) -> 299.9472 | W46: 2042 | X46: =X45+15 -> 350 | Y46: =Y45/X45*X46 -> 0.66705882 | Z46: =Z45*(1+'input data'!C$34) -> 0.36612 | AB46: 2042 | AC46: =C46+J46+$Z46 -> 0.7975847 | AD46: =D46+K46+$Z46 -> 0.89900352 | AE46: =E46+L46+$Z46 -> 0.86044679 | AF46: =F46+M46+$Z46 -> 0.84380776 | AG46: =G46+N46+$Z46 -> 1.1037078

Sheet electricity rates
B1: Electricity rates (July 2022)
B2: Electricity Rates
B3: Electricity rates (July 2022)
C4: London Hydro | D4: Hydro One High Density (Belleville) | E4: Synergy North (Thunder Bay) | F4: Toronto Hydro | G4: Toronto Hydro
B5: source | C5: https://www.londonhydro.com/accounts-services/electricity-rates/residential-electricity-rates | D5: https://www.hydroone.com/rates-and-billing | E5: https://synergynorth.ca/residential/billing/rates/ | F5: https://www.torontohydro.com/for-home/rates | G5: https://www.torontohydro.com/for-home/rates
B6: time-averaged TOU rate ($/kWh) | C6: =(8.2*24*2 + 8.2*12*5 + 11.3*6*5 + 17*6*5)/(7*24)/100 -> 0.10325 | D6: =(8.2*24*2 + 8.2*12*5 + 11.3*6*5 + 17*6*5)/(7*24)/100 -> 0.10325 | E6: =(8.2*24*2 + 8.2*12*5 + 11.3*6*5 + 17*6*5)/(7*24)/100 -> 0.10325 | F6: =(8.2*24*2 + 8.2*12*5 + 11.3*6*5 + 17*6*5)/(7*24)/100 -> 0.10325 | G6: =(8.2*24*2 + 8.2*12*5 + 11.3*6*5 + 17*6*5)/(7*24)/100 -> 0.10325 | X6: ='electricity rates'!B1623 -> 0
B7: electricity distribution ($/kWh) | C7: 0 | D7: 0 | E7: 0.0003 | F7: 0 | G7: 0
B8: electricity transmission charge ($/kWh) | C8: 0.0176 | D8: 0.0193 | E8: 0.013 | F8: 0.01735 | G8: 0.01735
B9: regulatory charges ($/kWh) | C9: 0.0009 | D9: 0.0039 | E9: 0.0039 | F9: 0.0039 | G9: 0.0039
B10: HST | C10: 0.13 | D10: 0.13 | E10: 0.13 | F10: 0.13 | G10: 0.13
B11: Ontario Electricity Rebate | C11: 0.17 | D11: 0.17 | E11: 0.17 | F11: 0.17 | G11: 0.17
B12: line loss adjustment factor | C12: 1.0315 | D12: 1.057 | E12: 1.0394 | F12: 1.0295 | G12: 1.0295
B13: total electricity variable cost ($/kWh) | C13: =(SUM(C6:C9)*C12*(1-C11))*(1+C10) -> 0.11778629 | D13: =(SUM(D6:D9)*D12*(1-D11))*(1+D10) -> 0.12535751 | E13: =(SUM(E6:E9)*E12*(1-E11))*(1+E10) -> 0.11742108 | F13: =(SUM(F6:F9)*F12*(1-F11))*(1+F10) -> 0.12021322 | G13: =(SUM(G6:G9)*G12*(1-G11))*(1+G10) -> 0.12021322
B17: Projected average marginal emission factors (kg/kWh) | C17: https://www.ieso.ca/en/Sector-Participants/Planning-and-Forecasting/Annual-Planning-Outlook | G17: Electricity variable cost per year
C19: high NG use | D19: zero carbon electricity | G19: year | H19: London | I19: Belleville | J19: Thunder Bay | K19: Toronto | L19: Gas Expansion
B20: source | C20: IESO 2021 annual planning outlook https://www.ieso.ca/en/Sector-Participants/Planning-and-Forecasting/Annual-Planning-Outlook | G20: 2022 | H20: =+C13 -> 0.11778629 | I20: =+D13 -> 0.12535751 | J20: =+E13 -> 0.11742108 | K20: =+F13 -> 0.12021322 | L20: =+G13 -> 0.12021322
B21: 2022 | C21: 0.23 | D21: 0 | G21: 2023 | H21: ='electricity rates'!C13*(1+'input data'!$C35) -> 0.11778629 | I21: ='electricity rates'!D13*(1+'input data'!$C35) -> 0.12535751 | J21: ='electricity rates'!E13*(1+'input data'!$C35) -> 0.11742108 | K21: ='electricity rates'!F13*(1+'input data'!$C35) -> 0.12021322 | L21: ='electricity rates'!G13*(1+'input data'!$C35) -> 0.12021322
B22: 2023 | C22: 0.25535665 | D22: 0 | G22: 2024 | H22: =H21*(1+'input data'!$C$35) -> 0.11778629 | I22: =I21*(1+'input data'!$C$35) -> 0.12535751 | J22: =J21*(1+'input data'!$C$35) -> 0.11742108 | K22: =K21*(1+'input data'!$C$35) -> 0.12021322 | L22: =L21*(1+'input data'!$C$35) -> 0.12021322
B23: 2024 | C23: 0.2637424 | D23: 0 | G23: 2025 | H23: =H22*(1+'input data'!$C$35) -> 0.11778629 | I23: =I22*(1+'input data'!$C$35) -> 0.12535751 | J23: =J22*(1+'input data'!$C$35) -> 0.11742108 | K23: =K22*(1+'input data'!$C$35) -> 0.12021322 | L23: =L22*(1+'input data'!$C$35) -> 0.12021322
B24: 2025 | C24: 0.28455237 | D24: 0 | G24: 2026 | H24: =H23*(1+'input data'!$C$35) -> 0.11778629 | I24: =I23*(1+'input data'!$C$35) -> 0.12535751 | J24: =J23*(1+'input data'!$C$35) -> 0.11742108 | K24: =K23*(1+'input data'!$C$35) -> 0.12021322 | L24: =L23*(1+'input data'!$C$35) -> 0.12021322
B25: 2026 | C25: 0.33545747 | D25: 0 | G25: 2027 | H25: =H24*(1+'input data'!$C$35) -> 0.11778629 | I25: =I24*(1+'input data'!$C$35) -> 0.12535751 | J25: =J24*(1+'input data'!$C$35) -> 0.11742108 | K25: =K24*(1+'input data'!$C$35) -> 0.12021322 | L25: =L24*(1+'input data'!$C$35) -> 0.12021322
B26: 2027 | C26: 0.33611033 | D26: 0 | G26: 2028 | H26: =H25*(1+'input data'!$C$35) -> 0.11778629 | I26: =I25*(1+'input data'!$C$35) -> 0.12535751 | J26: =J25*(1+'input data'!$C$35) -> 0.11742108 | K26: =K25*(1+'input data'!$C$35) -> 0.12021322 | L26: =L25*(1+'input data'!$C$35) -> 0.12021322
B27: 2028 | C27: 0.34550031 | D27: 0 | G27: 2029 | H27: =H26*(1+'input data'!$C$35) -> 0.11778629 | I27: =I26*(1+'input data'!$C$35) -> 0.12535751 | J27: =J26*(1+'input data'!$C$35) -> 0.11742108 | K27: =K26*(1+'input data'!$C$35) -> 0.12021322 | L27: =L26*(1+'input data'!$C$35) -> 0.12021322
B28: 2029 | C28: 0.37038649 | D28: 0 | G28: 2030 | H28: =H27*(1+'input data'!$C$35) -> 0.11778629 | I28: =I27*(1+'input data'!$C$35) -> 0.12535751 | J28: =J27*(1+'input data'!$C$35) -> 0.11742108 | K28: =K27*(1+'input data'!$C$35) -> 0.12021322 | L28: =L27*(1+'input data'!$C$35) -> 0.12021322
B29: 2030 | C29: 0.35996172 | D29: 0 | G29: 2031 | H29: =H28*(1+'input data'!$C$35) -> 0.11778629 | I29: =I28*(1+'input data'!$C$35) -> 0.12535751 | J29: =J28*(1+'input data'!$C$35) -> 0.11742108 | K29: =K28*(1+'input data'!$C$35) -> 0.12021322 | L29: =L28*(1+'input data'!$C$35) -> 0.12021322
B30: 2031 | C30: 0.38376328 | D30: 0 | G30: 2032 | H30: =H29*(1+'input data'!$C$35) -> 0.11778629 | I30: =I29*(1+'input data'!$C$35) -> 0.12535751 | J30: =J29*(1+'input data'!$C$35) -> 0.11742108 | K30: =K29*(1+'input data'!$C$35) -> 0.12021322 | L30: =L29*(1+'input data'!$C$35) -> 0.12021322
B31: 2032 | C31: 0.38882502 | D31: 0 | G31: 2033 | H31: =H30*(1+'input data'!$C$35) -> 0.11778629 | I31: =I30*(1+'input data'!$C$35) -> 0.12535751 | J31: =J30*(1+'input data'!$C$35) -> 0.11742108 | K31: =K30*(1+'input data'!$C$35) -> 0.12021322 | L31: =L30*(1+'input data'!$C$35) -> 0.12021322
B32: 2033 | C32: 0.38255394 | D32: 0 | G32: 2034 | H32: =H31*(1+'input data'!$C$35) -> 0.11778629 | I32: =I31*(1+'input data'!$C$35) -> 0.12535751 | J32: =J31*(1+'input data'!$C$35) -> 0.11742108 | K32: =K31*(1+'input data'!$C$35) -> 0.12021322 | L32: =L31*(1+'input data'!$C$35) -> 0.12021322
B33: 2034 | C33: 0.37640703 | D33: 0 | G33: 2035 | H33: =H32*(1+'input data'!$C$35) -> 0.11778629 | I33: =I32*(1+'input data'!$C$35) -> 0.12535751 | J33: =J32*(1+'input data'!$C$35) -> 0.11742108 | K33: =K32*(1+'input data'!$C$35) -> 0.12021322 | L33: =L32*(1+'input data'!$C$35) -> 0.12021322
... B40: 2041 | C40: 0.36937146 | D40: 0 | G40: 2042 | H40: =H39*(1+'input data'!$C$35) -> 0.11778629 | I40: =I39*(1+'input data'!$C$35) -> 0.12535751 | J40: =J39*(1+'input data'!$C$35) -> 0.11742108 | K40: =K39*(1+'input data'!$C$35) -> 0.12021322 | L40: =L39*(1+'input data'!$C$35) -> 0.12021322
B41: 2042 | C41: 0.3508782 | D41: 0

Sheet Methodology
B1: Modeling methodology
B3: The average efficiency of gas furnaces in existing homes is assumed to be 90%, this was used to determine the average heating load.
B4: The facility carbon charge was included in the base rate for methane as it was assumed to change with inflation, not based on the federal carbon tax.
B5: The carbon tax rate for after April 1 was used as the annual rate for that calendar year.
B6: Payback is taken as the total number of years where the net savings is negative plus one year (the year where net zero is achieved).
B7: The analysis does not include any upgrades to ductwork that may be required in some homes.
B8: Maintenance costs were not included in the analysis.
B9: It was assumed that all homes with gas heating also have central air conditioning.
B10: For methane gas delivery rates, the average monthly rate for the first 300m3 was used (tiered pricing is used for delivery charges).

Sheet formulas
B1: Formulas used
A3: annual operating costs
K22: heating SCOP is the seasonal heating efficiency
K26: cooling SCOP is the seasonal cooling efficiency
A35: lifetime costs and savings
A51: lifetime emissions
A77: payback
A127: GHGe impacts

Sheet Graphs
C2: For % reduction in commondity rates a) remove fixed rate and AC from payback calc in 2022, b) remove commodity price from gas rates AB23, c) the difference between HP and conventional is how much must be made up with gas commodity, c) use 0.1 as the gas commodity price and sort out how many times more this has to be to get the value in c)
C3: for % reduction in commodity rates for full lifetime price, a) zero the gas supply cost E24, b) the difference between HP and conventional divided by 15 is how much must be made up with NG rates, play with the gas rates until you have nearly zero difference
C5: lifetime greenhouse gas emissions
D7: gas current grid | E7: heat pump current grid | F7: gas zero carbon grid | G7: heat pump zero carbon grid
C8: space heating | D8: =outputs!G9 -> 58.52277 | E8: =outputs!H9 -> 38.866848 | F8: =outputs!G15 -> 58.52277 | G8: =outputs!H15 -> 0
C9: space cooling | D9: =outputs!G10 -> 8.8893312 | E9: =outputs!H10 -> 7.261565 | F9: =outputs!G16 -> 0 | G9: =outputs!H16 -> 0
C10: water heating | D10: =outputs!G11 -> 11.901964 | E10: =outputs!H11 -> 4.9243961 | F10: =outputs!G17 -> 11.901964 | G10: =outputs!H17 -> 0
C15: lifetime costs
D17: gas space and water heating plus AC | E17: ASHP and HPWH
C18: upfront cost | D18: =outputs!C8 -> 12000 | E18: =outputs!D9 -> 19750
C19: 15-year heating cost | D19: =outputs!C10 -> 23753.111 | E19: =outputs!D10 -> 13839.362
C20: 15-year cooling cost | D20: =outputs!C11 -> 3165.234 | E20: =outputs!D11 -> 2585.6335
C21: 15-year water heating cost (incl heating penalty) | D21: =outputs!C12 -> 4830.7466 | E21: =outputs!D12 -> 1753.4352
C22: 15-year gas fixed customer charges | D22: =outputs!C13 -> 4499.208 | E22: =outputs!D13 -> 0
C23: total 15-year operational cost | D23: =SUM(D19:D22) -> 36248.3 | E23: =SUM(E19:E22) -> 18178.43
C24: total lifetime cost | D24: =D23+D18 -> 48248.3 | E24: =E23+E18 -> 37928.43
C25: total lifetime savings
C26: total lifetime savings with Greener Homes Grant
C33: 2025 installation, 0 C-tax rise, 1,888 + 500installation for eWH witih 0.97% efficiency
C34: Lifetime savings (not upgraded)
D36: gas space and water heating plus AC | E36: ASHP and HPWH (with Greener homes grant)
C37: gas furnace or ASHP | D37: ='input data'!C5 -> 5000 | E37: ='input data'!C17-5000 -> 14000
C38: electrical upgrade | E38: ='input data'!C18 -> 2000
C39: AC (ASHP also provides cooling) | D39: ='input data'!C8 -> 5000
C40: water heater | D40: ='input data'!C12 -> 2000 | E40: ='input data'!C23 -> 3750
C43: Total lifetime savings for an average home in Toronto
C44: installation year
C45: 2023 | D45: 16554
C46: 2024 | D46: 17623
C47: 2025 | D47: 18608.685
C48: 2026 | D48: 19510
C49: 2027 | D49: 20328
D68: Full electrification with heat pumps for space and water heating in gas expansion community | E68: Full electrification with heat pumps for space and water heating with 2025 installation date | F68: Full electrification with heat pumps for space and water heating (if carbon taxes continue to rise beyond 2030) | G68: Full electrification with heat pumps for space and water heating (using Jan 1, 2022 rates) | H68: Full electrification with a heat pump for space heating and conventional electric water heater | I68: Partial electrification with heat pump for space heating but conventional gas water heater (no fixed gas charge savings) | J68: Full electrification with heat pumps for space and water heating (larger/older home with a larger heat pump) | K68: Full electrification with heat pumps for space and water heating
D69: 20014 | E69: 12007 | F69: 12007 | G69: 4817 | H69: 7554 | I69: 4493 | J69: 14060 | K69: 10320
D70: add 0.23 to gas commodity pric3 | F70: change gas price | H70: change water heater price, efficiency and from HP to EWH | I70: zero WH load, change WH price, remove gas connection fee savings | J70: add 20% to upfront cost, change to 1945 and older heating load | K70: base case
C72: location
C74: Toronto | D74: 10320
C75: London | D75: 9114
C76: Belleville | D76: 11952
C77: Thunder Bay | D77: 11505
...

Sheet  payback calculation
A4: city | B4: ='input data'!C42 -> Toronto
A5: payback with Greener Homes Grant | L5: payback without Greener Homes Grant
A6: cost difference | B6: =outputs!D9-outputs!C9 -> 7750 | E6: =COUNTIF(E9:E29, "<0") +1 -> 8 | F6: =COUNTIF(F10:F29, "<0") +1 -> 8 | G6: =COUNTIF(G10:G29, "<0") +1 -> 7 | H6: =COUNTIF(H10:H29, "<0") +1 -> 7 | I6: =COUNTIF(I10:I29, "<0") +1 -> 7 | J6: =COUNTIF(J10:J29, "<0") +1 -> 6 | L6: cost difference | M6: =outputs!D8-outputs!C8 -> 12750 | P6: =COUNTIF(P9:P29, "<0") +1 -> 12 | Q6: =COUNTIF(Q10:Q29, "<0") +1 -> 11 | R6: =COUNTIF(R10:R29, "<0") +1 -> 11 | S6: =COUNTIF(S10:S29, "<0") +1 -> 10 | T6: =COUNTIF(T10:T29, "<0") +1 -> 10 | U6: =COUNTIF(U10:U29, "<0") +1 -> 10
A7: installation date | E7: 2022 | F7: 2023 | G7: 2024 | H7: 2025 | I7: 2026 | J7: 2027 | L7: installation date | P7: 2022 | Q7: 2023 | R7: 2024 | S7: 2025 | T7: 2026 | U7: 2027
B8: furnace cost | C8: HP cost | D8: savings | F8: net savings | G8: net savings | H8: net savings | I8: net savings | J8: net savings | M8: furnace cost | N8: HP cost | O8: savings | Q8: net savings | R8: net savings | S8: net savings | T8: net savings | U8: net savings
A9: 2022 | B9: =HLOOKUP('input data'!$C$42, 'gas rates'!$Q$25:$U$46, 2,0) +'input data'!$C$29/'input data'!$C$38/'input data'!$C$6*(HLOOKUP('input data'!$C$42,'gas rates'!$AC$25:$AG$46,2,0))+'input data'!$C$30/'input data'!$C$37/'input data'!$C$10*(HLOOKUP('input data'!$C$42,'electricity rates'!$H$19:$L$40,2,0))+'input data'!$C$31/'input data'!$C$38/'input data'!$C$13*(HLOOKUP('input data'!$C$42,'gas rates'!$AC$25:$AG$46, 2,0)) -> 1966.6695 | C9: =+'input data'!$C$29/'input data'!$C$37/'input data'!$C$19*(HLOOKUP('input data'!$C$42,'electricity rates'!$H$19:$L$40, 2,0))+'input data'!$C$30/'input data'!$C$37/'input data'!$C$21*(HLOOKUP('input data'!$C$42, 'electricity rates'!$H$19:$L$40, 2,0))+(('input data'!$C$31/'input data'!$C$37/'input data'!$C$24)+0.5*('input data'!$C$31/'input data'!$C$37/'input data'!$C$19-'input data'!$C$31/'input data'!$C$37/'input data'!$C$21))*(HLOOKUP('input data'!$C$42, 'electricity rates'!$H$19:$L$40, 2,0)) -> 1211.8954 | D9: =B9-C9 -> 754.77418 | E9: =D9-B6 -> -6995.2258 | L9: 2022 | M9: =B9 -> 1966.6695 | N9: =C9 -> 1211.8954 | O9: =M9-N9 -> 754.77418 | P9: =O9-M6 -> -11995.226
A10: 2023 | B10: =HLOOKUP('input data'!$C$42, 'gas rates'!$Q$25:$U$46, 3,0) +'input data'!$C$29/'input data'!$C$38/'input data'!$C$6*(HLOOKUP('input data'!$C$42,'gas rates'!$AC$25:$AG$46,3,0))+'input data'!$C$30/'input data'!$C$37/'input data'!$C$10*(HLOOKUP('input data'!$C$42,'electricity rates'!$H$19:$L$40,3,0))+'input data'!$C$31/'input data'!$C$38/'input data'!$C$13*(HLOOKUP('input data'!$C$42,'gas rates'!$AC$25:$AG$46, 3,0)) -> 2047.0147 | C10: =+'input data'!$C$29/'input data'!$C$37/'input data'!$C$19*(HLOOKUP('input data'!$C$42,'electricity rates'!$H$19:$L$40, 3,0))+'input data'!$C$30/'input data'!$C$37/'input data'!$C$21*(HLOOKUP('input data'!$C$42, 'electricity rates'!$H$19:$L$40, 3,0))+(('input data'!$C$31/'input data'!$C$37/'input data'!$C$24)+0.5*('input data'!$C$31/'input data'!$C$37/'input data'!$C$19-'input data'!$C$31/'input data'!$C$37/'input data'!$C$21))*(HLOOKUP('input data'!$C$42, 'electricity rates'!$H$19:$L$40, 3,0)) -> 1211.8954 | D10: =B10-C10 -> 835.11933 | E10: =E9+D10 -> -6160.1065 | F10: =-B6+D10 -> -6914.8807 | L10: 2023 | M10: =B10 -> 2047.0147 | N10: =C10 -> 1211.8954 | O10: =M10-N10 -> 835.11933 | P10: =P9+O10 -> -11160.106 | Q10: =-M6+O10 -> -11914.881
A11: 2024 | B11: =HLOOKUP('input data'!$C$42, 'gas rates'!$Q$25:$U$46, 4,0) +'input data'!$C$29/'input data'!$C$38/'input data'!$C$6*(HLOOKUP('input data'!$C$42,'gas rates'!$AC$25:$AG$46,4,0))+'input data'!$C$30/'input data'!$C$37/'input data'!$C$10*(HLOOKUP('input data'!$C$42,'electricity rates'!$H$19:$L$40,4,0))+'input data'!$C$31/'input data'!$C$38/'input data'!$C$13*(HLOOKUP('input data'!$C$42,'gas rates'!$AC$25:$AG$46, 4,0)) -> 2127.3814 | C11: =+'input data'!$C$29/'input data'!$C$37/'input data'!$C$19*(HLOOKUP('input data'!$C$42,'electricity rates'!$H$19:$L$40, 4,0))+'input data'!$C$30/'input data'!$C$37/'input data'!$C$21*(HLOOKUP('input data'!$C$42, 'electricity rates'!$H$19:$L$40, 4,0))+(('input data'!$C$31/'input data'!$C$37/'input data'!$C$24)+0.5*('input data'!$C$31/'input data'!$C$37/'input data'!$C$19-'input data'!$C$31/'input data'!$C$37/'input data'!$C$21))*(HLOOKUP('input data'!$C$42, 'electricity rates'!$H$19:$L$40, 4,0)) -> 1211.8954 | D11: =B11-C11 -> 915.48608 | E11: =E10+D11 -> -5244.6204 | F11: =F10+D11 -> -5999.3946 | G11: =-B6+D11 -> -6834.5139 | L11: 2024 | M11: =B11 -> 2127.3814 | N11: =C11 -> 1211.8954 | O11: =M11-N11 -> 915.48608 | P11: =P10+O11 -> -10244.62 | Q11: =Q10+O11 -> -10999.395 | R11: =-M6+O11 -> -11834.514
A12: 2025 | B12: =HLOOKUP('input data'!$C$42, 'gas rates'!$Q$25:$U$46, 5,0) +'input data'!$C$29/'input data'!$C$38/'input data'!$C$6*(HLOOKUP('input data'!$C$42,'gas rates'!$AC$25:$AG$46,5,0))+'input data'!$C$30/'input data'!$C$37/'input data'!$C$10*(HLOOKUP('input data'!$C$42,'electricity rates'!$H$19:$L$40,5,0))+'input data'!$C$31/'input data'!$C$38/'input data'!$C$13*(HLOOKUP('input data'!$C$42,'gas rates'!$AC$25:$AG$46, 5,0)) -> 2207.7482 | C12: =+'input data'!$C$29/'input data'!$C$37/'input data'!$C$19*(HLOOKUP('input data'!$C$42,'electricity rates'!$H$19:$L$40, 5,0))+'input data'!$C$30/'input data'!$C$37/'input data'!$C$21*(HLOOKUP('input data'!$C$42, 'electricity rates'!$H$19:$L$40, 5,0))+(('input data'!$C$31/'input data'!$C$37/'input data'!$C$24)+0.5*('input data'!$C$31/'input data'!$C$37/'input data'!$C$19-'input data'!$C$31/'input data'!$C$37/'input data'!$C$21))*(HLOOKUP('input data'!$C$42, 'electricity rates'!$H$19:$L$40, 5,0)) -> 1211.8954 | D12: =B12-C12 -> 995.85284 | E12: =E11+D12 -> -4248.7676 | F12: =F11+D12 -> -5003.5418 | G12: =G11+D12 -> -5838.6611 | H12: =-B6+D12 -> -6754.1472 | L12: 2025 | M12: =B12 -> 2207.7482 | N12: =C12 -> 1211.8954 | O12: =M12-N12 -> 995.85284 | P12: =P11+O12 -> -9248.7676 | Q12: =Q11+O12 -> -10003.542 | R12: =R11+O12 -> -10838.661 | S12: =-M6+O12 -> -11754.147
A13: 2026 | B13: =HLOOKUP('input data'!$C$42, 'gas rates'!$Q$25:$U$46, 6,0) +'input data'!$C$29/'input data'!$C$38/'input data'!$C$6*(HLOOKUP('input data'!$C$42,'gas rates'!$AC$25:$AG$46,6,0))+'input data'!$C$30/'input data'!$C$37/'input data'!$C$10*(HLOOKUP('input data'!$C$42,'electricity rates'!$H$19:$L$40,6,0))+'input data'!$C$31/'input data'!$C$38/'input data'!$C$13*(HLOOKUP('input data'!$C$42,'gas rates'!$AC$25:$AG$46, 6,0)) -> 2288.115 | C13: =+'input data'!$C$29/'input data'!$C$37/'input data'!$C$19*(HLOOKUP('input data'!$C$42,'electricity rates'!$H$19:$L$40, 6,0))+'input data'!$C$30/'input data'!$C$37/'input data'!$C$21*(HLOOKUP('input data'!$C$42, 'electricity rates'!$H$19:$L$40, 6,0))+(('input data'!$C$31/'input data'!$C$37/'input data'!$C$24)+0.5*('input data'!$C$31/'input data'!$C$37/'input data'!$C$19-'input data'!$C$31/'input data'!$C$37/'input data'!$C$21))*(HLOOKUP('input data'!$C$42, 'electricity rates'!$H$19:$L$40, 6,0)) -> 1211.8954 | D13: =B13-C13 -> 1076.2196 | E13: =E12+D13 -> -3172.548 | F13: =F12+D13 -> -3927.3222 | G13: =G12+D13 -> -4762.4415 | H13: =H12+D13 -> -5677.9276 | I13: =-B6+D13 -> -6673.7804 | L13: 2026 | M13: =B13 -> 2288.115 | N13: =C13 -> 1211.8954 | O13: =M13-N13 -> 1076.2196 | P13: =P12+O13 -> -8172.548 | Q13: =Q12+O13 -> -8927.3222 | R13: =R12+O13 -> -9762.4415 | S13: =S12+O13 -> -10677.928 | T13: =-M6+O13 -> -11673.78
A14: 2027 | B14: =HLOOKUP('input data'!$C$42, 'gas rates'!$Q$25:$U$46, 7,0) +'input data'!$C$29/'input data'!$C$38/'input data'!$C$6*(HLOOKUP('input data'!$C$42,'gas rates'!$AC$25:$AG$46,7,0))+'input data'!$C$30/'input data'!$C$37/'input data'!$C$10*(HLOOKUP('input data'!$C$42,'electricity rates'!$H$19:$L$40,7,0))+'input data'!$C$31/'input data'!$C$38/'input data'!$C$13*(HLOOKUP('input data'!$C$42,'gas rates'!$AC$25:$AG$46, 7,0)) -> 2368.4817 | C14: =+'input data'!$C$29/'input data'!$C$37/'input data'!$C$19*(HLOOKUP('input data'!$C$42,'electricity rates'!$H$19:$L$40, 7,0))+'input data'!$C$30/'input data'!$C$37/'input data'!$C$21*(HLOOKUP('input data'!$C$42, 'electricity rates'!$H$19:$L$40, 7,0))+(('input data'!$C$31/'input data'!$C$37/'input data'!$C$24)+0.5*('input data'!$C$31/'input data'!$C$37/'input data'!$C$19-'input data'!$C$31/'input data'!$C$37/'input data'!$C$21))*(HLOOKUP('input data'!$C$42, 'electricity rates'!$H$19:$L$40, 7,0)) -> 1211.8954 | D14: =B14-C14 -> 1156.5864 | E14: =E13+D14 -> -2015.9616 | F14: =F13+D14 -> -2770.7358 | G14: =G13+D14 -> -3605.8551 | H14: =H13+D14 -> -4521.3412 | I14: =I13+D14 -> -5517.1941 | J14: =-B6+D14 -> -6593.4136 | L14: 2027 | M14: =B14 -> 2368.4817 | N14: =C14 -> 1211.8954 | O14: =M14-N14 -> 1156.5864 | P14: =P13+O14 -> -7015.9616 | Q14: =Q13+O14 -> -7770.7358 | R14: =R13+O14 -> -8605.8551 | S14: =S13+O14 -> -9521.3412 | T14: =T13+O14 -> -10517.194 | U14: =-M6+O14 -> -11593.414
A15: 2028 | B15: =HLOOKUP('input data'!$C$42, 'gas rates'!$Q$25:$U$46, 8,0) +'input data'!$C$29/'input data'!$C$38/'input data'!$C$6*(HLOOKUP('input data'!$C$42,'gas rates'!$AC$25:$AG$46,8,0))+'input data'!$C$30/'input data'!$C$37/'input data'!$C$10*(HLOOKUP('input data'!$C$42,'electricity rates'!$H$19:$L$40,8,0))+'input data'!$C$31/'input data'!$C$38/'input data'!$C$13*(HLOOKUP('input data'!$C$42,'gas rates'!$AC$25:$AG$46, 8,0)) -> 2448.8485 | C15: =+'input data'!$C$29/'input data'!$C$37/'input data'!$C$19*(HLOOKUP('input data'!$C$42,'electricity rates'!$H$19:$L$40, 8,0))+'input data'!$C$30/'input data'!$C$37/'input data'!$C$21*(HLOOKUP('input data'!$C$42, 'electricity rates'!$H$19:$L$40, 8,0))+(('input data'!$C$31/'input data'!$C$37/'input data'!$C$24)+0.5*('input data'!$C$31/'input data'!$C$37/'input data'!$C$19-'input data'!$C$31/'input data'!$C$37/'input data'!$C$21))*(HLOOKUP('input data'!$C$42, 'electricity rates'!$H$19:$L$40, 8,0)) -> 1211.8954 | D15: =B15-C15 -> 1236.9531 | E15: =E14+D15 -> -779.00851 | F15: =F14+D15 -> -1533.7827 | G15: =G14+D15 -> -2368.902 | H15: =H14+D15 -> -3284.3881 | I15: =I14+D15 -> -4280.2409 | J15: =J14+D15 -> -5356.4605 | L15: 2028 | M15: =B15 -> 2448.8485 | N15: =C15 -> 1211.8954 | O15: =M15-N15 -> 1236.9531 | P15: =P14+O15 -> -5779.0085 | Q15: =Q14+O15 -> -6533.7827 | R15: =R14+O15 -> -7368.902 | S15: =S14+O15 -> -8284.3881 | T15: =T14+O15 -> -9280.2409 | U15: =U14+O15 -> -10356.461
A16: 2029 | B16: =HLOOKUP('input data'!$C$42, 'gas rates'!$Q$25:$U$46, 9,0) +'input data'!$C$29/'input data'!$C$38/'input data'!$C$6*(HLOOKUP('input data'!$C$42,'gas rates'!$AC$25:$AG$46,9,0))+'input data'!$C$30/'input data'!$C$37/'input data'!$C$10*(HLOOKUP('input data'!$C$42,'electricity rates'!$H$19:$L$40,9,0))+'input data'!$C$31/'input data'!$C$38/'input data'!$C$13*(HLOOKUP('input data'!$C$42,'gas rates'!$AC$25:$AG$46, 9,0)) -> 2528.9342 | C16: =+'input data'!$C$29/'input data'!$C$37/'input data'!$C$19*(HLOOKUP('input data'!$C$42,'electricity rates'!$H$19:$L$40, 9,0))+'input data'!$C$30/'input data'!$C$37/'input data'!$C$21*(HLOOKUP('input data'!$C$42, 'electricity rates'!$H$19:$L$40, 9,0))+(('input data'!$C$31/'input data'!$C$37/'input data'!$C$24)+0.5*('input data'!$C$31/'input data'!$C$37/'input data'!$C$19-'input data'!$C$31/'input data'!$C$37/'input data'!$C$21))*(HLOOKUP('input data'!$C$42, 'electricity rates'!$H$19:$L$40, 9,0)) -> 1211.8954 | D16: =B16-C16 -> 1317.0389 | E16: =E15+D16 -> 538.03035 | F16: =F15+D16 -> -216.74383 | G16: =G15+D16 -> -1051.8632 | H16: =H15+D16 -> -1967.3492 | I16: =I15+D16 -> -2963.2021 | J16: =J15+D16 -> -4039.4217 | L16: 2029 | M16: =B16 -> 2528.9342 | N16: =C16 -> 1211.8954 | O16: =M16-N16 -> 1317.0389 | P16: =P15+O16 -> -4461.9696 | Q16: =Q15+O16 -> -5216.7438 | R16: =R15+O16 -> -6051.8632 | S16: =S15+O16 -> -6967.3492 | T16: =T15+O16 -> -7963.2021 | U16: =U15+O16 -> -9039.4217
